Workbook

Sheet 집계표
A2: 2015 도시가스 공급시설 공사계획 및 실적
M3: (단위 : m, 개소, 천원, 세대)
A4: 구분 | B4: 2015년 공사계획 | J4: 2015년 공사실적
B5: 전 체 | F5: 보수율가산투자 | J5: 전 체 | N5: 보수율가산투자
B6: 배관길이 | C6: 정압기 | D6: 공사비 | E6: 보급세대 | F6: 배관길이 | G6: 정압기 | H6: 공사비 | I6: 보급세대 | J6: 배관길이 | K6: 정압기 | L6: 공사비 | M6: 보급세대 | N6: 배관길이 | O6: 정압기 | P6: 공사비 | Q6: 보급세대
A7: 합계 | B7: =SUM(B8:B16) -> 48560.647 | C7: =SUM(C8:C16) -> 3 | D7: =SUM(D8:D16) -> 18565865 | E7: =SUM(E8:E16) -> 23642 | F7: =SUM(F8:F16) -> 11920 | G7: =SUM(G8:G16) -> 0 | H7: =SUM(H8:H16) -> 4252795 | I7: =SUM(I8:I16) -> 2684 | ... Q7: =SUM(Q8:Q16) -> 2684
A8: 중구 | B8: 9408.6946 | C8: 1 | D8: 3693334.4 | E8: 2107 | F8: 792 | G8: 0 | H8: 225048 | I8: 57 | J8: 9408.6946 | K8: 1 | L8: 3693334.4 | M8: 2107 | N8: 792 | O8: 0 | P8: 225048 | Q8: 57
A9: 동구 | B9: 2601.4023 | C9: 0 | D9: 926157.85 | E9: 264 | F9: 1527 | G9: 0 | H9: 397666 | I9: 175 | J9: 2601.4023 | K9: 0 | L9: 926157.85 | M9: 264 | N9: 1527 | O9: 0 | P9: 397666 | Q9: 175
A10: 남구 | B10: 6558.2691 | C10: 0 | D10: 2159597.9 | E10: 4419 | F10: 1667 | G10: 0 | H10: 540972 | I10: 1289 | J10: 6558.2691 | K10: 0 | L10: 2159597.9 | M10: 4419 | N10: 1667 | O10: 0 | P10: 540972 | Q10: 1289
A11: 연수구 | B11: 4148.6504 | C11: 0 | D11: 1753241.3 | E11: 5502 | F11: 1445 | G11: 0 | H11: 366109 | I11: 127 | J11: 4148.6504 | K11: 0 | L11: 1753241.3 | M11: 5502 | N11: 1445 | O11: 0 | P11: 366109 | Q11: 127
A12: 남동구 | B12: 3004.0124 | C12: 0 | D12: 1090433.6 | E12: 2559 | F12: 90 | G12: 0 | H12: 53000 | I12: 284 | J12: 3004.0124 | K12: 0 | L12: 1090433.6 | M12: 2559 | N12: 90 | O12: 0 | P12: 53000 | Q12: 284
A13: 부평구 | B13: 2435.5619 | C13: 0 | D13: 856500 | E13: 2159 | F13: 375 | G13: 0 | H13: 201000 | I13: 180 | J13: 2435.5619 | K13: 0 | L13: 856500 | M13: 2159 | N13: 375 | O13: 0 | P13: 201000 | Q13: 180
A14: 계양구 | B14: 2710.5619 | C14: 1 | D14: 1117500 | E14: 2016 | F14: 0 | G14: 0 | H14: 0 | I14: 0 | J14: 2710.5619 | K14: 1 | L14: 1117500 | M14: 2016 | N14: 0 | O14: 0 | P14: 0 | Q14: 0
A15: 서구 | B15: 5840.5619 | C15: 0 | D15: 2374500 | E15: 2155 | F15: 480 | G15: 0 | H15: 254000 | I15: 183 | J15: 5840.5619 | K15: 0 | L15: 2374500 | M15: 2155 | N15: 480 | O15: 0 | P15: 254000 | Q15: 183
A16: 강화군 | B16: 11852.932 | C16: 1 | D16: 4594600 | E16: 2461 | F16: 5544 | G16: 0 | H16: 2215000 | I16: 389 | J16: 11852.932 | K16: 1 | L16: 4594600 | M16: 2461 | N16: 5544 | O16: 0 | P16: 2215000 | Q16: 389

Sheet 총괄표
B2: 2016년~2017년 도시가스 공급시설 공사계획(총괄)
N3: (단위 : m, 개소, 천원, 세대)
B4: 구분 | C4: 2016년 | K4: 2017년
C5: 전 체 | G5: 보수율가산투자 | K5: 전 체
C6: 배관길이 | D6: 정압기 | E6: 공사비 | F6: 보급세대 | G6: 배관길이 | H6: 정압기 | I6: 공사비 | J6: 보급세대 | K6: 배관길이 | L6: 정압기 | M6: 공사비 | N6: 보급세대
B7: 합계 | C7: =SUM(C8:C17) -> 40575.175 | D7: =SUM(D8:D17) -> 4 | E7: =SUM(E8:E17) -> 18498901 | F7: =SUM(F8:F17) -> 26404.86 | G7: =SUM(G8:G17) -> 13741 | H7: =SUM(H8:H17) -> 1 | I7: =SUM(I8:I17) -> 6634528 | J7: =SUM(J8:J17) -> 631 | ... N7: =SUM(N8:N17) -> 16484
B8: 경제청 | C8: =SUMIFS('16계획'!$F$5:$F$181,'16계획'!$A$5:$A$181,"경제청") -> 2277 | D8: =SUMIFS('16계획'!$G$5:$G$181,'16계획'!$A$5:$A$181,"경제청") -> 1 | E8: =SUMIFS('16계획'!$H$5:$H$181,'16계획'!$A$5:$A$181,"경제청") -> 712216 | F8: =SUMIFS('16계획'!$I$5:$I$181,'16계획'!$A$5:$A$181,"경제청") -> 10829 | G8: =SUMIFS('16계획'!$F$5:$F$181,'16계획'!$A$5:$A$181,"경제청",'16계획'!$J$5:$J$181,"보수율가산") -> 0 | H8: =SUMIFS('16계획'!$G$5:$G$181,'16계획'!$A$5:$A$181,"경제청",'16계획'!$J$5:$J$181,"보수율가산") -> 0 | I8: =SUMIFS('16계획'!$H$5:$H$181,'16계획'!$A$5:$A$181,"경제청",'16계획'!$J$5:$J$181,"보수율가산") -> 0 | J8: =SUMIFS('16계획'!$I$5:$I$181,'16계획'!$A$5:$A$181,"경제청",'16계획'!$J$5:$J$181,"보수율가산") -> 0 | K8: =SUMIFS('17계획'!$F$5:$F$181,'17계획'!$A$5:$A$181,"경제청") -> 9850 | L8: =SUMIFS('17계획'!$G$5:$G$181,'17계획'!$A$5:$A$181,"경제청") -> 0 | M8: =SUMIFS('17계획'!$H$5:$H$181,'17계획'!$A$5:$A$181,"경제청") -> 2965858.5 | N8: =SUMIFS('17계획'!$I$5:$I$181,'17계획'!$A$5:$A$181,"경제청") -> 9015
B9: 중구 | C9: =SUMIFS('16계획'!$F$5:$F$181,'16계획'!$A$5:$A$181,"중구") -> 8232.1966 | D9: =SUMIFS('16계획'!$G$5:$G$181,'16계획'!$A$5:$A$181,"중구") -> 0 | E9: =SUMIFS('16계획'!$H$5:$H$181,'16계획'!$A$5:$A$181,"중구") -> 4474831 | F9: =SUMIFS('16계획'!$I$5:$I$181,'16계획'!$A$5:$A$181,"중구") -> 1114.5324 | G9: =SUMIFS('16계획'!$F$5:$F$181,'16계획'!$A$5:$A$181,"중구",'16계획'!$J$5:$J$181,"보수율가산") -> 5225 | H9: =SUMIFS('16계획'!$G$5:$G$181,'16계획'!$A$5:$A$181,"중구",'16계획'!$J$5:$J$181,"보수율가산") -> 0 | I9: =SUMIFS('16계획'!$H$5:$H$181,'16계획'!$A$5:$A$181,"중구",'16계획'!$J$5:$J$181,"보수율가산") -> 3047827 | J9: =SUMIFS('16계획'!$I$5:$I$181,'16계획'!$A$5:$A$181,"중구",'16계획'!$J$5:$J$181,"보수율가산") -> 84 | K9: =SUMIFS('17계획'!$F$5:$F$181,'17계획'!$A$5:$A$181,"중구") -> 8868.6179 | L9: =SUMIFS('17계획'!$G$5:$G$181,'17계획'!$A$5:$A$181,"중구") -> 1 | M9: =SUMIFS('17계획'!$H$5:$H$181,'17계획'!$A$5:$A$181,"중구") -> 5372234 | N9: =SUMIFS('17계획'!$I$5:$I$181,'17계획'!$A$5:$A$181,"중구") -> 2090.5599
B10: 동구 | C10: =SUMIFS('16계획'!$F$5:$F$181,'16계획'!$A$5:$A$181,"동구") -> 1266 | D10: =SUMIFS('16계획'!$G$5:$G$181,'16계획'!$A$5:$A$181,"동구") -> 0 | E10: =SUMIFS('16계획'!$H$5:$H$181,'16계획'!$A$5:$A$181,"동구") -> 521163 | F10: =SUMIFS('16계획'!$I$5:$I$181,'16계획'!$A$5:$A$181,"동구") -> 102 | G10: =SUMIFS('16계획'!$F$5:$F$181,'16계획'!$A$5:$A$181,"동구",'16계획'!$J$5:$J$181,"보수율가산") -> 1266 | H10: =SUMIFS('16계획'!$G$5:$G$181,'16계획'!$A$5:$A$181,"동구",'16계획'!$J$5:$J$181,"보수율가산") -> 0 | I10: =SUMIFS('16계획'!$H$5:$H$181,'16계획'!$A$5:$A$181,"동구",'16계획'!$J$5:$J$181,"보수율가산") -> 410335 | J10: =SUMIFS('16계획'!$I$5:$I$181,'16계획'!$A$5:$A$181,"동구",'16계획'!$J$5:$J$181,"보수율가산") -> 102 | K10: =SUMIFS('17계획'!$F$5:$F$181,'17계획'!$A$5:$A$181,"동구") -> 543.31184 | L10: =SUMIFS('17계획'!$G$5:$G$181,'17계획'!$A$5:$A$181,"동구") -> 0 | M10: =SUMIFS('17계획'!$H$5:$H$181,'17계획'!$A$5:$A$181,"동구") -> 227719 | N10: =SUMIFS('17계획'!$I$5:$I$181,'17계획'!$A$5:$A$181,"동구") -> 6
B11: 남구 | C11: =SUMIFS('16계획'!$F$5:$F$181,'16계획'!$A$5:$A$181,"남구") -> 6447 | D11: =SUMIFS('16계획'!$G$5:$G$181,'16계획'!$A$5:$A$181,"남구") -> 0 | E11: =SUMIFS('16계획'!$H$5:$H$181,'16계획'!$A$5:$A$181,"남구") -> 1880522.1 | F11: =SUMIFS('16계획'!$I$5:$I$181,'16계획'!$A$5:$A$181,"남구") -> 8045 | G11: =SUMIFS('16계획'!$F$5:$F$181,'16계획'!$A$5:$A$181,"남구",'16계획'!$J$5:$J$181,"보수율가산") -> 1425 | H11: =SUMIFS('16계획'!$G$5:$G$181,'16계획'!$A$5:$A$181,"남구",'16계획'!$J$5:$J$181,"보수율가산") -> 0 | I11: =SUMIFS('16계획'!$H$5:$H$181,'16계획'!$A$5:$A$181,"남구",'16계획'!$J$5:$J$181,"보수율가산") -> 406067.1 | J11: =SUMIFS('16계획'!$I$5:$I$181,'16계획'!$A$5:$A$181,"남구",'16계획'!$J$5:$J$181,"보수율가산") -> 129 | K11: =SUMIFS('17계획'!$F$5:$F$181,'17계획'!$A$5:$A$181,"남구") -> 840 | L11: =SUMIFS('17계획'!$G$5:$G$181,'17계획'!$A$5:$A$181,"남구") -> 0 | M11: =SUMIFS('17계획'!$H$5:$H$181,'17계획'!$A$5:$A$181,"남구") -> 430984.88 | N11: =SUMIFS('17계획'!$I$5:$I$181,'17계획'!$A$5:$A$181,"남구") -> 5
B12: 연수구 | C12: =SUMIFS('16계획'!$F$5:$F$181,'16계획'!$A$5:$A$181,"연수구") -> 855 | D12: =SUMIFS('16계획'!$G$5:$G$181,'16계획'!$A$5:$A$181,"연수구") -> 0 | E12: =SUMIFS('16계획'!$H$5:$H$181,'16계획'!$A$5:$A$181,"연수구") -> 418165.9 | F12: =SUMIFS('16계획'!$I$5:$I$181,'16계획'!$A$5:$A$181,"연수구") -> 36 | G12: =SUMIFS('16계획'!$F$5:$F$181,'16계획'!$A$5:$A$181,"연수구",'16계획'!$J$5:$J$181,"보수율가산") -> 220 | H12: =SUMIFS('16계획'!$G$5:$G$181,'16계획'!$A$5:$A$181,"연수구",'16계획'!$J$5:$J$181,"보수율가산") -> 0 | I12: =SUMIFS('16계획'!$H$5:$H$181,'16계획'!$A$5:$A$181,"연수구",'16계획'!$J$5:$J$181,"보수율가산") -> 74486.9 | J12: =SUMIFS('16계획'!$I$5:$I$181,'16계획'!$A$5:$A$181,"연수구",'16계획'!$J$5:$J$181,"보수율가산") -> 8 | K12: =SUMIFS('17계획'!$F$5:$F$181,'17계획'!$A$5:$A$181,"연수구") -> 1100 | L12: =SUMIFS('17계획'!$G$5:$G$181,'17계획'!$A$5:$A$181,"연수구") -> 0 | M12: =SUMIFS('17계획'!$H$5:$H$181,'17계획'!$A$5:$A$181,"연수구") -> 699368 | N12: =SUMIFS('17계획'!$I$5:$I$181,'17계획'!$A$5:$A$181,"연수구") -> 35
B13: 남동구 | C13: =SUMIFS('16계획'!$F$5:$F$181,'16계획'!$A$5:$A$181,"남동구") -> 4841.3287 | D13: =SUMIFS('16계획'!$G$5:$G$181,'16계획'!$A$5:$A$181,"남동구") -> 0 | E13: =SUMIFS('16계획'!$H$5:$H$181,'16계획'!$A$5:$A$181,"남동구") -> 2179903.4 | F13: =SUMIFS('16계획'!$I$5:$I$181,'16계획'!$A$5:$A$181,"남동구") -> 1661.8876 | G13: =SUMIFS('16계획'!$F$5:$F$181,'16계획'!$A$5:$A$181,"남동구",'16계획'!$J$5:$J$181,"보수율가산") -> 3025 | H13: =SUMIFS('16계획'!$G$5:$G$181,'16계획'!$A$5:$A$181,"남동구",'16계획'!$J$5:$J$181,"보수율가산") -> 0 | I13: =SUMIFS('16계획'!$H$5:$H$181,'16계획'!$A$5:$A$181,"남동구",'16계획'!$J$5:$J$181,"보수율가산") -> 1045811.9 | J13: =SUMIFS('16계획'!$I$5:$I$181,'16계획'!$A$5:$A$181,"남동구",'16계획'!$J$5:$J$181,"보수율가산") -> 162 | K13: =SUMIFS('17계획'!$F$5:$F$181,'17계획'!$A$5:$A$181,"남동구") -> 1667.8917 | L13: =SUMIFS('17계획'!$G$5:$G$181,'17계획'!$A$5:$A$181,"남동구") -> 0 | M13: =SUMIFS('17계획'!$H$5:$H$181,'17계획'!$A$5:$A$181,"남동구") -> 1070654.8 | N13: =SUMIFS('17계획'!$I$5:$I$181,'17계획'!$A$5:$A$181,"남동구") -> 1015.6592
B14: 부평구 | C14: =SUMIFS('16계획'!$F$5:$F$181,'16계획'!$A$5:$A$181,"부평구") -> 1637.3287 | D14: =SUMIFS('16계획'!$G$5:$G$181,'16계획'!$A$5:$A$181,"부평구") -> 0 | E14: =SUMIFS('16계획'!$H$5:$H$181,'16계획'!$A$5:$A$181,"부평구") -> 741450 | F14: =SUMIFS('16계획'!$I$5:$I$181,'16계획'!$A$5:$A$181,"부평구") -> 1067.8876 | G14: =SUMIFS('16계획'!$F$5:$F$181,'16계획'!$A$5:$A$181,"부평구",'16계획'!$J$5:$J$181,"보수율가산") -> 0 | H14: =SUMIFS('16계획'!$G$5:$G$181,'16계획'!$A$5:$A$181,"부평구",'16계획'!$J$5:$J$181,"보수율가산") -> 0 | I14: =SUMIFS('16계획'!$H$5:$H$181,'16계획'!$A$5:$A$181,"부평구",'16계획'!$J$5:$J$181,"보수율가산") -> 0 | J14: =SUMIFS('16계획'!$I$5:$I$181,'16계획'!$A$5:$A$181,"부평구",'16계획'!$J$5:$J$181,"보수율가산") -> 0 | K14: =SUMIFS('17계획'!$F$5:$F$181,'17계획'!$A$5:$A$181,"부평구") -> 782.71226 | L14: =SUMIFS('17계획'!$G$5:$G$181,'17계획'!$A$5:$A$181,"부평구") -> 0 | M14: =SUMIFS('17계획'!$H$5:$H$181,'17계획'!$A$5:$A$181,"부평구") -> 436308.87 | N14: =SUMIFS('17계획'!$I$5:$I$181,'17계획'!$A$5:$A$181,"부평구") -> 917.2838
B15: 계양구 | C15: =SUMIFS('16계획'!$F$5:$F$181,'16계획'!$A$5:$A$181,"계양구") -> 3874.3287 | D15: =SUMIFS('16계획'!$G$5:$G$181,'16계획'!$A$5:$A$181,"계양구") -> 1 | E15: =SUMIFS('16계획'!$H$5:$H$181,'16계획'!$A$5:$A$181,"계양구") -> 2160150 | F15: =SUMIFS('16계획'!$I$5:$I$181,'16계획'!$A$5:$A$181,"계양구") -> 1135.8876 | G15: =SUMIFS('16계획'!$F$5:$F$181,'16계획'!$A$5:$A$181,"계양구",'16계획'!$J$5:$J$181,"보수율가산") -> 2580 | H15: =SUMIFS('16계획'!$G$5:$G$181,'16계획'!$A$5:$A$181,"계양구",'16계획'!$J$5:$J$181,"보수율가산") -> 1 | I15: =SUMIFS('16계획'!$H$5:$H$181,'16계획'!$A$5:$A$181,"계양구",'16계획'!$J$5:$J$181,"보수율가산") -> 1650000 | J15: =SUMIFS('16계획'!$I$5:$I$181,'16계획'!$A$5:$A$181,"계양구",'16계획'!$J$5:$J$181,"보수율가산") -> 146 | K15: =SUMIFS('17계획'!$F$5:$F$181,'17계획'!$A$5:$A$181,"계양구") -> 709.74614 | L15: =SUMIFS('17계획'!$G$5:$G$181,'17계획'!$A$5:$A$181,"계양구") -> 0 | M15: =SUMIFS('17계획'!$H$5:$H$181,'17계획'!$A$5:$A$181,"계양구") -> 395635.22 | N15: =SUMIFS('17계획'!$I$5:$I$181,'17계획'!$A$5:$A$181,"계양구") -> 887.70592
B16: 서구 | C16: =SUMIFS('16계획'!$F$5:$F$181,'16계획'!$A$5:$A$181,"서구") -> 3782.3287 | D16: =SUMIFS('16계획'!$G$5:$G$181,'16계획'!$A$5:$A$181,"서구") -> 1 | E16: =SUMIFS('16계획'!$H$5:$H$181,'16계획'!$A$5:$A$181,"서구") -> 1656850 | F16: =SUMIFS('16계획'!$I$5:$I$181,'16계획'!$A$5:$A$181,"서구") -> 1499.8876 | G16: =SUMIFS('16계획'!$F$5:$F$181,'16계획'!$A$5:$A$181,"서구",'16계획'!$J$5:$J$181,"보수율가산") -> 0 | H16: =SUMIFS('16계획'!$G$5:$G$181,'16계획'!$A$5:$A$181,"서구",'16계획'!$J$5:$J$181,"보수율가산") -> 0 | I16: =SUMIFS('16계획'!$H$5:$H$181,'16계획'!$A$5:$A$181,"서구",'16계획'!$J$5:$J$181,"보수율가산") -> 0 | J16: =SUMIFS('16계획'!$I$5:$I$181,'16계획'!$A$5:$A$181,"서구",'16계획'!$J$5:$J$181,"보수율가산") -> 0 | K16: =SUMIFS('17계획'!$F$5:$F$181,'17계획'!$A$5:$A$181,"서구") -> 1833.2295 | L16: =SUMIFS('17계획'!$G$5:$G$181,'17계획'!$A$5:$A$181,"서구") -> 1 | M16: =SUMIFS('17계획'!$H$5:$H$181,'17계획'!$A$5:$A$181,"서구") -> 1021900.8 | N16: =SUMIFS('17계획'!$I$5:$I$181,'17계획'!$A$5:$A$181,"서구") -> 1343.1262
B17: 강화군 | C17: =SUMIFS('16계획'!$F$5:$F$181,'16계획'!$A$5:$A$181,"강화군") -> 7362.6638 | D17: =SUMIFS('16계획'!$G$5:$G$181,'16계획'!$A$5:$A$181,"강화군") -> 1 | E17: =SUMIFS('16계획'!$H$5:$H$181,'16계획'!$A$5:$A$181,"강화군") -> 3753650 | F17: =SUMIFS('16계획'!$I$5:$I$181,'16계획'!$A$5:$A$181,"강화군") -> 912.77697 | G17: =SUMIFS('16계획'!$F$5:$F$181,'16계획'!$A$5:$A$181,"강화군",'16계획'!$J$5:$J$181,"보수율가산") -> 0 | H17: =SUMIFS('16계획'!$G$5:$G$181,'16계획'!$A$5:$A$181,"강화군",'16계획'!$J$5:$J$181,"보수율가산") -> 0 | I17: =SUMIFS('16계획'!$H$5:$H$181,'16계획'!$A$5:$A$181,"강화군",'16계획'!$J$5:$J$181,"보수율가산") -> 0 | J17: =SUMIFS('16계획'!$I$5:$I$181,'16계획'!$A$5:$A$181,"강화군",'16계획'!$J$5:$J$181,"보수율가산") -> 0 | K17: =SUMIFS('17계획'!$F$5:$F$181,'17계획'!$A$5:$A$181,"강화군") -> 5165.6679 | L17: =SUMIFS('17계획'!$G$5:$G$181,'17계획'!$A$5:$A$181,"강화군") -> 1 | M17: =SUMIFS('17계획'!$H$5:$H$181,'17계획'!$A$5:$A$181,"강화군") -> 2982212.6 | N17: =SUMIFS('17계획'!$I$5:$I$181,'17계획'!$A$5:$A$181,"강화군") -> 1168.6649

Sheet 15계획 (투보)
A1: =#REF! -> #REF!
A2: =#REF! -> #REF! | B2: =#REF! -> #REF! | C2: =#REF! -> #REF! | D2: =#REF! -> #REF! | E2: =#REF! -> #REF! | F2: =#REF! -> #REF! | G2: =#REF! -> #REF! | H2: =#REF! -> #REF! | ... K2: =#REF! -> #REF!
A3: =#REF! -> #REF! | B3: =#REF! -> #REF! | C3: =#REF! -> #REF! | D3: =#REF! -> #REF! | E3: =#REF! -> #REF! | F3: =#REF! -> #REF! | G3: =#REF! -> #REF! | H3: =#REF! -> #REF! | ... K3: =#REF! -> #REF!
A4: =#REF! -> #REF! | B4: =#REF! -> #REF! | C4: =#REF! -> #REF! | D4: =#REF! -> #REF! | E4: =#REF! -> #REF! | F4: =#REF! -> #REF! | G4: =#REF! -> #REF! | H4: =#REF! -> #REF! | ... K4: =#REF! -> #REF!
A5: =#REF! -> #REF! | B5: =#REF! -> #REF! | C5: =#REF! -> #REF! | D5: =#REF! -> #REF! | E5: =#REF! -> #REF! | F5: =#REF! -> #REF! | G5: =#REF! -> #REF! | H5: =#REF! -> #REF! | ... K5: =#REF! -> #REF!
A6: =#REF! -> #REF! | B6: =#REF! -> #REF! | C6: =#REF! -> #REF! | D6: =#REF! -> #REF! | E6: =#REF! -> #REF! | F6: =#REF! -> #REF! | G6: =#REF! -> #REF! | H6: =#REF! -> #REF! | ... K6: =#REF! -> #REF!
A7: =#REF! -> #REF! | B7: =#REF! -> #REF! | C7: =#REF! -> #REF! | D7: =#REF! -> #REF! | E7: =#REF! -> #REF! | F7: =#REF! -> #REF! | G7: =#REF! -> #REF! | H7: =#REF! -> #REF! | ... K7: =#REF! -> #REF!
A8: =#REF! -> #REF! | B8: =#REF! -> #REF! | C8: =#REF! -> #REF! | D8: =#REF! -> #REF! | E8: =#REF! -> #REF! | F8: =#REF! -> #REF! | G8: =#REF! -> #REF! | H8: =#REF! -> #REF! | ... K8: =#REF! -> #REF!
A9: =#REF! -> #REF! | B9: =#REF! -> #REF! | C9: =#REF! -> #REF! | D9: =#REF! -> #REF! | E9: =#REF! -> #REF! | F9: =#REF! -> #REF! | G9: =#REF! -> #REF! | H9: =#REF! -> #REF! | ... K9: =#REF! -> #REF!
A10: =#REF! -> #REF! | B10: =#REF! -> #REF! | C10: =#REF! -> #REF! | D10: =#REF! -> #REF! | E10: =#REF! -> #REF! | F10: =#REF! -> #REF! | G10: =#REF! -> #REF! | H10: =#REF! -> #REF! | ... K10: =#REF! -> #REF!
A11: =#REF! -> #REF! | B11: =#REF! -> #REF! | C11: =#REF! -> #REF! | D11: =#REF! -> #REF! | E11: =#REF! -> #REF! | F11: =#REF! -> #REF! | G11: =#REF! -> #REF! | H11: =#REF! -> #REF! | ... K11: =#REF! -> #REF!
A12: =#REF! -> #REF! | B12: =#REF! -> #REF! | C12: =#REF! -> #REF! | D12: =#REF! -> #REF! | E12: =#REF! -> #REF! | F12: =#REF! -> #REF! | G12: =#REF! -> #REF! | H12: =#REF! -> #REF! | ... K12: =#REF! -> #REF!
A13: =#REF! -> #REF! | B13: =#REF! -> #REF! | C13: =#REF! -> #REF! | D13: =#REF! -> #REF! | E13: =#REF! -> #REF! | F13: =#REF! -> #REF! | G13: =#REF! -> #REF! | H13: =#REF! -> #REF! | ... K13: =#REF! -> #REF!
... A78: =#REF! -> #REF! | B78: =#REF! -> #REF! | C78: =#REF! -> #REF! | D78: =#REF! -> #REF! | E78: =#REF! -> #REF! | F78: =#REF! -> #REF! | G78: =#REF! -> #REF! | H78: =#REF! -> #REF! | ... K78: =#REF! -> #REF!

Sheet 15실적(정리)
A1: =#REF! -> #REF!
A2: =#REF! -> #REF! | B2: =#REF! -> #REF! | C2: =#REF! -> #REF! | D2: =#REF! -> #REF! | E2: =#REF! -> #REF! | F2: =#REF! -> #REF! | G2: =#REF! -> #REF! | H2: =#REF! -> #REF! | ... N2: =#REF! -> #REF!
A3: =#REF! -> #REF! | B3: =#REF! -> #REF! | C3: =#REF! -> #REF! | D3: =#REF! -> #REF! | E3: =#REF! -> #REF! | F3: =#REF! -> #REF! | G3: =#REF! -> #REF! | H3: =#REF! -> #REF! | ... N3: =#REF! -> #REF!
A4: =#REF! -> #REF! | B4: =#REF! -> #REF! | C4: =#REF! -> #REF! | D4: =#REF! -> #REF! | E4: =#REF! -> #REF! | F4: =SUM(F5:F241) -> #REF! | G4: =SUM(G5:G241) -> #REF! | H4: =SUM(H5:H241) -> #REF! | I4: =SUM(I5:I241) -> #REF! | J4: =#REF! -> #REF! | K4: =#REF! -> #REF! | L4: =#REF! -> #REF! | M4: =#REF! -> #REF! | N4: =#REF! -> #REF!
A5: =#REF! -> #REF! | B5: =#REF! -> #REF! | C5: =#REF! -> #REF! | D5: =#REF! -> #REF! | E5: =#REF! -> #REF! | F5: =#REF! -> #REF! | G5: =#REF! -> #REF! | H5: =#REF! -> #REF! | ... N5: =#REF! -> #REF!
A6: =#REF! -> #REF! | B6: =#REF! -> #REF! | C6: =#REF! -> #REF! | D6: =#REF! -> #REF! | E6: =#REF! -> #REF! | F6: =#REF! -> #REF! | G6: =#REF! -> #REF! | H6: =#REF! -> #REF! | ... N6: =#REF! -> #REF!
A7: =#REF! -> #REF! | B7: =#REF! -> #REF! | C7: =#REF! -> #REF! | D7: =#REF! -> #REF! | E7: =#REF! -> #REF! | F7: =#REF! -> #REF! | G7: =#REF! -> #REF! | H7: =#REF! -> #REF! | ... N7: =#REF! -> #REF!
A8: =#REF! -> #REF! | B8: =#REF! -> #REF! | C8: =#REF! -> #REF! | D8: =#REF! -> #REF! | E8: =#REF! -> #REF! | F8: =#REF! -> #REF! | G8: =#REF! -> #REF! | H8: =#REF! -> #REF! | ... N8: =#REF! -> #REF!
A9: =#REF! -> #REF! | B9: =#REF! -> #REF! | C9: =#REF! -> #REF! | D9: =#REF! -> #REF! | E9: =#REF! -> #REF! | F9: =#REF! -> #REF! | G9: =#REF! -> #REF! | H9: =#REF! -> #REF! | ... N9: =#REF! -> #REF!
A10: =#REF! -> #REF! | B10: =#REF! -> #REF! | C10: =#REF! -> #REF! | D10: =#REF! -> #REF! | E10: =#REF! -> #REF! | F10: =#REF! -> #REF! | G10: =#REF! -> #REF! | H10: =#REF! -> #REF! | ... N10: =#REF! -> #REF!
A11: =#REF! -> #REF! | B11: =#REF! -> #REF! | C11: =#REF! -> #REF! | D11: =#REF! -> #REF! | E11: =#REF! -> #REF! | F11: =#REF! -> #REF! | G11: =#REF! -> #REF! | H11: =#REF! -> #REF! | ... N11: =#REF! -> #REF!
A12: =#REF! -> #REF! | B12: =#REF! -> #REF! | C12: =#REF! -> #REF! | D12: =#REF! -> #REF! | E12: =#REF! -> #REF! | F12: =#REF! -> #REF! | G12: =#REF! -> #REF! | H12: =#REF! -> #REF! | ... N12: =#REF! -> #REF!
A13: =#REF! -> #REF! | B13: =#REF! -> #REF! | C13: =#REF! -> #REF! | D13: =#REF! -> #REF! | E13: =#REF! -> #REF! | F13: =#REF! -> #REF! | G13: =#REF! -> #REF! | H13: =#REF! -> #REF! | ... N13: =#REF! -> #REF!
A14: =#REF! -> #REF! | B14: =#REF! -> #REF! | C14: =#REF! -> #REF! | D14: =#REF! -> #REF! | E14: =#REF! -> #REF! | F14: =#REF! -> #REF! | G14: =#REF! -> #REF! | H14: =#REF! -> #REF! | ... N14: =#REF! -> #REF!
A15: =#REF! -> #REF! | B15: =#REF! -> #REF! | C15: =#REF! -> #REF! | D15: =#REF! -> #REF! | E15: =#REF! -> #REF! | F15: =#REF! -> #REF! | G15: =#REF! -> #REF! | H15: =#REF! -> #REF! | ... N15: =#REF! -> #REF!
A16: =#REF! -> #REF! | B16: =#REF! -> #REF! | C16: =#REF! -> #REF! | D16: =#REF! -> #REF! | E16: =#REF! -> #REF! | F16: =#REF! -> #REF! | G16: =#REF! -> #REF! | H16: =#REF! -> #REF! | ... N16: =#REF! -> #REF!
... A240: =#REF! -> #REF! | B240: =#REF! -> #REF! | C240: =#REF! -> #REF! | D240: =#REF! -> #REF! | E240: =#REF! -> #REF! | F240: =#REF! -> #REF! | G240: =#REF! -> #REF! | H240: =#REF! -> #REF! | ... N240: =#REF! -> #REF!

Sheet 15실적(투보)
A1: =#REF! -> #REF!
A2: =#REF! -> #REF! | B2: =#REF! -> #REF! | C2: =#REF! -> #REF! | D2: =#REF! -> #REF! | E2: =#REF! -> #REF! | F2: =#REF! -> #REF! | G2: =#REF! -> #REF! | H2: =#REF! -> #REF! | ... N2: =#REF! -> #REF!
A3: =#REF! -> #REF! | B3: =#REF! -> #REF! | C3: =#REF! -> #REF! | D3: =#REF! -> #REF! | E3: =#REF! -> #REF! | F3: =#REF! -> #REF! | G3: =#REF! -> #REF! | H3: =#REF! -> #REF! | ... N3: =#REF! -> #REF!
C4: 소계 | F4: =SUM(F5:F70) -> #REF! | G4: =SUM(G5:G70) -> #REF! | H4: =SUM(H5:H70) -> #REF! | I4: =SUM(I5:I70) -> #REF!
A5: =#REF! -> #REF! | B5: =#REF! -> #REF! | C5: =#REF! -> #REF! | D5: =#REF! -> #REF! | E5: =#REF! -> #REF! | F5: =#REF! -> #REF! | G5: =#REF! -> #REF! | H5: =#REF! -> #REF! | ... J5: =#REF! -> #REF! | L5: =#REF! -> #REF! | N5: =#REF! -> #REF!
A6: =#REF! -> #REF! | B6: =#REF! -> #REF! | C6: =#REF! -> #REF! | D6: =#REF! -> #REF! | E6: =#REF! -> #REF! | F6: =#REF! -> #REF! | G6: =#REF! -> #REF! | H6: =#REF! -> #REF! | ... J6: =#REF! -> #REF! | L6: =#REF! -> #REF! | N6: =#REF! -> #REF!
A7: =#REF! -> #REF! | B7: =#REF! -> #REF! | C7: =#REF! -> #REF! | D7: =#REF! -> #REF! | E7: =#REF! -> #REF! | F7: =#REF! -> #REF! | G7: =#REF! -> #REF! | H7: =#REF! -> #REF! | ... J7: =#REF! -> #REF! | L7: =#REF! -> #REF! | N7: =#REF! -> #REF!
A8: =#REF! -> #REF! | B8: =#REF! -> #REF! | C8: =#REF! -> #REF! | D8: =#REF! -> #REF! | E8: =#REF! -> #REF! | F8: =#REF! -> #REF! | G8: =#REF! -> #REF! | H8: =#REF! -> #REF! | ... J8: =#REF! -> #REF! | L8: =#REF! -> #REF! | N8: =#REF! -> #REF!
A9: =#REF! -> #REF! | B9: =#REF! -> #REF! | C9: =#REF! -> #REF! | D9: =#REF! -> #REF! | E9: =#REF! -> #REF! | F9: =#REF! -> #REF! | G9: =#REF! -> #REF! | H9: =#REF! -> #REF! | ... J9: =#REF! -> #REF! | L9: =#REF! -> #REF! | N9: =#REF! -> #REF!
A10: =#REF! -> #REF! | B10: =#REF! -> #REF! | C10: =#REF! -> #REF! | D10: =#REF! -> #REF! | E10: =#REF! -> #REF! | F10: =#REF! -> #REF! | G10: =#REF! -> #REF! | H10: =#REF! -> #REF! | ... J10: =#REF! -> #REF! | L10: =#REF! -> #REF! | N10: =#REF! -> #REF!
A11: =#REF! -> #REF! | B11: =#REF! -> #REF! | C11: =#REF! -> #REF! | D11: =#REF! -> #REF! | E11: =#REF! -> #REF! | F11: =#REF! -> #REF! | G11: =#REF! -> #REF! | H11: =#REF! -> #REF! | ... J11: =#REF! -> #REF! | L11: =#REF! -> #REF! | N11: =#REF! -> #REF!
A12: =#REF! -> #REF! | B12: =#REF! -> #REF! | C12: =#REF! -> #REF! | D12: =#REF! -> #REF! | E12: =#REF! -> #REF! | F12: =#REF! -> #REF! | G12: =#REF! -> #REF! | H12: =#REF! -> #REF! | ... J12: =#REF! -> #REF! | L12: =#REF! -> #REF! | N12: =#REF! -> #REF!
A13: =#REF! -> #REF! | B13: =#REF! -> #REF! | C13: =#REF! -> #REF! | D13: =#REF! -> #REF! | E13: =#REF! -> #REF! | F13: =#REF! -> #REF! | G13: =#REF! -> #REF! | H13: =#REF! -> #REF! | ... J13: =#REF! -> #REF! | L13: =#REF! -> #REF! | N13: =#REF! -> #REF!
A14: =#REF! -> #REF! | B14: =#REF! -> #REF! | C14: =#REF! -> #REF! | D14: =#REF! -> #REF! | E14: =#REF! -> #REF! | F14: =#REF! -> #REF! | G14: =#REF! -> #REF! | H14: =#REF! -> #REF! | ... J14: =#REF! -> #REF! | L14: =#REF! -> #REF! | N14: =#REF! -> #REF!
A15: =#REF! -> #REF! | B15: =#REF! -> #REF! | C15: =#REF! -> #REF! | D15: =#REF! -> #REF! | E15: =#REF! -> #REF! | F15: =#REF! -> #REF! | G15: =#REF! -> #REF! | H15: =#REF! -> #REF! | ... J15: =#REF! -> #REF! | L15: =#REF! -> #REF! | N15: =#REF! -> #REF!
A16: =#REF! -> #REF! | B16: =#REF! -> #REF! | C16: =#REF! -> #REF! | D16: =#REF! -> #REF! | E16: =#REF! -> #REF! | F16: =#REF! -> #REF! | G16: =#REF! -> #REF! | H16: =#REF! -> #REF! | ... J16: =#REF! -> #REF! | L16: =#REF! -> #REF! | N16: =#REF! -> #REF!
... A70: =#REF! -> #REF! | B70: =#REF! -> #REF! | C70: =#REF! -> #REF! | D70: =#REF! -> #REF! | E70: =#REF! -> #REF! | F70: =#REF! -> #REF! | G70: =#REF! -> #REF! | H70: =#REF! -> #REF! | ... J70: =#REF! -> #REF! | L70: =#REF! -> #REF! | N70: =#REF! -> #REF!

Sheet 16계획
A1: 도시가스 공급시설 2개년 공사계획
J2: (2016년도)
A3: 구별 | B3: 구별(사) | C3: 공사명 | D3: 설치시점 | E3: 설치종점 | F3: 배관연장(m) | G3: 정압기 | H3: 공사비(천원) | I3: 보급세대 | J3: 비고
A4: 합계 | F4: =SUM(F5:F181) -> 40575.175 | G4: =SUM(G5:G181) -> 4 | H4: =SUM(H5:H181) -> 18498901 | I4: =SUM(I5:I181) -> 26404.86
A5: 경제청 | B5: 경제청(삼) | C5: 송도 11공구 삼성바이오 일원 | D5: 송도 5공구 일원 | E5: 송도 5공구 일원 | F5: 580 | H5: 246000 | I5: 1
A6: 경제청 | B6: 경제청(삼) | C6: 송도 6,8공구 일원 | D6: 송도 5공구 | E6: 송도 6,공구 일원 | F6: 1617 | G6: 1 | H6: 350000 | I6: 10821
A7: 경제청 | B7: 경제청(삼) | C7: 송도동 8-3 근생 | D7: 송도동 8-4 | E7: 송도동 8-3 | F7: 40 | H7: 13991 | I7: 5
A8: 경제청 | B8: 경제청(삼) | C8: 연수구 송도동 13-43 케이디코퍼레이션등 2개소 | D8: 송도동 13-43 | E8: 송도동 13-43 | F8: 40 | H8: 19225 | I8: 2
A9: 경제청 | B9: 경제청(인) | C9: 영종하늘도시 하늘4정압기 설치공사 | D9: 하늘도시 정4 | E9: 하늘도시 정4 | H9: 83000
A10: 중구 | B10: 중구(삼) | C10: 중구 경동 188-1번지일원 | D10: 경동 190-1 | E10: 경동 188-1 | F10: 45 | H10: 17089 | I10: 1 | J10: 보수율가산
A11: 중구 | B11: 중구(삼) | C11: 중구 경동 3-3번지일원 | D11: 경동 4-10 | E11: 경동 3-3 | F11: 30 | H11: 12540 | I11: 3 | J11: 보수율가산
A12: 중구 | B12: 중구(삼) | C12: 중구 사동 33-17번지일원 | D12: 사동 30-28 | E12: 사동 33-17 | F12: 40 | H12: 15190 | I12: 6 | J12: 보수율가산
A13: 중구 | B13: 중구(삼) | C13: 중구 선화동 5-9번지일원 | D13: 선화동 5-14 | E13: 선화동 5-9 | F13: 25 | H13: 10865 | I13: 3 | J13: 보수율가산
A14: 중구 | B14: 중구(삼) | C14: 중구 신흥동1가 6-3번지일원 | D14: 신흥동1가 6-7 | E14: 신흥동1가 6-3 | F14: 40 | H14: 15190 | I14: 11 | J14: 보수율가산
A15: 중구 | B15: 중구(삼) | C15: 중구 신흥동1가38-12번지일원 | D15: 신흥동 38-37 | E15: 신흥동1가 38-12 | F15: 50 | H15: 18988 | I15: 5 | J15: 보수율가산
A16: 중구 | B16: 중구(삼) | C16: 중구 인현동 1-399 신축공동주택 | D16: 경동 139-1 | E16: 인현동 1-399 | F16: 70 | H16: 26232 | I16: 152
A17: 중구 | B17: 중구(삼) | C17: 중구 전동 28-62번지일원 | D17: 전동 28-21 | E17: 전동 28-62 | F17: 65 | H17: 20965 | I17: 15 | J17: 보수율가산
A18: 중구 | B18: 중구(삼) | C18: 중구 신흥동 26-30번지 일원 | D18: 신흥동 38-4 | E18: 신흥동 39-12 | F18: 310 | H18: 98144 | I18: 25 | J18: 보수율가산
A19: 중구 | B19: 중구(삼) | C19: 중구 신흥동 7-55번지 일원 | D19: 신흥동 7-10 | E19: 신흥동 7-65 | F19: 120 | H19: 38856 | I19: 15 | J19: 보수율가산
A20: 중구 | B20: 중구(삼) | C20: 신흥동2가 9-2 명동찌게마을 | D20: 신흥동2가 7-1(대) 앞 | E20: 신흥동2가 9-2(대) | F20: 40 | H20: 16653 | I20: 3
A21: 중구 | B21: 중구(삼) | C21: 관동3가 1-12 제주솥뚜껑삼겹살 일원 | D21: 관동3가 4-9(대) 앞 | E21: 중앙동4가 4-2(대) 앞 | F21: 150 | H21: 39355 | I21: 4
A22: 중구 | B22: 중구(삼) | C22: 선화동 2-8 근생상가 | D22: 도원동 29-10(대) 앞 | E22: 선화동 2-8(대) 앞 | F22: 30 | H22: 10311 | I22: 1
A23: 중구 | B23: 중구(삼) | C23: 신생동 2-28 놀부부대찌게 일원 | D23: 신생동 11-53 (도) | E23: 신생동 2-33 (대) 앞 | F23: 100 | H23: 29590 | I23: 5
A24: 중구 | B24: 중구(삼) | C24: 항동 7가 49-1 인천복합상업시설 | D24: 항동7가 27-144(도) | E24: 항동7가 49-1 (대) 앞 | F24: 35 | H24: 21276 | I24: 1
A25: 중구 | B25: 중구(삼) | C25: 동림수산등 2개소 | D25: 항동 7가 27-103 | E25: 항동 7가 108-3 | F25: 35 | H25: 12514 | I25: 2
A26: 중구 | B26: 중구(삼) | C26: 인천시 도로개설 및 우회관로 이설 등 | D26: 해당구역 | E26: 해당구역 | F26: 1000 | H26: 411000
A27: 중구 | B27: 중구(삼) | C27: 기타인입관 | H27: 64345
A28: 중구 | B28: 중구(삼) | C28: 기타투자 | H28: 112118
A29: 중구 | B29: 중구(인) | C29: 용유동 일원(용유동 본관 1단계-1차) | D29: 덕교동 128-27 | E29: 덕교동 463 | F29: 2200 | H29: 1370000 | J29: 보수율가산
A30: 중구 | B30: 중구(인) | C30: 용유동 일원(용유동 본관 1단계-2차) | D30: 덕교동 463 | E30: 남북동 915-5 | F30: 2300 | H30: 1430000 | J30: 보수율가산
A31: 중구 | B31: 중구(인) | C31: 영종동 일원(운남동 146-5 일원) | D31: 운남동 125-5 | E31: 운남동 146-5 | F31: 300 | H31: 160000 | I31: 30
A32: 중구 | B32: 중구(인) | C32: 영종동 일원(운남동 1572-6) | D32: 운남동 1562-4 | E32: 운남동 1572-6 | F32: 130 | H32: 68000 | I32: 19
A33: 중구 | B33: 중구(인) | C33: 영종동 일원(운남동 1506-4일원) | D33: 운남동 1498-2 | E33: 운남동 156-4 | F33: 170 | H33: 92000 | I33: 47
A34: 중구 | B34: 중구(인) | C34: 영종동 일원(운남동 1535-8일원 ) | D34: 운남동 1527-7 | E34: 운남동 1535-8 | F34: 40 | H34: 32000 | I34: 36
A35: 중구 | B35: 중구(인) | C35: 영종동 일원(운남동 1567 ) | D35: 운남동 1565-5 | E35: 운남동 1567 | F35: 40 | H35: 24000 | I35: 18
A36: 중구 | B36: 중구(인) | C36: 측량비 | H36: 100000
A37: 중구 | B37: 중구(인) | C37: 분기비 | F37: 867.19656 | H37: 120000 | I37: 712.53237
A38: 중구 | B38: 중구(인) | C38: 보수공사 | H38: 87610
A39: 동구 | B39: 동구(삼) | C39: 동구 금곡동 40-10번지일원 | D39: 금곡동 37-22 | E39: 금곡동 40-10 | F39: 50 | H39: 20168 | I39: 7 | J39: 보수율가산
A40: 동구 | B40: 동구(삼) | C40: 동구 금곡동 57-20번지일원 | D40: 금곡동 57-19 | E40: 금곡동 57-20 | F40: 30 | H40: 11394 | I40: 6 | J40: 보수율가산
...

Sheet 17계획
A1: 도시가스 공급시설 2개년 공사계획
J2: (2017년도)
A3: 구별 | B3: 구별(사) | C3: 공사명 | D3: 설치시점 | E3: 설치종점 | F3: 배관연장(m) | G3: 정압기 | H3: 공사비(천원) | I3: 보급세대 | J3: 비고
A4: 합계 | F4: =SUM(F5:F26) -> 31361.177 | G4: =SUM(G5:G26) -> 3 | H4: =SUM(H5:H26) -> 15602877 | I4: =SUM(I5:I26) -> 16484
A5: 경제청 | B5: 경제청(삼) | C5: 삼성바이오(3차) | D5: 송도택지 | E5: 송도택지 | F5: 250 | H5: 152542 | I5: 1
A6: 경제청 | B6: 경제청(삼) | C6: 송도역세권 | D6: 송도역세권 | E6: 송도역세권 | F6: 100 | H6: 63316.462 | I6: 2184
A7: 경제청 | B7: 경제청(삼) | C7: 송도택지 | D7: 송도택지 | E7: 송도택지 | F7: 9500 | H7: 2750000 | I7: 6830
A8: 중구 | B8: 중구(삼) | C8: 인천시 도로개설 및 우회관로 이설 등 | D8: 해당구역 | E8: 해당구역 | F8: 1010 | H8: 421000
A9: 중구 | B9: 중구(삼) | C9: 기타투자 | F9: 358.61791 | H9: 151234
A10: 중구 | B10: 중구(인) | C10: 중산동 및 운북동 1단계 | F10: 3000 | G10: 1 | H10: 2000000 | I10: 2090.5599
A11: 중구 | B11: 중구(인) | C11: 용유동 본관 2단계 | F11: 4500 | H11: 2800000
A12: 동구 | B12: 동구(삼) | C12: 동아제분 | D12: 만석동 32 | E12: 만석동 32 | F12: 35 | H12: 23325 | I12: 1
A13: 동구 | B13: 동구(삼) | C13: 송림동55번지주변 | D13: 송림동55번지주변 | E13: 송림동55번지주변 | F13: 70 | H13: 19552 | I13: 5
A14: 동구 | B14: 동구(삼) | C14: 기타투자 | F14: 438.31184 | H14: 184842
A15: 남구 | B15: 남구(삼) | C15: 주안동184-11번지 외 | D15: 주안동 184-10 | E15: 주안동 184-11 | F15: 90 | H15: 43384 | I15: 4
A16: 남구 | B16: 남구(삼) | C16: 남인천새마을금고 | D16: 주안2동 551-10 | E16: 주안2동 551-13 | F16: 30 | H16: 10627 | I16: 1
A17: 남구 | B17: 남구(삼) | C17: 기타투자 | F17: 720 | H17: 376973.88
A18: 연수구 | B18: 연수구(삼) | C18: 기타투자 | F18: 1100 | H18: 699368 | I18: 35
A19: 남동구 | B19: 남동구(삼) | C19: 성진산업기계 | D19: 남촌동 625-3 | E19: 남촌동 625-3 | F19: 15 | H19: 9157 | I19: 1
A20: 남동구 | B20: 남동구(삼) | C20: 기타투자 | F20: 1000 | H20: 697555 | I20: 150
A21: 남동구 | B21: 남동구(인) | C21: 주택 및 산∙영업용 공급시설공사 | F21: 652.89174 | H21: 363942.75 | I21: 864.65917
A22: 부평구 | B22: 부평구(인) | C22: 주택 및 산∙영업용 공급시설공사 | F22: 782.71226 | H22: 436308.87 | I22: 917.2838
A23: 계양구 | B23: 계양구(인) | C23: 주택 및 산∙영업용 공급시설공사 | F23: 709.74614 | H23: 395635.22 | I23: 887.70592
A24: 서구 | B24: 서구(인) | C24: 주택 및 산∙영업용 공급시설공사 | F24: 1833.2295 | G24: 1 | H24: 1021900.8 | I24: 1343.1262
A25: 강화군 | B25: 강화군(인) | C25: 선원면~외포리간 본관 연결공사 | F25: 3000 | H25: 1775000
A26: 강화군 | B26: 강화군(인) | C26: 주택 및 산∙영업용 공급시설공사 | F26: 2165.6679 | G26: 1 | H26: 1207212.6 | I26: 1168.6649
