Workbook
Name _1행열변환_1_.행열변환_1: [1]!'[행열변환_1].행열변환_1'
Name _2행열변환_2_.행열변환_2: [1]!'[행열변환_2].행열변환_2'
Name _3행열변환_3_.행열변환_3: [1]!'[행열변환_3].행열변환_3'
Name _4행열변환_4_.행열변환_4: [1]!'[행열변환_4].행열변환_4'
Name \a: #N/A
Name CODESUM3: [2]!CODESUM3
Name Macro1: [3]!Macro1
Name MACRO3: [4]!MACRO3
Name PRINT_AREA_MI: [5]Sheet2!#REF!
Name SUM_A: [2]!SUM_A
Name 개발비: [6]사업성분석!#REF!
Name 건축비용: [7]!건축비용
Name 계수나눈값: [8]계수!$E$1
Name 계수나눈값: [9]계수!$E$1
Name 계수나눈값: [10]계수!$E$1
Name 계수나눈값: [11]계수!$E$1
Name 계수영역: [8]계수!$A$2:$C$13
Name 계수영역: [9]계수!$A$2:$C$13
Name 계수영역: [10]계수!$A$2:$C$13
Name 계수영역: [11]계수!$A$2:$C$13
Name 계약금: '[12]1-최종안'!$G$13
Name 공영정산: [6]사업성분석!#REF!
Name 금융2: #REF!
Name 기타자료: [7]!기타자료
Name 당사광고: [13]사업수지!$H$77
Name 당사모델운영: [13]사업수지!$H$78
Name 당사사업추진: [13]사업수지!$H$79
Name 대여이자: [6]사업성분석!#REF!
Name 도급계: [6]사업성분석!$H$45
Name 도로부담금: [14]당사!#REF!
Name 면적총괄: [7]!면적총괄
Name 무이주비: [6]사업성분석!#REF!
Name 보증: [15]수지!#REF!
Name 분양금액: '[12]사업분석-분양가결정'!$H$17
Name 분양예측: [7]!분양예측
Name 사업성분석: [16]사업분석!$I$22
Name 산출내역서0: [17]계수!$G$1
Name 산출내역서0: [18]계수!$G$1
Name 설계보상: [6]사업성분석!#REF!
Name 속초조양부대입찰요청서: [19]확약서!#REF!
Name 속초조양원하도급예정금액대비: [19]확약서!#REF!
Name 속초조양지급자재: [19]확약서!#REF!
Name 속초조양하도급사항: [19]확약서!#REF!
Name 손익분기: [7]!손익분기
Name 수입: [7]!수입
Name 승수: [8]계수!$F$1
Name 승수: [9]계수!$F$1
Name 승수: [10]계수!$F$1
Name 승수: [11]계수!$F$1
Name 승수비율: [8]계수!$G$1
Name 승수비율: [9]계수!$G$1
Name 승수비율: [10]계수!$G$1
Name 승수비율: [11]계수!$G$1
Name 예정공정표: [13]사업수지!$H$77
Name 용역: [6]사업성분석!#REF!
Name 원위치: [19]!원위치
Name 유이주비: [6]사업성분석!#REF!
Name 유토지: [6]사업성분석!#REF!
Name 이주비이자: [6]사업성분석!#REF!
Name 인허가: [6]사업성분석!#REF!

Sheet 1개요(건축)
A1: 주택건설공사 감리자 모집에 따른 사업개요
A4: 1. 사업명
A5: =#REF!&" 신축공사" -> #REF!
A7: 2. 대지위치
A8: =#REF! -> #REF!
A10: 3. 사업주체
A11: =#REF! -> #REF!
A12: =#REF!&" 대표이사 "&#REF!&" (☎"&#REF!&")" -> #REF!
A14: 4. 설계자
A15: =#REF! -> #REF!
A16: =#REF!&" 대표이사 "&#REF!&" (☎"&#REF!&")" -> #REF!
A17: =#REF! -> #REF!
A18: =#REF!&" 대표이사 한주엽"&" ("&#REF!&")" -> #REF!
A19: 5. 시공자
A20: =A11 -> #REF!
A21: =A12 -> #REF!
A23: ="6. 주택건설사업계획승인신청일 : "&#REF! -> #REF!
A24: =" 주택건설사업계획승인일 : "&#REF! -> #REF!
A26: 7. 사업개요
A27: - 대지면적 : | B27: =#REF! -> #REF! | C27: =B27*0.3025 -> #REF!
A28: - 연 면 적 : | B28: =#REF! -> #REF! | C28: =B28*0.3025 -> #REF! | D28: ="/용적율 "&#REF!*100&" %" -> #REF!
A29: - 건축면적 : | B29: =#REF! -> #REF! | C29: =B29*0.3025 -> #REF! | D29: ="/건폐율 "&#REF!*100&" %" -> #REF!
A30: - 사업규모 : | B30: =#REF! -> #REF!
A31: - 공사기간 : | B31: =#REF! -> #REF!
A32: - 평형별 세대수 및 단위면적
A33: 형별 | B33: 세대수 | C33: 전용면적(㎡) | D33: 공급면적(㎡)
A34: =D34 -> 109.2869 | B34: 280 | C34: 84.9959 | D34: 109.2869
A35: =D35 -> 109.9801 | B35: 280 | C35: 84.999 | D35: 109.9801
A36: =D36 -> 109.9393 | B36: 88 | C36: 84.999 | D36: 109.9393
A40: 계 | B40: =SUM(B34:B39) -> 648
A42: 8. 사업비
A43: - 총사업비 : | B43: =#REF! -> #REF! | C43: 천원
A44: - 대 지 비 : | B44: =#REF! -> #REF! | C44: 천원
A45: - 순공사비 : | B45: ='총사업비 산출총괄표'!D11 -> 73445773 | C45: 천원
A46: 구 분 | C46: 금 액
A47: 감리대상 공사비 | C47: ='총사업비 산출총괄표'!F11 -> 61865218
A48: 감리대상 제외공사비 | C48: 0 천원
A49: 타법감리 대상공사비 | C49: ='총사업비 산출총괄표'!H11 -> 11580555
A50: 총 계 | C50: =SUM(C47:D49) -> 73445773
A52: - 타법감리, 이윤 및 일반관리비
...

Sheet 2산출서(건축)
A1: =#REF!&" 신축공사 감리비 산출서" -> #REF!
A3: ※ 감리대가 산정
A4: 1. 건축공사 감리비
B5: 총공사비(원) | C5: 100억원 | D5: 200억원 | E5: 500억원 | F5: 1,000억원 | G5: 2,000억원 | H5: 3,000억원
B6: 감리인.월 | C6: 38.1 | D6: 73.8 | E6: 163.2 | F6: 277 | G6: 472 | H6: 645.2
B8: 총공사비(원) | C8: 300억원 | D8: 500억원 | E8: 1,000억원 | F8: 2,000억원 | G8: 3,000억원 | H8: 비 고
B9: 요 율 | C9: 2.69 | D9: 2.39 | E9: 2.33 | F9: 2.3 | G9: 2.24 | I9: 2008.4.1변경
A10: - 건축공사비 : 126,478,217 | B10: ='총사업비 산출총괄표'!F14 -> 71777721 | C10: 천원(VAT제외금액)
B12: ※ 총 인.월수(직선보간법으로 산정, 소수점3째자리에서 반올림)
B13: → 직선보간법 : | C13: =#REF!&"+ (("&B10/100000&"-"&#REF!/100000&")×("&#REF!&"-"&#REF!&")/("&#REF!/100000&"-"&#REF!/100000&")) = " -> #REF! | H13: =ROUND(#REF!+ ((B10/100000-#REF!/100000)*(#REF!-#REF!)/(#REF!/100000-#REF!/100000)),3) -> #REF!
B15: ※ 공사비 요율(직선보간법으로 산정, 소수점5째자리에서 반올림)
B16: → 직선보간법 : | C16: =#REF!&" - (("&#REF!/100000&"-"&#REF!/100000&")×("&#REF!&"-"&#REF!&")/("&#REF!/100000&"-"&#REF!/100000&")) = " -> #REF! | H16: =ROUND(#REF!-((#REF!/100000-#REF!/100000)*(#REF!-#REF!)/(#REF!/100000-#REF!/100000)),6) -> #REF!
B18: ※ 감리비산정 : | C18: =B10&" X "&H16&" = " -> #REF! | E18: =ROUNDDOWN(B10*H16,0) -> #REF! | F18: 천원(VAT미포함)
B19: 126,478,217 × 2.6594% × 1.1 ≒ 3,699,917천원(VAT포함) | C19: =B10&" X "&H16&" *1.1 = " -> #REF! | E19: =B10*H16*1.1 -> #REF! | F19: 천원(VAT포함)
A21: 2. 타법공사 관리비
A22: - 전기공사중 감리대상 공사비
A23: * 근거 : 전력기술 관리법 운영요령
A24: 산업자원부 고시 제 2005-7호(제12호) 의거
A25: 적용일 : 2005년 4월 1일 부터 시행
A26: - 정액가산방식 : 공동주택 300세대 이하 시만 적용
A27: * 당 현장 규모가 648세대 이므로 실비정액 가산 방식 적용(300~800세대 범위)
A28: - 책임감리 : 특급 1명
A29: - 산 출 : (개월수 × 특급임금) → 직접인건비 산출
A30: - 임금적용 : 고급 감리원 임금적용
A32: - 전기공사 감리비 산정 : | C32: =#REF!/1000 -> #REF! | D32: (VAT제외)
C33: =C32*1.1 -> #REF! | D33: (VAT포함)
A34: - 소방설비공사 감리비 산정 : | C34: =' 7소방'!K26/1000 -> 95000 | D34: (VAT제외)
A35: 674,000천원(VAT포함) | C35: =C34*1.1 -> 104500 | D35: (VAT포함)
A36: - 정보통신공사 감리비 산정 : | C36: ='6정보통신'!I28/1000 -> 35000 | D36: (VAT제외)
A37: 37,400천원(VAT포함) | C37: =C36*1.1 -> 38500 | D37: (VAT포함)
B38: ※ 타법공사 감리비 계 | D38: =C32+C34+C36 -> #REF! | E38: (VAT제외)
B39: 1,335,800천원(VAT포함) | D39: =C33+C35+C37 -> #REF! | E39: (VAT포함)

Sheet 총사업비 산출총괄표
A1: [별지 제1호 서식]
A2: 총 사업비 산출 총괄표
H3: 단위 : 천원
A4: 구 분 | D4: 전 체 | E4: 구성비 | F4: 감리대상 | G4: 감리제외 | H4: 타법감리
A5: 총공사비 | B5: 순공사비 | C5: 토목공사 | D5: 5879752 | E5: 0.02733975 | F5: 5879752 | G5: 0 | H5: 0
C6: 건축공사 | D6: 47293659 | E6: 0.2199067 | F6: 47293659 | G6: 0 | H6: 0
C7: 기계설비공사 | D7: 8691807 | E7: 0.040415282 | F7: 8691807 | G7: 0 | H7: 0
C8: 전기공사 | D8: 5112828 | E8: 0.023773697 | F8: 0 | G8: 0 | H8: 5112828
C9: 정보통신공사 | D9: 2812055 | E9: 0.013075531 | F9: 0 | G9: 0 | H9: 2812055
C10: 소방설비공사 | D10: 3655672 | E10: 0.016998193 | F10: 0 | G10: 0 | H10: 3655672
C11: 소 계 | D11: =SUM(D5:D10) -> 73445773 | E11: 0.34150915 | F11: =SUM(F5:F10) -> 61865218 | G11: =SUM(G5:G10) -> 0 | H11: =SUM(H5:H10) -> 11580555
B12: 일반관리비 | D12: 9893322 | E12: 0.046002102 | F12: 8333393 | G12: 0 | H12: 1559929
B13: 이 윤 | D13: 1874704 | E13: 0.008717024 | F13: 1579110 | G13: 0 | H13: 295594
B14: 소 계 | D14: =SUM(D11:D13) -> 85213799 | E14: 0.39622827 | F14: =SUM(F11:F13) -> 71777721 | G14: =SUM(G11:G13) -> 0 | H14: =SUM(H11:H13) -> 13436078
A15: 간 접 비 | B15: 설 계 비 | D15: 868666 | E15: 0.0040391349 | G15: 868666
B16: 감 리 비 | D16: 2579527 | E16: 0.01199432 | G16: 1696730 | H16: 882797
B17: 일반분양시설경비 | D17: 34534670 | E17: 0.16057978 | G17: 34534670
B18: 분담금 및 부담금 | D18: 13206567 | E18: 0.061408074 | G18: 13206567
B19: 보 상 비 | D19: 0 | E19: 0 | G19: 0
B20: 기타 사업비성 경비 | D20: 14473619 | E20: 0.067299629 | G20: 14473619
B21: 소 계 | D21: =SUM(D15:D20) -> 65663049 | E21: 0.30532093 | F21: 0 | G21: =SUM(G15:G20) -> 64780252 | H21: =SUM(H15:H20) -> 882797
A22: 대 지 비 | D22: 58914869 | E22: 0.27394315 | F22: 0 | G22: 58914869
A23: 부가가치세액 | D23: 5270671 | E23: 0.024507637 | F23: 0 | G23: 5270671
A24: 총사업비 계 | D24: =D14+D21+D22+D23 -> 215062388 | E24: 1 | F24: =F14+F21+F22+F23 -> 71777721 | G24: =G14+G21+G22+G23 -> 128965792 | H24: =H14+H21+H22+H23 -> 14318875
A25: 주 1. 순공사비란 : 재료비,노무비,경비를 합한 금액임
A26: 2. 일반관리비와 이윤에 대한 정의 및 산정방법은 "원가계산에 의한 예정가격 작성준칙(예산회계)"에 따름
A27: 3. 부가가치 세액의 정의와 산정방법은 "부가가치세법"에 따름
A28: 4. 간접비란 사업비 중 총 공사비를 제외한 설계비,감리비, 일반분양시설 경비등 사업비성 경비를 말하며, 세부
A29: 비목은 다음과 같음
A30: - 일반 분양시설 경비 : 시공비,운영비,광고홍보비
A31: - 분담금 및 부담금 : 인입분담금(가스,전기,수도,지역난방),진입도로,학교용지확보 부담금
A32: - 보상비 : 이주대책비,이주보상비
A33: - 기타 사업비성 경비 : 제세공과금,측량.교통.환경영향평가 수수료,취득세,등록세,건물 보존등기비 및 입주관
A34: 리비,분양.임대보증 및 하자 보증수수료등 기타 사업성 경비
A35: - 대지비 : 대지구입비,대지구입관련 금융비용 및 제세공과금

Sheet 공종별 구성현황표
A1: [별지 제2호 서식]
A2: 공종별 총공사비 구성 현황표
G3: 단위 : 천원
A4: 구 분 | B4: 분 야 | C4: 공 종 | D4: 전 체 | E4: 감리대상 | F4: 감리제외 | G4: 타법감리
A5: 순공사비 | B5: 토 목 | C5: 토공사 | D5: 3578980 | E5: 3578980 | F5: 0 | G5: 0
B6: (13개공종) | C6: 흙막이공사 | D6: 1192993 | E6: 1192993 | F6: 0 | G6: 0
C7: 비탈면 보호공사 | D7: 0 | E7: 0 | F7: 0 | G7: 0
C8: 옹벽공사 | D8: 0 | E8: 0 | F8: 0 | G8: 0
C9: 석축공사 | D9: 0 | E9: 0 | F9: 0 | G9: 0
C10: 우.오수공사 | D10: 85214 | E10: 85214 | F10: 0 | G10: 0
C11: 공동구공사 | D11: 0 | E11: 0 | F11: 0 | G11: 0
C12: 지하저수조 및 급수공사 | D12: 0 | E12: 0 | F12: 0 | G12: 0
C13: 도로 포장공사 | D13: 0 | E13: 0 | F13: 0 | G13: 0
C14: 교통안전시설물공사 | D14: 0 | E14: 0 | F14: 0 | G14: 0
C15: 정화조시설공사 | D15: 0 | E15: 0 | F15: 0 | G15: 0
C16: 조경공사 | D16: 340855 | E16: 340855 | F16: 0 | G16: 0
C17: 부대시설공사 | D17: 681710 | E17: 681710 | F17: 0 | G17: 0
C19: 소 계 | D19: =SUM(D5:D18) -> 5879752 | E19: =SUM(E5:E18) -> 5879752 | F19: 0 | G19: 0
B20: 건 축 | C20: 공통가설공사 | D20: 2556414 | E20: 2556414 | F20: 0 | G20: 0
B21: (23개공종) | C21: 가시설물 공사 | D21: 681710 | E21: 681710 | F21: 0 | G21: 0
C22: 지정 및 기초공사 | D22: 8010097 | E22: 8010097 | F22: 0 | G22: 0
C23: 철골공사 | D23: 2726842 | E23: 2726842 | F23: 0 | G23: 0
C24: 철근콘크리트공사 | D24: 18491394 | E24: 18491394 | F24: 0 | G24: 0
C25: 용접공사 | D25: 0 | E25: 0 | F25: 0 | G25: 0
C26: 조적공사 | D26: 681710 | E26: 681710 | F26: 0 | G26: 0
C27: 미장공사 | D27: 1704276 | E27: 1704276 | F27: 0 | G27: 0
C28: 단열공사 | D28: 170428 | E28: 170428 | F28: 0 | G28: 0
C29: 방수/방습공사 | D29: 681710 | E29: 681710 | F29: 0 | G29: 0
C30: 목공사 | D30: 426069 | E30: 426069 | F30: 0 | G30: 0
C31: 가구공사 | D31: 1363421 | E31: 1363421 | F31: 0 | G31: 0
C32: 금속공사 | D32: 1363421 | E32: 1363421 | F32: 0 | G32: 0
C33: 지붕 및 홈통공사 | D33: 511283 | E33: 511283 | F33: 0 | G33: 0
C34: 창호공사 | D34: 1704276 | E34: 1704276 | F34: 0 | G34: 0
A35: 순공사비 | B35: 건 축 | C35: 유리공사 | D35: 511283 | E35: 511283 | F35: 0 | G35: 0
B36: (23개공종) | C36: 타일공사 | D36: 1022566 | E36: 1022566 | F36: 0 | G36: 0
C37: 돌공사 | D37: 852138 | E37: 852138 | F37: 0 | G37: 0
C38: 도장공사 | D38: 937352 | E38: 937352 | F38: 0 | G38: 0
C39: 도배공사 | D39: 255641 | E39: 255641 | F39: 0 | G39: 0
C40: 수장공사 | D40: 596497 | E40: 596497 | F40: 0 | G40: 0
C41: 주방용구공사 | D41: 1533848 | E41: 1533848 | F41: 0 | G41: 0
...

Sheet 6정보통신
A1: ■ 공사비요율에 의한 방식 - 공사비에 일정 요율을 곱하여 산출한 금액에 제10조의 규정에 의한 추가업무비용과 부가가치세를 합산하여 대가를 산출하는 방식(1.건설부분 엔지니어링사업 2.통신·정보처리부문중 정보통신분 야의 엔지니어링사업 3.산업관리부문중 소방설비분야의 엔지니어링사업 / 2항에 규정된 엔지니어링사업의 경 우에도 "공사감리"는 실비정액가산방식에 따라 대가를 산출할 수 있다.) | AL1: 2008.6.3
D2: 정 보 통 신 감 리 용 역 비 산 출 내 역 서 | AH2: 요율 | AI2: 업 무 별 요 율(%)
AH3: 공사비 | AI3: 기본설계 | AJ3: 실시설계 | AK3: 공사감리 | AL3: 계
C4: 1. 용 역 명 : | I4: =#REF!&" 신축공사 정보통신 감리용역" -> #REF! | AH4: 1천만원이하 | AL4: 26.62
C5: 2. 사 업 기 간 : | I5: =#REF! -> #REF! | AH5: 2천만원이하 | AL5: 19.97
C6: 3. 산 출 근 거 : | I6: 정보통신공사비 | N6: ='공종별 구성현황표'!G62*1000 -> 2812055000 | T6: 원 | AH6: 3천만원이하 | AL6: 16.13
D7: ⊙ 엔지니어링기술진흥법 : 엔지니어링사업대가의 기준 적용 | AH7: 5천만원이하 | AK7: 2.7 | AL7: 11.26
N8: (과학기술부공고 제2004-123호, '04.12.30) | AH8: 1억원이하 | AK8: 2.53 | AL8: 10.55
C9: 4. 산 출 내 역 | AH9: 2억원이하 | AK9: 2.02 | AL9: 8.42
D10: 가) 감 리 대 가(관련근거:제12조) | AH10: 3억원이하 | AK10: 1.84 | AL10: 7.68
E11: (1)적용기준: 통신부문의 요율[별표2] | AH11: 5억원이하 | AK11: 1.68 | AL11: 6.98
E12: (2)공사감리요율: | K12: 10 | L12: 억원이하 | O12: - | P12: 0.0148 | AH12: 10억원이하 | AK12: 1.48 | AL12: 6.16
K13: 20 | L13: 억원이하 | O13: - | P13: 0.0136 | AH13: 20억원이하 | AK13: 1.36 | AL13: 5.66
E14: (3)산출내용 | AH14: 30억원이하 | AK14: 1.31 | AL14: 5.46
F15: y | G15: = | H15: y1 | I15: - | K15: (x - x2) × (y1 - y2) | U15: [%] | AH15: 50억원이하 | AK15: 1.29 | AL15: 5.37
K16: x1 - x2 | AH16: 100억원이하 | AK16: 1.25 | AL16: 5.22
F17: ※ | G17: x : 당해금액 | N17: x1 : 큰금액 | U17: x2 : 작은금액 | AH17: 200억원이하 | AK17: 1.22 | AL17: 5.07
G18: y : 당해공사비요율 | N18: y1 : 작은금액요율 | U18: y2 : 큰금액요율 | AH18: 300억원이하 | AK18: 1.21 | AL18: 5.03
AH19: 500억원이하 | AK19: 1.18 | AL19: 4.93
F20: y | G20: = | H20: =P12 -> 0.0148 | J20: - | K20: ( | L20: =N6/100000000 -> 28.12055 | P20: 억 | Q20: - | R20: =K12 -> 10 | S20: 억 | T20: ) | U20: × | V20: ( | W20: =P12 -> 0.0148 | Y20: - | Z20: =P13 -> 0.0136 | AB20: ) | AH20: 1,000억원이하 | AK20: 1.16 | AL20: 4.85
P21: =K13 -> 20 | R21: 억 | S21: - | T21: =K12 -> 10 | U21: 억 | AH21: 2,000억원이하 | AK21: 1.14 | AL21: 4.77
AH22: 3,000억원이하 | AK22: 1.13 | AL22: 4.7
G23: = | H23: =H20-((L20-R20)*(W20-Z20)/(P21-T21)) -> 0.012625534 | AH23: 5,000억원이하 | AK23: 1.11 | AL23: 4.64
E25: (4) 감리대가 | J25: = | K25: =N6 -> 2812055000 | P25: × | Q25: =H23 -> 0.012625534 | V25: = | W25: =K25*Q25 -> 35503696 | AB25: 원
C28: 5. 기 초 금 액 : | I28: =ROUNDDOWN(W25,-6) -> 35000000 | O28: (VAT별도)
A32: ■ "공사감리" - 비상주 감리 적용
A33: ■ 엔지니어링 기술자 노임단가는 한국엔지니어링진흥협회가 통계법 제15조 규정에 의하여 공표한 노임단가임.

Sheet  7소방
A1: 소 방 감 리 용 역 비 산 출 내 역 서
A3: 용 역 명 | C3: =#REF!&" 신축공사 소방 감리용역" -> #REF!
A5: 공 사 개 요 | C5: 아파트 7개동, 500세대, 지하2층, 지상25층 / 지하주차장 및 부대·복리시설, 32개월
C6: 연면적 | F6: =#REF! -> #REF!
A7: 적 요 | C7: 소방감리 대가산정기준 : 소방시설공사업법 제25조 및 소방시설공사업법시행규칙 제21조 | P7: 별표 4] <개정 2007.1.24>
D8: 엔지니어링기술진흥법 제10조 중 "실비정액가산방식" 적용
C9: 감리원 배치기준 : 소방시설공사업법 제18조, 동법시행령 11조 및 동법시행규칙 제17조 | P9: 소방공사감리원의 배치기준(제11조관련)
A10: 구 분 | C10: 산 출 내 역 | K10: 금 액 | L10: 비 고
A11: 1. 직접인건비 | C11: 배치되는 감리원수(인*월) * 등급별 감리원 월임금 | K11: =SUM(K12:K13) -> 36545880 | L11: 제14조 | P11: 1. 연면적 20만 제곱미터 이상인 특정소방대상물 또는 지하층을 포함한 층수가
A12: 상 주 | D12: 인, | F12: 개월, | H12: 일/월, | J12: 원 | K12: =C12*E12*G12*I12 -> 0 | P12: 40층 이상인 특정소방대상물의 공사현장인 경우 : 별표 1 제3호 부표 2에 따
A13: 비상주 | B13: 특급(기술사) | C13: 1 | D13: 인, | E13: 24 | F13: 개월, | G13: 7 | H13: 일/월, | I13: =V33 -> 217535 | J13: 원 | K13: =C13*E13*G13*I13 -> 36545880 | P13: 른 특급감리원 중 소방기술사 자격을 취득한 자 1인 이상을 배치해야 한다.
A14: 2. 제 경 비 | C14: 직접인건비의 110~120% | K14: =K15 -> 40200468 | L14: 제16조 | P14: 2. 연면적이 3만 제곱미터 이상 20만 제곱미터 미만인 특정소방대상물(아파트
C15: =K11 -> 36545880 | J15: 1.1 | K15: =INT(C15*J15) -> 40200468 | P15: 는 제외한다) 또는 지하층을 포함한 층수가 16층 이상 40층 미만인 특정소방
A16: 3. 기 술 료 | C16: (직접인건비+제경비)의 20~40% | K16: =K17 -> 15349269 | L16: 제17조 | P16: 대상물의 공사현장인 경우 : 별표 1 제3호 부표 2에 따른 특급감리원 이상의
C17: =(K11+K14) -> 76746348 | J17: 0.2 | K17: =INT(C17*J17) -> 15349269 | P17: 소방감리원 1인 이상을 배치해야 한다.
A18: 4. 직 접 경 비 | C18: 가) + 나) + 다) + 라) | K18: =INT(SUM(K19:K24)) -> 3654588 | L18: 제15조 | P18: 3. 물분무등소화설비 또는 제연설비가 설치되는 특정소방대상물이나 연면적 3
A19: 가) 주 재 비 | C19: 상주 직접인건비의 30% | P19: 만 제곱미터 이상인 아파트의 공사현장의 경우 : 별표 1 제3호 부표 2에 따
C20: =SUM(K12:K12) -> 0 | J20: 0.3 | K20: =INT(C20*J20) -> 0 | P20: 른 고급감리원 이상의 소방감리원 1인 이상을 배치해야 한다.
A21: 나) 출 장 여 비 | C21: 비상주 직접인건비의 10% | P21: 4. 연면적 5천 제곱미터 이상 3만 제곱미터 미만이거나 지하층을 포함한 층수
C22: =K13 -> 36545880 | J22: 0.1 | K22: =INT(C22*J22) -> 3654588 | P22: 가 16층 미만인 특정소방대상물의 공사현장의 경우 : 별표 1 제3호 부표 2에
A23: 다) 도서인쇄비 | C23: 제외 | K23: 0 | P23: 따른 중급감리원 이상의 소방감리원 1인 이상을 배치해야 한다.
A24: 라) 현지차량비 | C24: 제외 | K24: 0 | P24: 5. 연면적 5천 제곱미터 미만인 특정소방대상물의 경우 : 별표 1 제3호 부표 2
A25: 5. 합 계 | C25: 1 + 2 + 3 + 4 | K25: =ROUNDDOWN(K11+K14+K16+K18,-6) -> 95000000 | P25: 에 따른 초급감리원 이상의 소방감리원 1인 이상을 배치해야 한다.
A26: 6. 기 초 금 액 | K26: =K25 -> 95000000 | L26: VAT 별도 | P26: 6. 지하구의 경우 : 별표 1 제3호 부표 2에 따른 초급감리원 이상의 소방감리
A27: □ 감리원 등급별 노임단가는 한국엔지니어링 진흥협회가 통계법 제15조 규정에 의하여 공표됨. | P27: 원 1인 이상을 배치해야 한다
P29: 2008.1.1적용
P30: 구 분 | Q30: 건설 및 기타
Q31: 2002년 | R31: 2003년 | S31: 2004년 | T31: 2005년 | U31: 2006년 | V31: 2007년
P32: 기 술 사 | Q32: 197001 | R32: 205071 | S32: 230020 | T32: 252897 | U32: 263837 | V32: 270525
P33: 특급기술자 | Q33: 162903 | R33: 158335 | S33: 177096 | T33: 196337 | U33: 204020 | V33: 217535
P34: 고급기술자 | Q34: 131950 | R34: 132936 | S34: 148224 | T34: 164387 | U34: 173417 | V34: 180902
P35: 중급기술자 | Q35: 108828 | R35: 111576 | S35: 123952 | T35: 139232 | U35: 146066 | V35: 150970
P36: 초급기술자 | Q36: 79518 | R36: 81676 | S36: 89202 | T36: 98848 | U36: 104129 | V36: 108805
P37: 고급기능사 | Q37: 98387 | R37: 95221 | S37: 107740 | T37: 110769 | U37: 114757 | V37: 125348
P38: 중급기능사 | Q38: 79392 | R38: 81499 | S38: 96271 | T38: 97468 | U38: 100340 | V38: 107821
P39: 초급기능사 | Q39: 65063 | R39: 60759 | S39: 72051 | T39: 73229 | U39: 77785 | V39: 85543
P40: 한국엔지니어링진흥협회 공고-엔지니어링업체임금실태조사보고서

Sheet 1개요(전기)
A1: 주택건설공사 감리자 모집에 따른 사업개요
A4: 1. 사업명
A5: ='1개요(건축)'!A5 -> #REF!
A7: 2. 대지위치
A8: ='1개요(건축)'!A8 -> #REF!
A10: 3. 사업주체
A11: ='1개요(건축)'!A11 -> #REF!
A12: ='1개요(건축)'!A12 -> #REF!
A14: 4. 설계자
A15: ='1개요(건축)'!A15 -> #REF!
A16: ='1개요(건축)'!A16 -> #REF!
A20: 5. 시공자
A21: ='1개요(건축)'!A20 -> #REF!
A22: ='1개요(건축)'!A21 -> #REF!
A24: ='1개요(건축)'!A23 -> #REF!
A25: ='1개요(건축)'!A24 -> #REF!
A27: 7. 사업개요
A28: ='1개요(건축)'!A27 -> - 대지면적 : | B28: ='1개요(건축)'!B27 -> #REF! | C28: ='1개요(건축)'!C27 -> #REF!
A29: ='1개요(건축)'!A28 -> - 연 면 적 : | B29: ='1개요(건축)'!B28 -> #REF! | C29: ='1개요(건축)'!C28 -> #REF! | D29: ="/용적율 "&#REF!*100&" %" -> #REF!
A30: - 건축면적 : | B30: ='1개요(건축)'!B29 -> #REF! | C30: ='1개요(건축)'!C29 -> #REF! | D30: ="/건폐율 "&#REF!*100&" %" -> #REF!
A31: ='1개요(건축)'!A30 -> - 사업규모 : | B31: ='1개요(건축)'!B30 -> #REF!
A32: - 공사(전기)기간 : 2015. 8. ~ 2016. 9.(14개월)
