Workbook

Sheet 산정표
B1: 아파트 사업비 개요 및 감리대가 산정표
B2: ● 공사비 개요
C3: 1. 총 사업비 | G3: =G4+G5+G6+G13+G10+G11+G12 -> #REF! | I3: 천원
C4: 2. 대 지 비 | G4: =총산출표!E22 -> 513187260 | I4: 천원
C5: 3. 기타사업비 | G5: =총산출표!E21 -> 367395721 | I5: 천원
C6: 4. 총건축 공사비(①+②+③) | G6: =G7+G8+G9 -> #REF! | I6: 천원
C7: ① 감리대상 공사비 | G7: =총산출표!F14 -> 5.6763819e+08 | I7: 천원
C8: ② 감리대상 제외 공사비 | G8: =총산출표!#REF! -> #REF! | I8: 천원
C9: ③ 타법감리(일반관리비, 이윤) | G9: =총산출표!H12+총산출표!H13 -> 0 | I9: 천원
C10: 5. 전기공사비 | G10: =총산출표!H8 -> 0 | I10: 천원
C11: 6. 정보통신 공사비 | G11: =총산출표!H9 -> 0 | I11: 천원
C12: 7. 소방설비공사비 | G12: =총산출표!H10 -> 0 | I12: 천원
C13: 8. VAT | G13: =총산출표!E23 -> 19987885 | I13: 천원
D14: ※ 감리비 산정을 위한 순수 공사비에는 부가가치세가 제외된 금액임
D15: ※ 주택법 시행규칙 제13조의 제1항 관련 별표4에 의한
D16: [나.건축공사비]는 제외하여 산출
D17: ※ 정보통신공사업 제8조 및 동법 시행령 제7조 규정에 의거 통신시설은 별도산정
B19: ● 사업 개요
C20: 1. 대지위치 : | E20: 경상북도 김천혁신도시 공동주택용지 Ac1블럭
C21: 2. 대지면적 : | E21: 31,533.7㎡ (9,538.94평)
C22: 3. 연 면 적 : | E22: 77,735.2087㎡ (23,514.90평)
C23: 4. 세 대 수 : | E23: 486세대
C24: 5. 규 모 : | E24: 아파트 6개동(20~25층) 및 부대복리시설
C25: 6. 공사기간 : | E25: 2014년 07월 01일 ~ 2016년 09월 30일
B27: ● 신청자 현황
C28: 1. 사업주체 주소 및 대표자
D29: 상호명 : | E29: EG건설㈜ 대표이사 김 용 상
D30: 주 소 : | E30: 광주광역시 동구 궁동 7-7번지 4층
C32: 2. 설계자 주소 및 대표자
D33: 상호명 : | E33: ㈜일우 엔지니어링 건축사사무소 안 길 전
D34: 주 소 : | E34: 광주광역시 동구 금동 211-10번지 코밀빌딩 6층
C36: 3. 시공자 주소 및 대표자
D37: 상호명 : | E37: ㈜남흥건설 대표이사 공 병 탁
D38: 주 소 : | E38: 전남 담양군 무정면 봉안리 632-1
B40: ● 감리인.월수 산정
C41: 총공사비(원) | E41: 50억원 | F41: 100억원 | G41: 200억원 | H41: 300억원 | I41: 500억원
C42: 감리인.월 | E42: 19.6 | F42: 38.1 | G42: 73.8 | H42: 109.9 | I42: 163.2
B44: ● 감리대상 공사비 : | F44: =G7 -> 5.6763819e+08 | G44: (천원)
B46: ● 감리인 월수 산정 | F46: 109.9 + ((163.2-109.9) × 123.46282/300) = 131.8
D47: - 상주 인 월수 : | F47: 131.8 × 85% = 112.0
D48: - 비상주 인 월수 : | F48: 131.8 × 15% = 19.8

Sheet 1.개요
A1: 주택건설공사 감리자 모집에 따른 사업개요(건축)
A3: 1. 사업명 : 인천 송도국제도시 Rc1블록 공동주택 신축공사
A5: 2. 신 청 자 현 황
A6: - 사업주체 : ㈜인천글로벌시티 대표 정근영
A7: 인천광역시 연수구 센트럴로263, 아이비에스빌딩 15층 1호(송도동) | G7: 032)203-5575
A9: - 시 공 자 : 미정
A22: - 설 계 자 : ㈜정안종합건축사사무소 대표 우순곤외 1인
A23: 서울특별시 강남구 선릉로 340, 대치이엠프라자 7층 | G23: 02)3443-7700
A25: 3. 사 업 개 요
A26: 구 분 | B26: 내 용
A27: 대지 위치 | B27: 인천광역시 연수구 송도동 557
A28: 대지 면적 | B28: 109,772.6m2(공동주택 109,500.70m2+공공기여 도로 221.90m2)
A29: 연면적 | B29: 314,006.53m2
A30: 규 모 | B30: 공동주택(아파트) 14개동(지하2층~지상44층) 및 부대·복리시설 및 근린생활시설
A31: 세대수 | B31: 아파트 1,700대
A32: 공사기간(예정) | B32: 2026. 09. 01. ~ 2030. 02. 28. (42개월)
A33: 사업계획승인일 | B33: 2026. 03. 18.
A35: 4. 공 사 개 요
A36: 1) 총사업비 | B36: : | C36: =총산출표!E24 -> 1544621889 | D36: 천원
A37: 2) 대지비 | B37: : | C37: =총산출표!E22 -> 513187260 | D37: 천원
A38: 3) 총공사비 | B38: : | C38: =총산출표!E14 -> 6.4405102e+08 | D38: 천원 | E38: (부가세별도)
A39: - 감리대상공사비 | B39: : | C39: =총산출표!F24 -> 5.6763819e+08 | D39: 천원 | E39: (일반관리비, 이윤포함)
A40: - 타법감리대상공사비 | B40: : | C40: =총산출표!G24 -> 76412833 | D40: 천원 | E40: (일반관리비, 이윤포함)
A41: 4) 전기공사비 | B41: : | C41: =+총산출표!J14 -> 40025770 | D41: 천원 | E41: (일반관리비, 이윤포함)
A42: 5) 정보통신공사비 | B42: : | C42: =+총산출표!K14 -> 14554825 | D42: 천원 | E42: (일반관리비, 이윤포함)
A43: 6) 소방공사비 | B43: : | C43: =+총산출표!L14 -> 21832238 | D43: 천원 | E43: (일반관리비, 이윤포함)

Sheet 총산출표
A1: 총 사업비 산출 총괄표
B3: ■ 현장명 : 인천 송도국제도시 Rc1블록 공동주택 신축공사 | H3: (단위:천원)
B4: 구 분 | C4: 공 종 | E4: 금 액 | F4: 건축감리 | G4: 타법감리 | H4: 감리제외공사비 | J4: 전기 | K4: 정보통신 | L4: 소방
B5: 총 공사비 | C5: 순 공사비 | D5: 토목공사 | E5: =F5+G5+H5 -> 57964592 | F5: ='공종별 총사업비 구성현황표'!E17 -> 57964592
D6: 건축공사 | E6: =F6+G6+H6 -> 3.9287112e+08 | F6: ='공종별 총사업비 구성현황표'!E41 -> 3.9287112e+08
D7: 기계설비공사 | E7: =F7+G7+H7 -> 51524082 | F7: ='공종별 총사업비 구성현황표'!E51 -> 51524082
D8: 전기공사 | E8: =F8+G8+H8 -> 35422806 | G8: ='공종별 총사업비 구성현황표'!F52 -> 35422806
D9: 정보통신공사 | E9: =G9 -> 12881020 | G9: ='공종별 총사업비 구성현황표'!F53 -> 12881020
D10: 소방설비공사 | E10: =G10 -> 19321531 | G10: ='공종별 총사업비 구성현황표'!F54 -> 19321531
D11: 소 계 | E11: =F11+G11+H11 -> 5.6998516e+08 | F11: =F5+F6+F7 -> 5.023598e+08 | G11: =SUM(G5:G10) -> 67625357 | H11: =SUM(H5:H10) -> 0 | J11: =+E8 -> 35422806 | K11: =+E9 -> 12881020 | L11: =+E10 -> 19321531
C12: 일반관리비 | E12: ='공종별 총사업비 구성현황표'!D56 -> 41863316 | F12: =$E12/$E$11*F$11 -> 36896482 | G12: =+E12-F12 -> 4966834.2 | J12: =$E12/$E$11*J$11 -> 2601675 | K12: =$E12/$E$11*K$11 -> 946063.65 | L12: =$E12/$E$11*L$11 -> 1419095.5
C13: 이 윤 | E13: ='공종별 총사업비 구성현황표'!D57 -> 32202551 | F13: =$E13/$E$11*F$11 -> 28381909 | G13: =+E13-F13 -> 3820641.7 | J13: =$E13/$E$11*J$11 -> 2001288.5 | K13: =$E13/$E$11*K$11 -> 727741.27 | L13: =$E13/$E$11*L$11 -> 1091611.9
C14: 소 계 | E14: =F14+G14+H14 -> 6.4405102e+08 | F14: =F11+F12+F13 -> 5.6763819e+08 | G14: =G11+G12+G13 -> 76412833 | H14: =H11+H12+H13 -> 0 | J14: =SUM(J11:J13) -> 40025770 | K14: =SUM(K11:K13) -> 14554825 | L14: =SUM(L11:L13) -> 21832238
B15: 간접비 | C15: 설계비 | E15: 10410348 | H15: =E15 -> 10410348
C16: 감리비 | E16: 12303139 | H16: =E16 -> 12303139
C17: 일반분양시설 경비 | E17: 36133489 | H17: =E17 -> 36133489
C18: 분담금 및 부담금 | E18: 14635460 | H18: =E18 -> 14635460
C19: 보상비 | H19: =E19 -> 0
C20: 기타사업비성 경비 | E20: 293913285 | H20: =E20 -> 293913285
C21: 소 계 | E21: =F21+G21+H21 -> 367395721 | F21: =SUM(F15:F20) -> 0 | G21: =SUM(G15:G20) -> 0 | H21: =SUM(H15:H20) -> 367395721
B22: 대 지 비 | E22: 513187260 | H22: =E22 -> 513187260
B23: 부가가치세액 | E23: 19987885 | H23: =E23 -> 19987885
B24: 총 사 업 비 계 | E24: =F24+G24+H24 -> 1544621889 | F24: =F23+F22+F21+F14 -> 5.6763819e+08 | G24: =G23+G22+G21+G14 -> 76412833 | H24: =H23+H22+H21+H14 -> 900570866
B26: 주 1: 순공사비(확장형공사비,옵션공사비 포함)란 재료비, 노무비, 경비를 합한 금액임
B27: 2 : 일반관리비와 이윤에 대한 정의 및 산정방법은 '원가계산에 의한 예정가격 작성준칙 (회계예규)'에 따름
B28: 3 : 부가가치세액의 정의와 산정방법은 '부가가치세법'에 따름
B29: 4 : 간접비란 사업비 중 총공사비를 제외한 설계비, 감리비, 일반분양시설경비 등 사업비성 경비를 말하며, 세부 비목은
B30: 다음과 같음
B31: · 일반분양시설경비 : 시공비, 운영비, 광고홍보비
B32: · 분담금 및 부담금 : 인입분담금(가스, 전기, 수도, 지역난방), 진입도로, 학교용지확보 부담금
B33: · 보상비 : 이주대책비, 이주 보상비
B34: · 기타 사업비성 경비 : 제세공과금, 측량·교통·환경 영향평가 수수료, 취득세, 등록세, 건물보존등기비 및 입주관리비,
B35: 감정평가 수수료, 분양 임대보증 및 하자보증수수료 등 기타 사업비성 경비
B36: · 대지비 : 대지구입비, 대지 구입 관련 금융비용 및 제세공과금

Sheet 공종별 총사업비 구성현황표
A1: 공종별 총사업비 구성 현황표
A2: =총산출표!B3 -> ■ 현장명 : 인천 송도국제도시 Rc1블록 공동주택 신축공사 | F2: (단위:천원)
A3: 구 분 | B3: 분 야 | C3: 공 종 | D3: 전 체 | E3: 건축감리 | F3: 타법감리
A4: 순 공사비 | B4: 토목 (13개공종) | C4: 토공사 | D4: 14375219 | E4: =+D4 -> 14375219
C5: 흙막이공사 | D5: 13042033 | E5: =+D5 -> 13042033
C6: 비탈면 보호공사 | D6: 0 | E6: =+D6 -> 0
C7: 옹벽공사 | D7: 0 | E7: =+D7 -> 0
C8: 석축공사 | D8: 0 | E8: =+D8 -> 0
C9: 우.오수 공사 | D9: 4521238.2 | E9: =+D9 -> 4521238.2
C10: 공동구공사 | D10: 0 | E10: =+D10 -> 0
C11: 지하저수조 및 급수공사 | D11: 2028760.7 | E11: =+D11 -> 2028760.7
C12: 도로포장공사 | D12: 5100884.1 | E12: =+D12 -> 5100884.1
C13: 교통안전시설물공사 | D13: 1043362.7 | E13: =+D13 -> 1043362.7
C14: 정화조 시설공사 | D14: 0 | E14: =+D14 -> 0
C15: 조경공사 | D15: 9506193.1 | E15: =+D15 -> 9506193.1
C16: 부대시설 공사 | D16: 8346901.3 | E16: =+D16 -> 8346901.3
C17: 소계 | D17: =SUM(E17:F17) -> 57964592 | E17: =SUM(E4:E16) -> 57964592
B18: 건축 (23개공종) | C18: 공통가설공사 | D18: 14614806 | E18: =+D18 -> 14614806
C19: 가시설물공사 | D19: 9153897.2 | E19: =+D19 -> 9153897.2
C20: 지정 및 기초공사 | D20: 31076106 | E20: =+D20 -> 31076106
C21: 철골공사 | D21: 3928711.2 | E21: =+D21 -> 3928711.2
C22: 철근콘크리트공사 | D22: 1.2937246e+08 | E22: =+D22 -> 1.2937246e+08
C23: 용접공사 | D23: 0 | E23: =+D23 -> 0
C24: 조적공사 | D24: 5185898.8 | E24: =+D24 -> 5185898.8
C25: 미장공사 | D25: 11039679 | E25: =+D25 -> 11039679
C26: 단열공사 | D26: 4832314.8 | E26: =+D26 -> 4832314.8
C27: 방수,방습공사 | D27: 12454015 | E27: =+D27 -> 12454015
C28: 목공사 | D28: 14025499 | E28: =+D28 -> 14025499
C29: 가구공사 | D29: 21293615 | E29: =+D29 -> 21293615
C30: 금속공사 | D30: 6364512.2 | E30: =+D30 -> 6364512.2
... C40: 잡공사 | D40: 6953818.9 | E40: =+D40 -> 6953818.9
C41: 소계 | D41: =SUM(E41:F41) -> 3.9287112e+08 | E41: =SUM(E18:E40) -> 3.9287112e+08
B42: 기계설비 (9개공종) | C42: 급수설비공사 | D42: 8882751.7 | E42: =+D42 -> 8882751.7
C43: 급탕설비공사 | D43: 7022732.4 | E43: =+D43 -> 7022732.4
C44: 오배수 및 통기설비공사 | D44: 5440943 | E44: =+D44 -> 5440943
C45: 위생기구공사 | D45: 5343047.3 | E45: =+D45 -> 5343047.3
C46: 승강기기계공사 | D46: 7280352.8 | E46: =+D46 -> 7280352.8
C47: 난방설비공사 | D47: 5219389.5 | E47: =+D47 -> 5219389.5
C48: 가스설비공사 | D48: 3895220.6 | E48: =+D48 -> 3895220.6
C49: 자동제어설비공사 | D49: 5219389.5 | E49: =+D49 -> 5219389.5
C50: 특수설비공사 | D50: 3220255.1 | E50: =+D50 -> 3220255.1
C51: 소계 | D51: =SUM(E51:F51) -> 51524082 | E51: =SUM(E42:E50) -> 51524082
B52: 전기(15개 공사) | D52: 35422806 | F52: =D52 -> 35422806
B53: 정보통신(8개 공사) | D53: 12881020 | F53: =D53 -> 12881020
B54: 소방설비(2개 공사) | D54: 19321531 | F54: =D54 -> 19321531
B55: 계 | D55: =E55+F55 -> 5.6998516e+08 | E55: =E17+E41+E51 -> 5.023598e+08 | F55: =F52+F53+F54 -> 67625357
A56: 일반관리비 | D56: 41863316 | E56: =$D56/$D$55*$E$55 -> 36896482 | F56: =D56-E56 -> 4966834.2
A57: 이윤 | D57: 32202551 | E57: =$D57/$D$55*$E$55 -> 28381909 | F57: =D57-E57 -> 3820641.7
A58: 총공사비 계 | D58: =SUM(E58:F58) -> 6.4405102e+08 | E58: =E57+E56+E54+E53+E52+E51+E41+E17 -> 5.6763819e+08 | F58: =F57+F56+F54+F53+F52+F51+F41+F17 -> 76412833

Sheet 예정공정표(감리배치계획)
A4: ▣ 현 장 명 : 송도11공구 RC1BL 공동주택 및 부대시설 신축공사
A5: ▣ 착공예정일 : 2026년 09월 01일
A6: ▣ 공 사 기 간 : 2026년 09월 01일~ 2030년 02월 28일 (42개월)
A8: 년도 | B8: 2026 | V8: 2027 | BF8: 2028 | CP8: 2029 | DZ8: 2030 | EF8: 비고
A9: 월 | B9: 6 | D9: =+B9+1 -> 7 | G9: =D9+1 -> 8 | J9: =G9+1 -> 9 | M9: =J9+1 -> 10 | P9: =M9+1 -> 11 | S9: =P9+1 -> 12 | V9: 1 | Y9: 2 | AB9: 3 | AE9: =AB9+1 -> 4 | AH9: =AE9+1 -> 5 | AK9: =AH9+1 -> 6 | AN9: =AK9+1 -> 7 | AQ9: =AN9+1 -> 8 | AT9: =AQ9+1 -> 9 | AW9: =AT9+1 -> 10 | AZ9: =AW9+1 -> 11 | BC9: =AZ9+1 -> 12 | BF9: 1 | BI9: 2 | BL9: 3 | BO9: =BL9+1 -> 4 | BR9: =BO9+1 -> 5 | BU9: =BR9+1 -> 6 | BX9: =BU9+1 -> 7 | CA9: =BX9+1 -> 8 | CD9: =CA9+1 -> 9 | CG9: =CD9+1 -> 10 | CJ9: =CG9+1 -> 11 | CM9: =CJ9+1 -> 12 | CP9: 1 | CS9: 2 | CV9: 3 | CY9: 4 | DB9: 5 | DE9: 6 | DH9: 7 | DK9: 8 | DN9: 9 | DQ9: 10 | DT9: 11 | DW9: 12 | DZ9: 1 | EC9: 2
A10: 개월수 | J10: 1 | M10: =J10+1 -> 2 | P10: =M10+1 -> 3 | S10: =P10+1 -> 4 | V10: =S10+1 -> 5 | Y10: =V10+1 -> 6 | AB10: =Y10+1 -> 7 | AE10: =AB10+1 -> 8 | AH10: =AE10+1 -> 9 | AK10: =AH10+1 -> 10 | AN10: =AK10+1 -> 11 | AQ10: =AN10+1 -> 12 | AT10: =AQ10+1 -> 13 | AW10: =AT10+1 -> 14 | AZ10: =AW10+1 -> 15 | BC10: =AZ10+1 -> 16 | BF10: =BC10+1 -> 17 | BI10: =BF10+1 -> 18 | BL10: =BI10+1 -> 19 | BO10: =BL10+1 -> 20 | BR10: =BO10+1 -> 21 | BU10: =BR10+1 -> 22 | BX10: =BU10+1 -> 23 | CA10: =BX10+1 -> 24 | CD10: =CA10+1 -> 25 | CG10: =CD10+1 -> 26 | CJ10: =CG10+1 -> 27 | CM10: =CJ10+1 -> 28 | CP10: =CM10+1 -> 29 | CS10: =CP10+1 -> 30 | CV10: =CS10+1 -> 31 | CY10: =CV10+1 -> 32 | DB10: =CY10+1 -> 33 | DE10: =DB10+1 -> 34 | DH10: =DE10+1 -> 35 | DK10: =DH10+1 -> 36 | DN10: =DK10+1 -> 37 | DQ10: =DN10+1 -> 38 | DT10: =DQ10+1 -> 39 | DW10: =DT10+1 -> 40 | DZ10: =DW10+1 -> 41 | EC10: =DZ10+1 -> 42
A11: 전체공정 | EF11: 2026.09.01.~2030.02.28. (42개월)
A14: 건축공사 | EF14: 2027.02.01.~2030.02.28. (37개월)
A17: 구조체공사 | EF17: 2027.02.01.~2029.03.31. (26개월)
A20: 토목공사 | EF20: 2026.09.01.~2027.10.31.(14개월) 2028.04.01~2028.12.31(9개월) 2029.04.01~2030.02.28(11개월) (총 34개월)
A23: 조경공사 | EF23: 2029.04.08~ 2030.02.07 (10개월)
A28: 설비공사 | EF28: 2027.02.01.~2030.02.28. (37개월)
A31: 전기공사 | EF31: 2025.05.01~2027.11.30 (31개월)
