Workbook
Name _1행열변환_1_.행열변환_1: [1]!'[행열변환_1].행열변환_1'
Name _1행열변환_1_.행열변환_1: [1]!'[행열변환_1].행열변환_1'
Name _2행열변환_2_.행열변환_2: [1]!'[행열변환_2].행열변환_2'
Name _2행열변환_2_.행열변환_2: [1]!'[행열변환_2].행열변환_2'
Name _3행열변환_3_.행열변환_3: [1]!'[행열변환_3].행열변환_3'
Name _3행열변환_3_.행열변환_3: [1]!'[행열변환_3].행열변환_3'
Name _4행열변환_4_.행열변환_4: [1]!'[행열변환_4].행열변환_4'
Name _4행열변환_4_.행열변환_4: [1]!'[행열변환_4].행열변환_4'
Name \a: #N/A
Name CODESUM3: [2]!CODESUM3
Name CODESUM3: [2]!CODESUM3
Name Macro1: [3]!Macro1
Name Macro1: [3]!Macro1
Name MACRO3: [4]!MACRO3
Name MACRO3: [4]!MACRO3
Name PRINT_AREA_MI: [5]Sheet2!#REF!
Name PRINT_AREA_MI: [5]Sheet2!#REF!
Name PRINT_AREA_MI: [5]Sheet2!#REF!
Name PRINT_AREA_MI: [5]Sheet2!#REF!
Name PRINT_AREA_MI: [5]Sheet2!#REF!
Name PRINT_AREA_MI: [5]Sheet2!#REF!
Name SUM_A: [2]!SUM_A
Name SUM_A: [2]!SUM_A
Name 개발비: [6]사업성분석!#REF!
Name 개발비: [6]사업성분석!#REF!
Name 개발비: [6]사업성분석!#REF!
Name 개발비: [6]사업성분석!#REF!
Name 개발비: [6]사업성분석!#REF!
Name 개발비: [6]사업성분석!#REF!
Name 건축비용: [7]!건축비용
Name 건축비용: [7]!건축비용
Name 계수나눈값: [8]계수!$E$1
Name 계수나눈값: [8]계수!$E$1
Name 계수나눈값: [9]계수!$E$1
Name 계수나눈값: [10]계수!$E$1
Name 계수나눈값: [11]계수!$E$1
Name 계수영역: [8]계수!$A$2:$C$13
Name 계수영역: [8]계수!$A$2:$C$13
Name 계수영역: [9]계수!$A$2:$C$13
Name 계수영역: [10]계수!$A$2:$C$13
Name 계수영역: [11]계수!$A$2:$C$13
Name 계약금: '[12]1-최종안'!$G$13
Name 공영정산: [6]사업성분석!#REF!
Name 공영정산: [6]사업성분석!#REF!
Name 공영정산: [6]사업성분석!#REF!
Name 공영정산: [6]사업성분석!#REF!
Name 공영정산: [6]사업성분석!#REF!
Name 공영정산: [6]사업성분석!#REF!
Name 금융2: #REF!
Name 금융2: #REF!
Name 금융2: #REF!
Name 금융2: #REF!
Name 금융2: #REF!
Name 금융2: #REF!
Name 기타자료: [7]!기타자료
Name 기타자료: [7]!기타자료
Name 당사광고: [13]사업수지!$H$77
Name 당사모델운영: [13]사업수지!$H$78
Name 당사사업추진: [13]사업수지!$H$79
Name 대여이자: [6]사업성분석!#REF!

Sheet 1개요(건축)
A1: 주택건설공사 감리자 모집에 따른 사업개요
A4: 1. 사업명
A5: =#REF!&" 신축공사" -> #REF!
A7: 2. 대지위치
A8: =#REF! -> #REF!
A10: 3. 사업주체
A11: =#REF! -> #REF!
A12: =#REF!&" 대표이사 "&#REF!&" (☎"&#REF!&")" -> #REF!
A14: 4. 설계자
A15: =#REF! -> #REF!
A16: =#REF!&" 대표이사 "&#REF!&" (☎"&#REF!&")" -> #REF!
A17: ='1.건축감리비산출금액'!#REF! -> #REF!
A18: ='1.건축감리비산출금액'!#REF!&" 대표이사 한주엽"&" ("&'1.건축감리비산출금액'!#REF!&")" -> #REF!
A19: 5. 시공자
A20: =A11 -> #REF!
A21: =A12 -> #REF!
A23: ="6. 주택건설사업계획승인신청일 : "&#REF! -> #REF!
A24: =" 주택건설사업계획승인일 : "&#REF! -> #REF!
A26: 7. 사업개요
A27: - 대지면적 : | B27: =#REF! -> #REF! | C27: =B27*0.3025 -> #REF!
A28: - 연 면 적 : | B28: =#REF! -> #REF! | C28: =B28*0.3025 -> #REF! | D28: ="/용적율 "&#REF!*100&" %" -> #REF!
A29: - 건축면적 : | B29: =#REF! -> #REF! | C29: =B29*0.3025 -> #REF! | D29: ="/건폐율 "&#REF!*100&" %" -> #REF!
A30: - 사업규모 : | B30: =#REF! -> #REF!
A31: - 공사기간 : | B31: =#REF! -> #REF!
A32: - 평형별 세대수 및 단위면적
A33: 형별 | B33: 세대수 | C33: 전용면적(㎡) | D33: 공급면적(㎡)
A34: =D34 -> 109.2869 | B34: 280 | C34: 84.9959 | D34: 109.2869
A35: =D35 -> 109.9801 | B35: 280 | C35: 84.999 | D35: 109.9801
A36: =D36 -> 109.9393 | B36: 88 | C36: 84.999 | D36: 109.9393
A40: 계 | B40: =SUM(B34:B39) -> 648
A42: 8. 사업비
A43: - 총사업비 : | B43: =#REF! -> #REF! | C43: 천원
A44: - 대 지 비 : | B44: =#REF! -> #REF! | C44: 천원
A45: - 순공사비 : | B45: ='2.산출총괄표(건축)'!D11 -> 50156260 | C45: 천원
A46: 구 분 | C46: 금 액
A47: 감리대상 공사비 | C47: ='2.산출총괄표(건축)'!F11 -> 42247876
A48: 감리대상 제외공사비 | C48: 0 천원
A49: 타법감리 대상공사비 | C49: ='2.산출총괄표(건축)'!H11 -> 7908384
A50: 총 계 | C50: =SUM(C47:D49) -> 50156260
A52: - 타법감리, 이윤 및 일반관리비
A53: 구 분 | C53: 금 액
A54: 전 기 공 사 비 | C54: ='2.산출총괄표(건축)'!H8 -> 3491560
A55: 정보통신 공사비 | C55: ='2.산출총괄표(건축)'!H9 -> 1920358
A56: 소 방 공 사 비 | C56: ='2.산출총괄표(건축)'!H10 -> 2496466
A57: 이윤 및 일반관리비 | C57: =SUM('2.산출총괄표(건축)'!D12:D13) -> 8036408
A58: 총 계 | C58: =SUM(C54:D57) -> 15944792

Sheet 2산출서(건축)
A1: =#REF!&" 신축공사 감리비 산출서" -> #REF!
A3: ※ 감리대가 산정
A4: 1. 건축공사 감리비
B5: 총공사비(원) | C5: 100억원 | D5: 200억원 | E5: 500억원 | F5: 1,000억원 | G5: 2,000억원 | H5: 3,000억원
B6: 감리인.월 | C6: 38.1 | D6: 73.8 | E6: 163.2 | F6: 277 | G6: 472 | H6: 645.2
B8: 총공사비(원) | C8: 300억원 | D8: 500억원 | E8: 1,000억원 | F8: 2,000억원 | G8: 3,000억원 | H8: 비 고
B9: 요 율 | C9: 2.69 | D9: 2.39 | E9: 2.33 | F9: 2.3 | G9: 2.24 | I9: 2008.4.1변경
A10: - 건축공사비 : 126,478,217 | B10: ='2.산출총괄표(건축)'!F14 -> 49017144 | C10: 천원(VAT제외금액)
B12: ※ 총 인.월수(직선보간법으로 산정, 소수점3째자리에서 반올림)
B13: → 직선보간법 : | C13: ='1.건축감리비산출금액'!P36&"+ (("&B10/100000&"-"&'1.건축감리비산출금액'!I36/100000&")×("&'1.건축감리비산출금액'!P38&"-"&'1.건축감리비산출금액'!P36&")/("&'1.건축감리비산출금액'!O38/100000&"-"&'1.건축감리비산출금액'!O36/100000&")) = " -> 109.9+ ((490.17144-300)×(163.2-109.9)/(500-300)) = | H13: =ROUND('1.건축감리비산출금액'!P36+ ((B10/100000-'1.건축감리비산출금액'!I36/100000)*('1.건축감리비산출금액'!P38-'1.건축감리비산출금액'!P36)/('1.건축감리비산출금액'!O38/100000-'1.건축감리비산출금액'!O36/100000)),3) -> 160.581
B15: ※ 공사비 요율(직선보간법으로 산정, 소수점5째자리에서 반올림)
B16: → 직선보간법 : | C16: ='1.건축감리비산출금액'!J36&" - (("&'1.건축감리비산출금액'!I37/100000&"-"&'1.건축감리비산출금액'!I36/100000&")×("&'1.건축감리비산출금액'!J36&"-"&'1.건축감리비산출금액'!J38&")/("&'1.건축감리비산출금액'!I38/100000&"-"&'1.건축감리비산출금액'!I36/100000&")) = " -> 0.0269 - ((490.17144-300)×(0.0269-0.0239)/(500-300)) = | H16: =ROUND('1.건축감리비산출금액'!J36-(('1.건축감리비산출금액'!I37/100000-'1.건축감리비산출금액'!I36/100000)*('1.건축감리비산출금액'!J36-'1.건축감리비산출금액'!J38)/('1.건축감리비산출금액'!I38/100000-'1.건축감리비산출금액'!I36/100000)),6) -> 0.024047
B18: ※ 감리비산정 : | C18: =B10&" X "&H16&" = " -> 49017144 X 0.024047 = | E18: =ROUNDDOWN(B10*H16,0) -> 1178715 | F18: 천원(VAT미포함)
B19: 126,478,217 × 2.6594% × 1.1 ≒ 3,699,917천원(VAT포함) | C19: =B10&" X "&H16&" *1.1 = " -> 49017144 X 0.024047 *1.1 = | E19: =B10*H16*1.1 -> 1296586.8 | F19: 천원(VAT포함)
A21: 2. 타법공사 관리비
A22: - 전기공사중 감리대상 공사비
A23: * 근거 : 전력기술 관리법 운영요령
A24: 산업자원부 고시 제 2005-7호(제12호) 의거
A25: 적용일 : 2005년 4월 1일 부터 시행
A26: - 정액가산방식 : 공동주택 300세대 이하 시만 적용
A27: * 당 현장 규모가 648세대 이므로 실비정액 가산 방식 적용(300~800세대 범위)
A28: - 책임감리 : 특급 1명
A29: - 산 출 : (개월수 × 특급임금) → 직접인건비 산출
A30: - 임금적용 : 고급 감리원 임금적용
A32: - 전기공사 감리비 산정 : | C32: =#REF!/1000 -> #REF! | D32: (VAT제외)
C33: =C32*1.1 -> #REF! | D33: (VAT포함)
A34: - 소방설비공사 감리비 산정 : | C34: =' 7소방'!K26/1000 -> 95000 | D34: (VAT제외)
A35: 674,000천원(VAT포함) | C35: =C34*1.1 -> 104500 | D35: (VAT포함)
A36: - 정보통신공사 감리비 산정 : | C36: ='6정보통신'!I28/1000 -> 26000 | D36: (VAT제외)
A37: 37,400천원(VAT포함) | C37: =C36*1.1 -> 28600 | D37: (VAT포함)
B38: ※ 타법공사 감리비 계 | D38: =C32+C34+C36 -> #REF! | E38: (VAT제외)
B39: 1,335,800천원(VAT포함) | D39: =C33+C35+C37 -> #REF! | E39: (VAT포함)

Sheet 1.건축감리비산출금액
A1: 영종국제도시 화성프크드림 2차 신축공사 감리비 산출서
F2: (단위 : 천원)
A3: 구 분 | D3: 내용
B4: 건축물의 명칭 | D4: 영종국제도시 화성파크드림 2차
A5: 사업개요 | B5: 대 지 위 치 | D5: 인천광역시 중구 운남동 1766-2
B6: 사업승인(변경)신청일 | D6: 43200 | E6: 사업(변경)승인일 | F6: 43286
B7: 사업주체 | D7: ㈜화성개발 | E7: 대표이사:도훈찬 | F7: ☎053-715-3061
D8: 대구광역시 북구 원대로 130, 파크드림갤러리
B9: 설계자 | D9: ㈜종합건축사무소 남양 | E9: 대표이사:임봉수 | F9: ☎053-741-1544
D10: 대구광역시 수성구 국채보상로 870
B11: 시공자 | D11: ㈜화성개발 | E11: 대표이사:도훈찬 | F11: ☎053-715-3061
D12: 대구광역시 북구 원대로 130, 파크드림갤러리
B13: 대 지 면 적 | D13: 31106 | E13: 연 면 적 | F13: 68704.456 | G13: =F13*0.3025 -> 20783.098 | I13: 평
B14: 규 모 | D14: 지하1층~지상21층 499세대, 근린생활시설 및 부대시설
B15: 사업기간 | D15: 2020.5. ~ 2022.9. (29개월) | G15: =#REF! -> #REF!
A16: 구 분 | D16: 감리비 내역 | E16: 구 성 비 | F16: 비 고
A17: 총 사 업 비 | D17: 170310912 | E17: =D17/D17 -> 1
A18: 제외공사비 | B18: 대 지 비 | D18: 44912968 | E18: =D18/$D$17 -> 0.26371163
B19: 부가가치세액 | D19: 4104899 | E19: =D19/$D$17 -> 0.024102384
B20: 간 접 비 | D20: 63100377 | E20: =D20/$D$17 -> 0.37050108
B21: 감리제외대상공사비 | D21: ='2.산출총괄표(건축)'!G11 -> 0 | E21: =D21/$D$17 -> 0 | I21: [표] 주택건설공사 감리비 지급기준 공사비 요율 | O21: 감리인.월수 산정
B22: 타법적용 | C22: 전력관리 | D22: ='2.산출총괄표(건축)'!H8 -> 3491560 | E22: =D22/$D$17 -> 0.020501094 | I22: 총 공사비 | J22: 기준요율 | O22: 총공사비(원) | P22: 감리인.월
C23: 정보통신 | D23: ='2.산출총괄표(건축)'!H9 -> 1920358 | E23: =D23/$D$17 -> 0.011275602 | I23: 2000000 | J23: 0.0315 | O23: 2000000 | P23: 12.1
C24: 소 방 | D24: ='2.산출총괄표(건축)'!H10 -> 2496466 | E24: =D24/$D$17 -> 0.014658286 | I24: 3000000 | J24: 0.0305 | O24: 3000000 | P24: 15.5
B25: 일반관리비 | D25: ='2.산출총괄표(건축)'!G12+'2.산출총괄표(건축)'!H12 -> 1065278 | E25: =D25/$D$17 -> 0.0062549016 | I25: 5000000 | J25: 0.0298 | O25: 5000000 | P25: 19.6
B26: 이 윤 | D26: ='2.산출총괄표(건축)'!G13+'2.산출총괄표(건축)'!H13 -> 201862 | E26: =D26/$D$17 -> 0.0011852558 | I26: 10000000 | J26: 0.029 | O26: 10000000 | P26: 38.1
I27: 15000000 | J27: 0.0286 | O27: 20000000 | P27: 73.8
B28: 소 계 | D28: =SUM(D18:D27) -> 121293768 | E28: =SUM(E18:E27) -> 0.71219023 | I28: 20000000 | J28: 0.0282 | O28: 30000000 | P28: 109.9
A29: 감리대상공사비 | D29: ='2.산출총괄표(건축)'!F14 -> 49017144 | E29: =D29/D17 -> 0.28780977 | F29: 발코니확장공사비 포함 | I29: 30000000 | J29: 0.0269 | K29: 2008.4.1변경 | O29: 50000000 | P29: 163.2
A30: 건축감리 대가(부가세별도) | D30: ='2.산출총괄표(건축)'!G16 -> 1178715 | F30: =D36 -> 0.024047 | G30: =D30/(F13*0.3025) -> 56.715077 | I30: 50000000 | J30: 0.0239 | O30: 100000000 | P30: 277
A31: 건축감리 대가(부가세포함) | D31: =ROUND(D30*1.1,0) -> 1296587 | G31: =D31/(F13*0.3025) -> 62.386609 | I31: 100000000 | J31: 0.0233 | O31: 200000000 | P31: 472
A32: * 감리비 요율 직선보간 | I32: 200000000 | J32: 0.023 | O32: 300000000 | P32: 645.2
A33: 구 분 | D33: 감리비요율 | E33: 비 고 | I33: 300000000 | J33: 0.0224
A34: 기준 공사비 | D34: =J36 -> 0.0269 | E34: =I36/100000 -> 300
D35: =J38 -> 0.0239 | E35: =I38/100000 -> 500 | I35: 공사비 | J35: 기준요율 | K35: 비고 | O35: 공사비 | P35: 기준요율 | Q35: 비고
A36: 감리대상 공사비 | D36: =F39 -> 0.024047 | E36: 직선보간 | I36: =VLOOKUP(I37,I23:J33,1) -> 30000000 | J36: =VLOOKUP(I37,I23:J33,2) -> 0.0269 | K36: 전 | O36: =VLOOKUP(O37,O23:P33,1) -> 30000000 | P36: =VLOOKUP(O37,O23:P33,2) -> 109.9 | Q36: 전
A37: * 감리비 요율 산출근거 | I37: =D29 -> 49017144 | J37: =ROUND(J36-((D29-I36)*(J36-J38)/(I38-I36)),6) -> 0.024047 | K37: 적용 | O37: =D29 -> 49017144 | P37: =ROUND(P36-((D29-O36)*(P36-P38)/(O38-O36)),4) -> 160.5807 | Q37: 적용
A38: ="당해요율 = "&E34&"억원요율 - ((당해공사비 - "&E34&"억원)*("&E34&"억원 요율 - "&E35&"억원 요율)/("&E35&"억원-"&E34&"억원)" -> 당해요율 = 300억원요율 - ((당해공사비 - 300억원)*(300억원 요율 - 500억원 요율)/(500억원-300억원) | I38: =OFFSET(I$22,MATCH(I36,I23:I33,0)+1,0) -> 50000000 | J38: =OFFSET(J$22,MATCH(J36,J23:J33,0)+1,0) -> 0.0239 | K38: 후 | O38: =OFFSET(O$22,MATCH(O36,O23:O33,0)+1,0) -> 50000000 | P38: =OFFSET(P$22,MATCH(P36,P23:P33,0)+1,0) -> 163.2 | Q38: 후
B39: =J36*100&"%-((" -> 2.69%-(( | C39: =D29/100000&"억원" -> 490.17144억원 | D39: ="-"&E34&"억원)*("&J36*100&"%-"&J38*100&"%)/("&E35&"억원-"&E34&"억원))=" -> -300억원)*(2.69%-2.39%)/(500억원-300억원))= | F39: =ROUND(J36-((D29-I36)*(J36-J38)/(I38-I36)),6) -> 0.024047 | J39: 직선보간 | P39: 직선보간
A40: *감리인.월수 산출근거
A41: ="감리인.월수 = "&O38/100000&"억원 인.월수 - (( "&O38/100000&"억원 - 당해공사비)*("&O38/100000&"억원 인.월수 - "&O36/100000&"억원 인.월수)/("&O38/100000&"억원-"&O36/100000&"억원)" -> 감리인.월수 = 500억원 인.월수 - (( 500억원 - 당해공사비)*(500억원 인.월수 - 300억원 인.월수)/(500억원-300억원)
B42: =P38&"인월-((" -> 163.2인월-(( | C42: =O38/100000&"억원 - " -> 500억원 - | D42: =D29/100000&"억원)*("&P38&"-"&P36&")/("&O38/100000&"억원-"&O36/100000&"억원))=" -> 490.17144억원)*(163.2-109.9)/(500억원-300억원))= | F42: =ROUND(P38-((O38-D29)*(P38-P36)/(O38-O36)),2) -> 160.58 | I42: =(J37-J36)/(I37-I36) -> -1.5002253e-10
A43: * 부가가치세 산출 근거 : | C43: (공사비*과세율 + 간접비) * 0.1 | F43: (단위 : 천원) | I43: =(J38-J37)/(I38-I37) -> -1.4956413e-10
A44: 공 사 비 | C44: 과세율 | D44: 간 접 비 | E44: 부가가치세금액 | I44: =(J38-J36)/(I38-I36) -> -1.5e-10
A45: ='2.산출총괄표(건축)'!D14 -> 58192668 | C45: 0.0046756385 | D45: ='2.산출총괄표(건축)'!D15+'2.산출총괄표(건축)'!D16+'2.산출총괄표(건축)'!D17+'2.산출총괄표(건축)'!D20 -> 40776905 | E45: =ROUNDDOWN((A45*C45+D45)*0.1,0) -> 4104899
C47: 용도 | D47: 면적
C48: 주거 비과세 | D48: =D55-D53 -> #REF! | E48: =D48/$D$54 -> #REF! | F48: 비과세
C49: 주거 과세 | D49: 0 | E49: =D49/$D$54 -> #REF! | F49: 과세
E50: =D50/$D$54 -> #REF!
C51: 오피스텔 | D51: 0 | E51: =D51/$D$54 -> #REF! | F51: 과세
C52: 업무 | D52: 0 | E52: =D52/$D$54 -> #REF! | F52: 과세
C53: 근생 | D53: 321.2372 | E53: =D53/$D$54 -> #REF! | F53: 과세
C54: 계 | D54: =SUM(D48:D53) -> #REF! | E54: =D54/$D$54 -> #REF!
C55: 연면적 | D55: =#REF! -> #REF! | E55: =D55/$D$54 -> #REF!

Sheet 2.산출총괄표(건축)
A1: [별지 제1호 서식]
A2: 총 사업비 산출 총괄표
H3: 단위 : 천원
A4: 구 분 | D4: 전 체 | E4: 구성비 | F4: 감리대상 | G4: 감리제외 | H4: 타법감리
A5: 총공사비 | B5: 순공사비 | C5: 토목공사 | D5: ='3.구성현황표(건축)'!D19 -> 4015294 | E5: =D5/D24 -> 0.023576258 | F5: ='3.구성현황표(건축)'!E19 -> 4015294 | G5: ='3.구성현황표(건축)'!F19 -> 0 | H5: ='3.구성현황표(건축)'!G19 -> 0
C6: 건축공사 | D6: ='3.구성현황표(건축)'!D48 -> 32296931 | E6: =D6/$D$24 -> 0.18963512 | F6: ='3.구성현황표(건축)'!E48 -> 32296931 | G6: ='3.구성현황표(건축)'!F48 -> 0 | H6: ='3.구성현황표(건축)'!G48 -> 0
C7: 기계설비공사 | D7: ='3.구성현황표(건축)'!D60 -> 5935651 | E7: =D7/$D$24 -> 0.034851854 | F7: ='3.구성현황표(건축)'!E60 -> 5935651 | G7: ='3.구성현황표(건축)'!F60 -> 0 | H7: ='3.구성현황표(건축)'!G60 -> 0
C8: 전기공사 | D8: ='3.구성현황표(건축)'!D61 -> 3491560 | E8: =D8/$D$24 -> 0.020501094 | F8: ='3.구성현황표(건축)'!E61 -> 0 | G8: ='3.구성현황표(건축)'!F61 -> 0 | H8: ='3.구성현황표(건축)'!G61 -> 3491560
C9: 정보통신공사 | D9: ='3.구성현황표(건축)'!D62 -> 1920358 | E9: =D9/$D$24 -> 0.011275602 | F9: ='3.구성현황표(건축)'!E62 -> 0 | G9: ='3.구성현황표(건축)'!F62 -> 0 | H9: ='3.구성현황표(건축)'!G62 -> 1920358
C10: 소방설비공사 | D10: ='3.구성현황표(건축)'!D63 -> 2496466 | E10: =D10/$D$24 -> 0.014658286 | F10: ='3.구성현황표(건축)'!E63 -> 0 | G10: ='3.구성현황표(건축)'!F63 -> 0 | H10: ='3.구성현황표(건축)'!G63 -> 2496466
C11: 소 계 | D11: =SUM(D5:D10) -> 50156260 | E11: =D11/$D$24 -> 0.29449822 | F11: =SUM(F5:F10) -> 42247876 | G11: =SUM(G5:G10) -> 0 | H11: =SUM(H5:H10) -> 7908384
B12: 일반관리비 | D12: ='3.구성현황표(건축)'!D64 -> 6756169 | E12: =D12/$D$24 -> 0.039669619 | F12: ='3.구성현황표(건축)'!E64 -> 5690891 | G12: ='3.구성현황표(건축)'!F64 -> 0 | H12: ='3.구성현황표(건축)'!G64 -> 1065278
B13: 이 윤 | D13: ='3.구성현황표(건축)'!D65 -> 1280239 | E13: =D13/$D$24 -> 0.0075170697 | F13: ='3.구성현황표(건축)'!E65 -> 1078377 | G13: ='3.구성현황표(건축)'!F65 -> 0 | H13: ='3.구성현황표(건축)'!G65 -> 201862
B14: 소 계 | D14: =D11+D12+D13 -> 58192668 | E14: =D14/D24 -> 0.34168491 | F14: =F11+F12+F13 -> 49017144 | G14: =G11+G12+G13 -> 0 | H14: =H11+H12+H13 -> 9175524
A15: 간 접 비 | B15: 설 계 비 | D15: 689075 | E15: =D15/$D$24 -> 0.0040459827 | G15: =D15 -> 689075
B16: 감 리 비 | D16: =F16+G16+H16 -> 1729573 | E16: =D16/$D$24 -> 0.010155386 | G16: =ROUNDDOWN(F14*'1.건축감리비산출금액'!F30,0) -> 1178715 | H16: =400858+150000 -> 550858
B17: 일반분양시설경비 | D17: 35423099 | E17: =D17/$D$24 -> 0.20799078 | G17: =D17 -> 35423099
B18: 분담금 및 부담금 | D18: 22323472 | E18: =D18/$D$24 -> 0.13107482 | G18: =D18 -> 22323472
B19: 보 상 비 | D19: 0 | E19: =D19/$D$24 -> 0 | G19: =D19 -> 0
B20: 기타 사업비성 경비 | D20: 2935158 | E20: =D20/$D$24 -> 0.017234116 | G20: =D20 -> 2935158
B21: 소 계 | D21: =SUM(D15:D20) -> 63100377 | E21: =D21/D24 -> 0.37050108 | F21: =SUM(F15:F20)-F16 -> 0 | G21: =SUM(G15:G20) -> 62549519 | H21: =SUM(H15:H20) -> 550858
A22: 대 지 비 | D22: 44912968 | E22: =D22/D24 -> 0.26371163 | F22: =D22-G22-H22 -> 0 | G22: =D22 -> 44912968
A23: 부가가치세액 | D23: 4104899 | E23: =D23/D24 -> 0.024102384 | F23: =D23-G23-H23 -> 0 | G23: =D23 -> 4104899
A24: 총사업비 계 | D24: =D14+D21+D22+D23 -> 170310912 | E24: =D24/D24 -> 1 | F24: =F14+F21+F22+F23 -> 49017144 | G24: =G14+G21+G22+G23 -> 111567386 | H24: =H14+H21+H22+H23 -> 9726382
A25: 주 1. 순공사비란 : 재료비,노무비,경비를 합한 금액임
A26: 2. 일반관리비와 이윤에 대한 정의 및 산정방법은 "원가계산에 의한 예정가격 작성준칙(예산회계)"에 따름
A27: 3. 부가가치 세액의 정의와 산정방법은 "부가가치세법"에 따름
A28: 4. 간접비란 사업비 중 총 공사비를 제외한 설계비,감리비, 일반분양시설 경비등 사업비성 경비를 말하며, 세부
A29: 비목은 다음과 같음
A30: - 일반 분양시설 경비 : 시공비,운영비,광고홍보비
A31: - 분담금 및 부담금 : 인입분담금(가스,전기,수도,지역난방),진입도로,학교용지확보 부담금
A32: - 보상비 : 이주대책비,이주보상비
A33: - 기타 사업비성 경비 : 제세공과금,측량.교통.환경영향평가 수수료,취득세,등록세,건물 보존등기비 및 입주관
A34: 리비,분양.임대보증 및 하자 보증수수료등 기타 사업성 경비
A35: - 대지비 : 대지구입비,대지구입관련 금융비용 및 제세공과금
D38: =D14/18120 -> 3211.5159 | F38: =F24/14659 -> 3343.8259

Sheet 3.구성현황표(건축)
A1: [별지 제2호 서식]
A2: 공종별 총공사비 구성 현황표
G3: 단위 : 천원
A4: 구 분 | B4: 분 야 | C4: 공 종 | D4: 전 체 | E4: 감리대상 | F4: 감리제외 | G4: 타법감리
A5: 순공사비 | B5: 토 목 | C5: 토공사 | D5: 2444092 | E5: 2444092 | F5: 0 | G5: 0
B6: (13개공종) | C6: 흙막이공사 | D6: 814697 | E6: 814697 | F6: 0 | G6: 0
C7: 비탈면 보호공사 | D7: 0 | E7: 0 | F7: 0 | G7: 0
C8: 옹벽공사 | D8: 0 | E8: 0 | F8: 0 | G8: 0
C9: 석축공사 | D9: 0 | E9: 0 | F9: 0 | G9: 0
C10: 우.오수공사 | D10: 58193 | E10: 58193 | F10: 0 | G10: 0
C11: 공동구공사 | D11: 0 | E11: 0 | F11: 0 | G11: 0
C12: 지하저수조 및 급수공사 | D12: 0 | E12: 0 | F12: 0 | G12: 0
C13: 도로 포장공사 | D13: 0 | E13: 0 | F13: 0 | G13: 0
C14: 교통안전시설물공사 | D14: 0 | E14: 0 | F14: 0 | G14: 0
C15: 정화조시설공사 | D15: 0 | E15: 0 | F15: 0 | G15: 0
C16: 조경공사 | D16: 232771 | E16: 232771 | F16: 0 | G16: 0
C17: 부대시설공사 | D17: 465541 | E17: 465541 | F17: 0 | G17: 0
C19: 소 계 | D19: =SUM(D5:D18) -> 4015294 | E19: =SUM(E5:E18) -> 4015294 | F19: 0 | G19: 0
B20: 건 축 | C20: 공통가설공사 | D20: 1745780 | E20: 1745780 | F20: 0 | G20: 0
B21: (23개공종) | C21: 가시설물 공사 | D21: 465541 | E21: 465541 | F21: 0 | G21: 0
C22: 지정 및 기초공사 | D22: 5470111 | E22: 5470111 | F22: 0 | G22: 0
C23: 철골공사 | D23: 1862166 | E23: 1862166 | F23: 0 | G23: 0
C24: 철근콘크리트공사 | D24: 12627810 | E24: 12627810 | F24: 0 | G24: 0
C25: 용접공사 | D25: 0 | E25: 0 | F25: 0 | G25: 0
C26: 조적공사 | D26: 465541 | E26: 465541 | F26: 0 | G26: 0
C27: 미장공사 | D27: 1163853 | E27: 1163853 | F27: 0 | G27: 0
C28: 단열공사 | D28: 116385 | E28: 116385 | F28: 0 | G28: 0
C29: 방수/방습공사 | D29: 465541 | E29: 465541 | F29: 0 | G29: 0
C30: 목공사 | D30: 290963 | E30: 290963 | F30: 0 | G30: 0
C31: 가구공사 | D31: 931083 | E31: 931083 | F31: 0 | G31: 0
C32: 금속공사 | D32: 931083 | E32: 931083 | F32: 0 | G32: 0
C33: 지붕 및 홈통공사 | D33: 349156 | E33: 349156 | F33: 0 | G33: 0
C34: 창호공사 | D34: 1163853 | E34: 1163853 | F34: 0 | G34: 0
A35: 순공사비 | B35: 건 축 | C35: 유리공사 | D35: 349156 | E35: 349156 | F35: 0 | G35: 0
B36: (23개공종) | C36: 타일공사 | D36: 698312 | E36: 698312 | F36: 0 | G36: 0
C37: 돌공사 | D37: 581927 | E37: 581927 | F37: 0 | G37: 0
C38: 도장공사 | D38: 640119 | E38: 640119 | F38: 0 | G38: 0
C39: 도배공사 | D39: 174578 | E39: 174578 | F39: 0 | G39: 0
C40: 수장공사 | D40: 407349 | E40: 407349 | F40: 0 | G40: 0
C41: 주방용구공사 | D41: 1047468 | E41: 1047468 | F41: 0 | G41: 0
C42: 잡공사 | D42: 349156 | E42: 349156 | F42: 0 | G42: 0
C48: 소 계 | D48: =SUM(D20:D47) -> 32296931 | E48: =SUM(E20:E47) -> 32296931 | F48: 0 | G48: 0
B49: 기계설비 | C49: 급수설비공사 | D49: 836927 | E49: 836927 | F49: 0 | G49: 0
B50: (9개공사) | C50: 급탕설비공사 | D50: 94970 | E50: 94970 | F50: 0 | G50: 0
C51: 오배수 및 통기설비공사 | D51: 1288037 | E51: 1288037 | F51: 0 | G51: 0
C52: 위생기구 공사 | D52: 789442 | E52: 789442 | F52: 0 | G52: 0
C53: 승강기 공사 | D53: 985318 | E53: 985318 | F53: 0 | G53: 0
C54: 난방 설비공사 | D54: 676664 | E54: 676664 | F54: 0 | G54: 0
C55: 가스 설비공사 | D55: 213683 | E55: 213683 | F55: 0 | G55: 0
C56: 자동제어 설비공사 | D56: 166198 | E56: 166198 | F56: 0 | G56: 0
C57: 특수설비공사 | D57: 884412 | E57: 884412 | F57: 0 | G57: 0
C60: 소 계 | D60: =SUM(D49:D59) -> 5935651 | E60: =SUM(E49:E59) -> 5935651 | F60: =SUM(F49:F59) -> 0 | G60: =SUM(G49:G59) -> 0
B61: 전기(11개공사) | D61: 3491560 | E61: 0 | F61: 0 | G61: 3491560
B62: 정보통신(11개공사) | D62: 1920358 | E62: 0 | F62: 0 | G62: 1920358
B63: 소방설비(2개공사) | D63: 2496466 | E63: 0 | F63: 0 | G63: 2496466
A64: 일 반 관 리 비 | D64: 6756169 | E64: 5690891 | F64: 0 | G64: 1065278
A65: 이 윤 | D65: 1280239 | E65: 1078377 | F65: 0 | G65: 201862
A66: 총 공 사 비 계 | D66: =SUM(D61:D65,D60,D48,D19) -> 58192668 | E66: 49017144 | G66: 9175524
A67: ※ 상기 공사비는 발코니확장 공사비 포함 금액

Sheet 6정보통신
A1: ■ 공사비요율에 의한 방식 - 공사비에 일정 요율을 곱하여 산출한 금액에 제10조의 규정에 의한 추가업무비용과 부가가치세를 합산하여 대가를 산출하는 방식(1.건설부분 엔지니어링사업 2.통신·정보처리부문중 정보통신분 야의 엔지니어링사업 3.산업관리부문중 소방설비분야의 엔지니어링사업 / 2항에 규정된 엔지니어링사업의 경 우에도 "공사감리"는 실비정액가산방식에 따라 대가를 산출할 수 있다.) | AL1: 2008.6.3
D2: 정 보 통 신 감 리 용 역 비 산 출 내 역 서 | AH2: 요율 | AI2: 업 무 별 요 율(%)
AH3: 공사비 | AI3: 기본설계 | AJ3: 실시설계 | AK3: 공사감리 | AL3: 계
C4: 1. 용 역 명 : | I4: =#REF!&" 신축공사 정보통신 감리용역" -> #REF! | AH4: 1천만원이하 | AL4: 26.62
C5: 2. 사 업 기 간 : | I5: =#REF! -> #REF! | AH5: 2천만원이하 | AL5: 19.97
C6: 3. 산 출 근 거 : | I6: 정보통신공사비 | N6: ='3.구성현황표(건축)'!G62*1000 -> 1920358000 | T6: 원 | AH6: 3천만원이하 | AL6: 16.13
D7: ⊙ 엔지니어링기술진흥법 : 엔지니어링사업대가의 기준 적용 | AH7: 5천만원이하 | AK7: 2.7 | AL7: 11.26
N8: (과학기술부공고 제2004-123호, '04.12.30) | AH8: 1억원이하 | AK8: 2.53 | AL8: 10.55
C9: 4. 산 출 내 역 | AH9: 2억원이하 | AK9: 2.02 | AL9: 8.42
D10: 가) 감 리 대 가(관련근거:제12조) | AH10: 3억원이하 | AK10: 1.84 | AL10: 7.68
E11: (1)적용기준: 통신부문의 요율[별표2] | AH11: 5억원이하 | AK11: 1.68 | AL11: 6.98
E12: (2)공사감리요율: | K12: 10 | L12: 억원이하 | O12: - | P12: 0.0148 | AH12: 10억원이하 | AK12: 1.48 | AL12: 6.16
K13: 20 | L13: 억원이하 | O13: - | P13: 0.0136 | AH13: 20억원이하 | AK13: 1.36 | AL13: 5.66
E14: (3)산출내용 | AH14: 30억원이하 | AK14: 1.31 | AL14: 5.46
F15: y | G15: = | H15: y1 | I15: - | K15: (x - x2) × (y1 - y2) | U15: [%] | AH15: 50억원이하 | AK15: 1.29 | AL15: 5.37
K16: x1 - x2 | AH16: 100억원이하 | AK16: 1.25 | AL16: 5.22
F17: ※ | G17: x : 당해금액 | N17: x1 : 큰금액 | U17: x2 : 작은금액 | AH17: 200억원이하 | AK17: 1.22 | AL17: 5.07
G18: y : 당해공사비요율 | N18: y1 : 작은금액요율 | U18: y2 : 큰금액요율 | AH18: 300억원이하 | AK18: 1.21 | AL18: 5.03
AH19: 500억원이하 | AK19: 1.18 | AL19: 4.93
F20: y | G20: = | H20: =P12 -> 0.0148 | J20: - | K20: ( | L20: =N6/100000000 -> 19.20358 | P20: 억 | Q20: - | R20: =K12 -> 10 | S20: 억 | T20: ) | U20: × | V20: ( | W20: =P12 -> 0.0148 | Y20: - | Z20: =P13 -> 0.0136 | AB20: ) | AH20: 1,000억원이하 | AK20: 1.16 | AL20: 4.85
P21: =K13 -> 20 | R21: 억 | S21: - | T21: =K12 -> 10 | U21: 억 | AH21: 2,000억원이하 | AK21: 1.14 | AL21: 4.77
AH22: 3,000억원이하 | AK22: 1.13 | AL22: 4.7
G23: = | H23: =H20-((L20-R20)*(W20-Z20)/(P21-T21)) -> 0.01369557 | AH23: 5,000억원이하 | AK23: 1.11 | AL23: 4.64
E25: (4) 감리대가 | J25: = | K25: =N6 -> 1920358000 | P25: × | Q25: =H23 -> 0.01369557 | V25: = | W25: =K25*Q25 -> 26300398 | AB25: 원
C28: 5. 기 초 금 액 : | I28: =ROUNDDOWN(W25,-6) -> 26000000 | O28: (VAT별도)
A32: ■ "공사감리" - 비상주 감리 적용
A33: ■ 엔지니어링 기술자 노임단가는 한국엔지니어링진흥협회가 통계법 제15조 규정에 의하여 공표한 노임단가임.

Sheet  7소방
A1: 소 방 감 리 용 역 비 산 출 내 역 서
A3: 용 역 명 | C3: =#REF!&" 신축공사 소방 감리용역" -> #REF!
A5: 공 사 개 요 | C5: 아파트 7개동, 500세대, 지하2층, 지상25층 / 지하주차장 및 부대·복리시설, 32개월
C6: 연면적 | F6: =#REF! -> #REF!
A7: 적 요 | C7: 소방감리 대가산정기준 : 소방시설공사업법 제25조 및 소방시설공사업법시행규칙 제21조 | P7: 별표 4] <개정 2007.1.24>
D8: 엔지니어링기술진흥법 제10조 중 "실비정액가산방식" 적용
C9: 감리원 배치기준 : 소방시설공사업법 제18조, 동법시행령 11조 및 동법시행규칙 제17조 | P9: 소방공사감리원의 배치기준(제11조관련)
A10: 구 분 | C10: 산 출 내 역 | K10: 금 액 | L10: 비 고
A11: 1. 직접인건비 | C11: 배치되는 감리원수(인*월) * 등급별 감리원 월임금 | K11: =SUM(K12:K13) -> 36545880 | L11: 제14조 | P11: 1. 연면적 20만 제곱미터 이상인 특정소방대상물 또는 지하층을 포함한 층수가
A12: 상 주 | D12: 인, | F12: 개월, | H12: 일/월, | J12: 원 | K12: =C12*E12*G12*I12 -> 0 | P12: 40층 이상인 특정소방대상물의 공사현장인 경우 : 별표 1 제3호 부표 2에 따
A13: 비상주 | B13: 특급(기술사) | C13: 1 | D13: 인, | E13: 24 | F13: 개월, | G13: 7 | H13: 일/월, | I13: =V33 -> 217535 | J13: 원 | K13: =C13*E13*G13*I13 -> 36545880 | P13: 른 특급감리원 중 소방기술사 자격을 취득한 자 1인 이상을 배치해야 한다.
A14: 2. 제 경 비 | C14: 직접인건비의 110~120% | K14: =K15 -> 40200468 | L14: 제16조 | P14: 2. 연면적이 3만 제곱미터 이상 20만 제곱미터 미만인 특정소방대상물(아파트
C15: =K11 -> 36545880 | J15: 1.1 | K15: =INT(C15*J15) -> 40200468 | P15: 는 제외한다) 또는 지하층을 포함한 층수가 16층 이상 40층 미만인 특정소방
A16: 3. 기 술 료 | C16: (직접인건비+제경비)의 20~40% | K16: =K17 -> 15349269 | L16: 제17조 | P16: 대상물의 공사현장인 경우 : 별표 1 제3호 부표 2에 따른 특급감리원 이상의
C17: =(K11+K14) -> 76746348 | J17: 0.2 | K17: =INT(C17*J17) -> 15349269 | P17: 소방감리원 1인 이상을 배치해야 한다.
A18: 4. 직 접 경 비 | C18: 가) + 나) + 다) + 라) | K18: =INT(SUM(K19:K24)) -> 3654588 | L18: 제15조 | P18: 3. 물분무등소화설비 또는 제연설비가 설치되는 특정소방대상물이나 연면적 3
A19: 가) 주 재 비 | C19: 상주 직접인건비의 30% | P19: 만 제곱미터 이상인 아파트의 공사현장의 경우 : 별표 1 제3호 부표 2에 따
C20: =SUM(K12:K12) -> 0 | J20: 0.3 | K20: =INT(C20*J20) -> 0 | P20: 른 고급감리원 이상의 소방감리원 1인 이상을 배치해야 한다.
A21: 나) 출 장 여 비 | C21: 비상주 직접인건비의 10% | P21: 4. 연면적 5천 제곱미터 이상 3만 제곱미터 미만이거나 지하층을 포함한 층수
C22: =K13 -> 36545880 | J22: 0.1 | K22: =INT(C22*J22) -> 3654588 | P22: 가 16층 미만인 특정소방대상물의 공사현장의 경우 : 별표 1 제3호 부표 2에
A23: 다) 도서인쇄비 | C23: 제외 | K23: 0 | P23: 따른 중급감리원 이상의 소방감리원 1인 이상을 배치해야 한다.
A24: 라) 현지차량비 | C24: 제외 | K24: 0 | P24: 5. 연면적 5천 제곱미터 미만인 특정소방대상물의 경우 : 별표 1 제3호 부표 2
A25: 5. 합 계 | C25: 1 + 2 + 3 + 4 | K25: =ROUNDDOWN(K11+K14+K16+K18,-6) -> 95000000 | P25: 에 따른 초급감리원 이상의 소방감리원 1인 이상을 배치해야 한다.
A26: 6. 기 초 금 액 | K26: =K25 -> 95000000 | L26: VAT 별도 | P26: 6. 지하구의 경우 : 별표 1 제3호 부표 2에 따른 초급감리원 이상의 소방감리
A27: □ 감리원 등급별 노임단가는 한국엔지니어링 진흥협회가 통계법 제15조 규정에 의하여 공표됨. | P27: 원 1인 이상을 배치해야 한다
P29: 2008.1.1적용
P30: 구 분 | Q30: 건설 및 기타
Q31: 2002년 | R31: 2003년 | S31: 2004년 | T31: 2005년 | U31: 2006년 | V31: 2007년
P32: 기 술 사 | Q32: 197001 | R32: 205071 | S32: 230020 | T32: 252897 | U32: 263837 | V32: 270525
P33: 특급기술자 | Q33: 162903 | R33: 158335 | S33: 177096 | T33: 196337 | U33: 204020 | V33: 217535
P34: 고급기술자 | Q34: 131950 | R34: 132936 | S34: 148224 | T34: 164387 | U34: 173417 | V34: 180902
P35: 중급기술자 | Q35: 108828 | R35: 111576 | S35: 123952 | T35: 139232 | U35: 146066 | V35: 150970
P36: 초급기술자 | Q36: 79518 | R36: 81676 | S36: 89202 | T36: 98848 | U36: 104129 | V36: 108805
P37: 고급기능사 | Q37: 98387 | R37: 95221 | S37: 107740 | T37: 110769 | U37: 114757 | V37: 125348
P38: 중급기능사 | Q38: 79392 | R38: 81499 | S38: 96271 | T38: 97468 | U38: 100340 | V38: 107821
P39: 초급기능사 | Q39: 65063 | R39: 60759 | S39: 72051 | T39: 73229 | U39: 77785 | V39: 85543
P40: 한국엔지니어링진흥협회 공고-엔지니어링업체임금실태조사보고서

Sheet 4.공정표(건축)
B1: 공 사 예 정 공 정 표
B3: 1. 공 사 명 : 영종국제도시 화성파크드림 2차 신축공사
B4: 2. 공사 기간 : 2020.05.01. ~ 2022.09.30.(29개월)
B6: 분 야 | C6: 공종 | E6: 2020년 | M6: 2021년 | Y6: 2022년 | AH6: 비 고
E7: 5월 | F7: 6월 | G7: 7월 | H7: 8월 | I7: 9월 | J7: 10월 | K7: 11월 | L7: 12월 | M7: 1월 | N7: 2월 | O7: 3월 | P7: 4월 | Q7: 5월 | R7: 6월 | S7: 7월 | T7: 8월 | U7: 9월 | V7: 10월 | W7: 11월 | X7: 12월 | Y7: 1월 | Z7: 2월 | AA7: 3월 | AB7: 4월 | AC7: 5월 | AD7: 6월 | AE7: 7월 | AF7: 8월 | AG7: 9월
B8: 토목공사 | C8: 토공사 | E8: 1 | F8: 2 | G8: 3 | H8: 4 | I8: 5 | J8: 6 | K8: 7 | L8: 7.5 | AH8: 20.05.01~20.12.15 (7.5개월)
C9: 흙막이공사 | G9: 1 | H9: 2 | I9: 3 | J9: 4 | K9: 5 | L9: 5.5 | AH9: 20.07.01~20.12.15 (5.5개월)
C10: 우.오수 설비공사,부대시설공사 | AA10: 1 | AB10: 2 | AC10: 3 | AD10: 4 | AE10: 5 | AH10: 22.03.01~22.07.31) (5.0개월)
C11: 도로 포장공사(교통시설물 포함) | AB11: 0.5 | AC11: 1.5 | AD11: 2.5 | AE11: 3.5 | AH11: 22.04.16~22.07.31) (3.5개월)
C12: 조경공사(시설 및 식재) | AC12: 1 | AD12: 2 | AE12: 3 | AF12: 4 | AG12: 4.5 | AH12: 22.05.01~22.09.15) (4.5개월)
B13: 건축공사 | C13: 공통가설 및 가시설물 공사 | E13: 1 | F13: 2 | G13: 3 | H13: 4 | I13: 5 | J13: 6 | AH13: 20.05.01~20.10.31) (6.0개월)
C14: 구조체공사 | D14: 지정 및 기초공사 | I14: 1 | J14: 2 | K14: 3 | L14: 3.5 | AH14: 20.09.01~20.12.15 (3.5개월)
D15: 철근콘크리트공사 | J15: 0.5 | K15: 1.5 | L15: 2.5 | M15: 2.5 | N15: 4.5 | O15: 5.5 | P15: 6.5 | Q15: 7.5 | R15: 8.5 | S15: 9.5 | T15: 10.5 | U15: 11.5 | V15: 12 | AH15: 20.10.16~21.10.15 (12개월)
C16: 습식공사(방수,조적,미장) | N16: 1 | O16: 2 | P16: 3 | Q16: 4 | R16: 5 | S16: 6 | T16: 7 | U16: 8 | V16: 9 | W16: 10 | X16: 11 | Y16: 12 | AH16: 21.02.01~22.01.31 (12개월)
C17: 내장공사(단열,방습,목공) | T17: 1 | U17: 2 | V17: 3 | W17: 4 | X17: 5 | Y17: 6 | Z17: 7 | AA17: 8 | AB17: 9 | AC17: 10 | AH17: 21.08.01~22.05.31 (10개월)
C18: 금속공사(금속,지붕 및 홈통공사) | X18: 1 | Y18: 2 | Z18: 3 | AA18: 4 | AB18: 5 | AC18: 6 | AD18: 7 | AE18: 8 | AF18: 9 | AG18: 9.5 | AH18: 21.12.01~22.09.15 (9.5개월)
C19: 창호공사(창호,유리,코킹 등) | U19: 1 | V19: 2 | W19: 3 | X19: 4 | Y19: 5 | Z19: 6 | AA19: 7 | AB19: 8 | AC19: 9 | AD19: 10 | AE19: 11 | AF19: 12 | AG19: 12.5 | AH19: 21.09.01~22.09.15 (12.5개월)
C20: 마감공사(가구,타일,수장,가구,잡공사)돌공사 | W20: 1 | X20: 2 | Y20: 3 | Z20: 4 | AA20: 5 | AB20: 6 | AC20: 7 | AD20: 8 | AE20: 9 | AF20: 10 | AG20: 11 | AH20: 22.11.01~22.09.30 (11개월)
B21: 기계설비공사 | C21: 설비공사(급수,급탕,오배수,통기, 난방,가스,자동제어,특수설비) | L21: 1 | M21: 2 | N21: 3 | O21: 4 | P21: 5 | Q21: 6 | R21: 7 | S21: 8 | T21: 9 | U21: 10 | V21: 11 | W21: 12 | X21: 13 | Y21: 14 | Z21: 15 | AA21: 16 | AB21: 17 | AC21: 18 | AD21: 19 | AE21: 20 | AF21: 21 | AG21: 22 | AH21: 20.12.01~22.09.30 (22개월)
C22: 위생기구 공사 | R22: 1 | S22: 2 | T22: 3 | U22: 4 | V22: 5 | W22: 6 | X22: 7 | Y22: 8 | Z22: 9 | AA22: 10 | AB22: 11 | AC22: 12 | AD22: 13 | AE22: 14 | AF22: 15 | AG22: 16 | AH22: 21.06.01~22.09.30 (16개월)
C23: 승강기 공사 | V23: 1 | W23: 2 | X23: 3 | Y23: 4 | Z23: 5 | AH23: 21.10.01~22.02.28 (5개월)
B24: 전기(11개공사) | J24: 0.5 | K24: 1.5 | L24: 2.5 | M24: 3.5 | N24: 4.5 | O24: 5.5 | P24: 6.5 | Q24: 7.5 | R24: 8.5 | S24: 9.5 | T24: 10.5 | U24: 11.5 | V24: 12.5 | W24: 13.5 | X24: 14.5 | Y24: 15.5 | Z24: 16.5 | AA24: 17.5 | AB24: 18.5 | AC24: 19.5 | AD24: 20.5 | AE24: 21.5 | AF24: 22.5 | AG24: 23.5 | AH24: 20.10.16~22.09.30 (23.5개월)
B25: 정보통신(11개공사) | K25: 0.5 | L25: 1.5 | M25: 2.5 | N25: 3.5 | O25: 4.5 | P25: 5.5 | Q25: 6.5 | R25: 7.5 | S25: 8.5 | T25: 9.5 | U25: 10.5 | V25: 11.5 | W25: 12.5 | X25: 13.5 | Y25: 14.5 | Z25: 15.5 | AA25: 16.5 | AB25: 17.5 | AC25: 18.5 | AD25: 19.5 | AE25: 20.5 | AF25: 21.5 | AG25: 22.5 | AH25: 20.11.16~22.09.30 (22.5개월)
B26: 소방설비(2개공사) | K26: 0.5 | L26: 1.5 | M26: 2.5 | N26: 3.5 | O26: 4.5 | P26: 5.5 | Q26: 6.5 | R26: 7.5 | S26: 8.5 | T26: 9.5 | U26: 10.5 | V26: 11.5 | W26: 12.5 | X26: 13.5 | Y26: 14.5 | Z26: 15 | AA26: 16.5 | AB26: 17.5 | AC26: 18.5 | AD26: 19.5 | AE26: 20.5 | AF26: 21.5 | AG26: 22.5 | AH26: 20.11.16~22.09.30 (22.5개월)

Sheet 1.전기감리비산출금액
A1: 전 기 감 리 용 역 비 산 출 내 역 서 | O1: 운영요령
A3: 용 역 명 | C3: 영종국제도시 화성파크드림 2차 신축공사 전력시설물공사 감리용역
A5: 공 사 개 요 | C5: 아파트 지하1층~21층 499세대 / 근린생활시설 및 부대시설
C6: 연면적 | D6: 68704.456 | J6: 전체 29개월
A7: 적 요 | C7: 전력기술관리법 운영요령 "산업통상자원부 고시 제 2017-21호" 시행 '17.02.09' | J7: 터파기 4개월
J8: 전기공사 23.5개월 | O8: 복잡공종(별표3)
C9: "실비정액가산방식"
A10: 구 분 | C10: 산 출 내 역 | G10: 금 액 | H10: 비 고
A11: 1. 직접인건비 | C11: 배치되는 감리원수(인*월) * 등급별 감리원 월임금 | G11: =SUM(G12:G14) -> 158610430 | H11: 제26조 | L11: 20억이상 | M11: 10억이상 | N11: 10억미만
A12: 상주감리원 | B12: 책임(특급) | C12: 1 | D12: 23.5 | E12: 1 | F12: =L19*22 -> 6135800 | G12: =INT(C12*D12*E12*F12) -> 144191300 | I12: 300~800세대 적용 | K12: 책임 | L12: 특급 | M12: 고급 | N12: 중급 | O12: 26조,별표2의2 | P12: 영 별표3
B13: 보조(초급) | G13: =INT(C13*D13*E13*F13) -> 0 | I13: 800세대 이상(50%이상) | K13: 보조 | L13: 초급 | M13: 초급 | N13: 초급
A14: 비상주감리원 | B14: 고급이상 | C14: 상주감리원 직접인건비의 10% | G14: =G12*10% -> 14419130 | O14: 25조3항
A15: 2. 제 경 비 | C15: 직접인건비의 110~120% | G15: =G16 -> 174471473 | H15: 제28조 | O15: 28조
C16: =G11 -> 158610430 | F16: 1.1 | G16: =INT(C16*F16) -> 174471473
A17: 3. 기 술 료 | C17: (직접인건비+제경비)의 20~40% | G17: =G18 -> 66616380 | H17: 제29조 | K17: 2019년 | L17: 한국전력기술인협회 공표 | O17: 29조
C18: =(G11+G15) -> 333081903 | F18: 0.2 | G18: =INT(C18*F18) -> 66616380 | K18: 구 분 | L18: 일임금액
A19: 4. 직 접 경 비 | C19: 가) + 나) + 다) + 라) | G19: =INT(SUM(G20:G26)) -> 45699303 | H19: 제27조 | K19: 특급감리원 | L19: 278900 | O19: 27조
A20: 가) 주 재 비 | C20: 상주 직접인건비의 30% | K20: 고급감리원 | L20: 240454
C21: =SUM(G12:G13) -> 144191300 | F21: 0.3 | G21: =INT(C21*F21) -> 43257390 | K21: 중급감리원 | L21: 217583
A22: 나) 출 장 여 비 | C22: 비상주 직접인건비의 10% | K22: 초급감리원 | L22: 200502
C23: =G14 -> 14419130 | F23: 0.1 | G23: =INT(C23*F23) -> 1441913
A24: 다) 도서인쇄비 | G24: 1000000
A25: 라) 현지차량비 | C25: 제외 | G25: 0
A26: 마) 현장운영경비 | C26: 제외 | G26: 0 | I26: 보통 | J26: 87805 | O26: 22일(26조4항)
A27: 5. 합 계 | C27: 1 + 2 + 3 + 4 | G27: =ROUND(G11+G15+G17+G19,0) -> 445397586
A28: 6. 조 정 | C28: 해당없음 | G28: =-ROUND(G27*10%,0) -> -44539759 | H28: 제24조 | I28: 300세대 이상 400세대 미만: 15퍼센트 범위
A29: 7. 조 정 후 합 계 | C29: 5 - 6 | G29: =+G27+G28 -> 400857827 | I29: 400세대 이상 500세대 미만: 10퍼센트 범위
A30: 8. 부가세 | G30: =ROUND(G29*10%,0) -> 40085783
A31: 9. 기 초 금 액 | G31: =SUM(G29:G30) -> 440943610 | H31: VAT 포함 | J31: 150000
A32: □ 감리원 등급별 임금은 한국엔지니어링협회가 통계법에 의하여 공표한 임금임. | J32: =G27/(D6*0.3025) -> 21430.76
J33: =G33/(D6*0.3025) -> 0
I37: 최초 계획 | J37: 2020.03.25 ~ 2022.07.24 (28개월)
I38: 건축 감리신청 | J38: 2020.03.25 ~ 2022.07.24 (28개월)
I39: 전기 감리신청 | J39: 2020.07.25 ~ 2022.06.24 (23개월) | M39: 터파기 및 파일 4개월 감안, 건축 착공 2개월 여유

Sheet 2.산출총괄표(전기)
A1: [별지 제1호 서식]
A2: 총 사업비 산출 총괄표
H3: 단위 : 천원
A4: 구 분 | D4: 전 체 | E4: 구성비 | F4: 감리대상 | G4: 감리제외 | H4: 타법감리
A5: 총공사비 | B5: 순공사비 | C5: 전기공사 | D5: ='2.산출총괄표(건축)'!D8 -> 3491560 | E5: =D5/$D$24 -> 0.020501094 | F5: =+D5 -> 3491560 | G5: ='2.산출총괄표(건축)'!G8 -> 0
C6: 토목공사 | D6: ='2.산출총괄표(건축)'!D5 -> 4015294 | E6: =D6/$D$24 -> 0.023576258 | G6: ='2.산출총괄표(건축)'!G5 -> 0 | H6: =+D6 -> 4015294
C7: 건축공사 | D7: ='2.산출총괄표(건축)'!D6 -> 32296931 | E7: =D7/$D$24 -> 0.18963512 | G7: ='2.산출총괄표(건축)'!G6 -> 0 | H7: =+D7 -> 32296931
C8: 기계설비공사 | D8: ='2.산출총괄표(건축)'!D7 -> 5935651 | E8: =D8/$D$24 -> 0.034851854 | G8: ='2.산출총괄표(건축)'!G7 -> 0 | H8: =+D8 -> 5935651
C9: 정보통신공사 | D9: ='2.산출총괄표(건축)'!D9 -> 1920358 | E9: =D9/$D$24 -> 0.011275602 | F9: ='2.산출총괄표(건축)'!F9 -> 0 | G9: ='2.산출총괄표(건축)'!G9 -> 0 | H9: =+D9 -> 1920358
C10: 소방설비공사 | D10: ='2.산출총괄표(건축)'!D10 -> 2496466 | E10: =D10/$D$24 -> 0.014658286 | F10: ='2.산출총괄표(건축)'!F10 -> 0 | G10: ='2.산출총괄표(건축)'!G10 -> 0 | H10: =+D10 -> 2496466
C11: 소 계 | D11: =SUM(D5:D10) -> 50156260 | E11: =D11/$D$24 -> 0.29449822 | F11: =SUM(F5:F10) -> 3491560 | G11: =SUM(G5:G10) -> 0 | H11: =SUM(H5:H10) -> 46664700
B12: 일반관리비 | D12: ='2.산출총괄표(건축)'!D12 -> 6756169 | E12: =D12/$D$24 -> 0.039669619 | F12: =ROUND(F11*$I$12,0) -> 470322 | G12: =ROUND(G11*$I$12,0) -> 0 | H12: =ROUND(H11*$I$12,0) -> 6285847 | I12: =D12/D11 -> 0.13470241
B13: 이 윤 | D13: ='2.산출총괄표(건축)'!D13 -> 1280239 | E13: =D13/$D$24 -> 0.0075170697 | F13: =ROUND(F11*$I$13,0) -> 89122 | G13: =ROUND(G11*$I$13,0) -> 0 | H13: =ROUND(H11*$I$13,0) -> 1191117 | I13: =D13/D11 -> 0.025525009
B14: 소 계 | D14: =SUM(D11:D13) -> 58192668 | E14: =D14/$D$24 -> 0.34168491 | F14: =SUM(F11:F13) -> 4051004 | G14: =G11+G12+G13 -> 0 | H14: =SUM(H11:H13) -> 54141664 | I14: =SUM(F14:H14) -> 58192668
A15: 간 접 비 | B15: 설 계 비 | D15: ='2.산출총괄표(건축)'!D15 -> 689075 | E15: =D15/$D$24 -> 0.0040459827 | F15: ='2.산출총괄표(건축)'!F15 -> 0 | G15: =+D15 -> 689075 | H15: ='2.산출총괄표(건축)'!H15 -> 0
B16: 감 리 비 | D16: ='2.산출총괄표(건축)'!D16 -> 1729573 | E16: =D16/$D$24 -> 0.010155386 | G16: ='1.전기감리비산출금액'!G29/1000 -> 400857.83 | H16: =D16-G16 -> 1328715.2
B17: 일반분양시설경비 | D17: ='2.산출총괄표(건축)'!D17 -> 35423099 | E17: =D17/$D$24 -> 0.20799078 | F17: ='2.산출총괄표(건축)'!F17 -> 0 | G17: =+D17 -> 35423099 | H17: ='2.산출총괄표(건축)'!H17 -> 0
B18: 분담금 및 부담금 | D18: ='2.산출총괄표(건축)'!D18 -> 22323472 | E18: =D18/$D$24 -> 0.13107482 | F18: ='2.산출총괄표(건축)'!F18 -> 0 | G18: =+D18 -> 22323472 | H18: ='2.산출총괄표(건축)'!H18 -> 0
B19: 보 상 비 | D19: ='2.산출총괄표(건축)'!D19 -> 0 | E19: =D19/$D$24 -> 0 | F19: ='2.산출총괄표(건축)'!F19 -> 0 | G19: =+D19 -> 0 | H19: ='2.산출총괄표(건축)'!H19 -> 0
B20: 기타 사업비성 경비 | D20: ='2.산출총괄표(건축)'!D20 -> 2935158 | E20: =D20/$D$24 -> 0.017234116 | F20: ='2.산출총괄표(건축)'!F20 -> 0 | G20: =+D20 -> 2935158 | H20: ='2.산출총괄표(건축)'!H20 -> 0
B21: 소 계 | D21: =SUM(D15:D20) -> 63100377 | E21: =D21/$D$24 -> 0.37050108 | F21: =SUM(F15:F20) -> 0 | G21: =SUM(G15:G20) -> 61771662 | H21: =SUM(H15:H20) -> 1328715.2
A22: 대 지 비 | D22: ='2.산출총괄표(건축)'!D22 -> 44912968 | E22: =D22/$D$24 -> 0.26371163 | F22: ='2.산출총괄표(건축)'!F22 -> 0 | G22: =+D22 -> 44912968 | H22: ='2.산출총괄표(건축)'!H22 -> 0
A23: 부가가치세액 | D23: ='2.산출총괄표(건축)'!D23 -> 4104899 | E23: =D23/$D$24 -> 0.024102384 | F23: ='2.산출총괄표(건축)'!F23 -> 0 | G23: =+D23 -> 4104899 | H23: ='2.산출총괄표(건축)'!H23 -> 0
A24: 총사업비 계 | D24: =D14+D21+D22+D23 -> 170310912 | E24: ='[22]산출총괄표(건축)'!E24 -> 1 | F24: =F14+F21+F22+F23 -> 4051004 | G24: =G14+G21+G22+G23 -> 1.1078953e+08 | H24: =H14+H21+H22+H23 -> 55470379
A25: 주 1. 순공사비란 : 재료비,노무비,경비를 합한 금액임
A26: 2. 일반관리비와 이윤에 대한 정의 및 산정방법은 "원가계산에 의한 예정가격 작성준칙(예산회계)"에 따름
A27: 3. 부가가치 세액의 정의와 산정방법은 "부가가치세법"에 따름
A28: 4. 간접비란 사업비 중 총 공사비를 제외한 설계비,감리비, 일반분양시설 경비등 사업비성 경비를 말하며, 세부
A29: 비목은 다음과 같음
A30: - 일반 분양시설 경비 : 시공비,운영비,광고홍보비
A31: - 분담금 및 부담금 : 인입분담금(가스,전기,수도,지역난방),진입도로,학교용지확보 부담금
A32: - 보상비 : 이주대책비,이주보상비
A33: - 기타 사업비성 경비 : 제세공과금,측량.교통.환경영향평가 수수료,취득세,등록세,건물 보존등기비 및 입주관
A34: 리비,분양.임대보증 및 하자 보증수수료등 기타 사업성 경비
A35: - 대지비 : 대지구입비,대지구입관련 금융비용 및 제세공과금

Sheet 3.구성현황표(전기)
A1: [별지 제2호 서식]
A2: 공종별 총공사비 구성 현황표
G3: 단위 : 천원
A4: 구 분 | B4: 분 야 | C4: 공 종 | D4: 전 체 | E4: 감리대상 | F4: 감리제외 | G4: 타법감리
A5: 순공사비 | B5: 전 기 | C5: 인입공사 | D5: =$D$16*I5 -> 104746.8 | E5: =D5 -> 104746.8 | I5: 0.03
C6: 수변전공사 | D6: =$D$16*I6 -> 680854.2 | E6: =D6 -> 680854.2 | I6: 0.195
C7: 전력간선공사 | D7: =$D$16*I7 -> 439936.56 | E7: =D7 -> 439936.56 | I7: 0.126
C8: 동력공사 | D8: =$D$16*I8 -> 206002.04 | E8: =D8 -> 206002.04 | I8: 0.059
C9: 전열공사 | D9: =$D$16*I9 -> 614514.56 | E9: =D9 -> 614514.56 | I9: 0.176
C10: 전등공사 | D10: =$D$16*I10 -> 824008.16 | E10: =D10 -> 824008.16 | I10: 0.236
C11: 접지 및 피뢰공사 | D11: =$D$16*I11 -> 87289 | E11: =D11-F11 -> 87289 | I11: 0.025
C12: 옥외보안등공사 | D12: =$D$16*I12 -> 122204.6 | E12: =D12 -> 122204.6 | I12: 0.035
C13: Cable Tray공사 | D13: =$D$16*I13 -> 132679.28 | E13: =D13 -> 132679.28 | I13: 0.038
C14: 주차장공사 | D14: =$D$16*I14 -> 157120.2 | E14: =D14 -> 157120.2 | I14: 0.045
C15: 부속동공사 | D15: =$D$16*I15 -> 122204.6 | E15: =D15 -> 122204.6 | I15: 0.035
C16: 소계 | D16: =+'2.산출총괄표(전기)'!D5 -> 3491560 | E16: =SUM(E5:E15) -> 3491560 | F16: =SUM(F5:F15) -> 0 | G16: ='[22]구성현황표(건축)'!E61 -> 0 | I16: =SUM(I5:I15) -> 1
B17: 토 목 | C17: 토공사 | D17: =+G17 -> 2444092 | E17: ='[22]구성현황표(건축)'!G5 -> 0 | F17: ='[22]구성현황표(건축)'!F5 -> 0 | G17: 2444092
C18: 흙막이공사 | D18: =+G18 -> 814697 | E18: ='[22]구성현황표(건축)'!G6 -> 0 | F18: ='[22]구성현황표(건축)'!F6 -> 0 | G18: 814697
C19: 비탈면 보호공사 | D19: =+G19 -> 0 | E19: ='[22]구성현황표(건축)'!G7 -> 0 | F19: ='[22]구성현황표(건축)'!F7 -> 0 | G19: 0
C20: 옹벽공사 | D20: =+G20 -> 0 | E20: ='[22]구성현황표(건축)'!G8 -> 0 | F20: ='[22]구성현황표(건축)'!F8 -> 0 | G20: 0
C21: 석축공사 | D21: =+G21 -> 0 | E21: ='[22]구성현황표(건축)'!G9 -> 0 | F21: ='[22]구성현황표(건축)'!F9 -> 0 | G21: 0
C22: 우.오수공사 | D22: =+G22 -> 58193 | E22: ='[22]구성현황표(건축)'!G10 -> 0 | F22: ='[22]구성현황표(건축)'!F10 -> 0 | G22: 58193
C23: 공동구공사 | D23: =+G23 -> 0 | E23: ='[22]구성현황표(건축)'!G11 -> 0 | F23: ='[22]구성현황표(건축)'!F11 -> 0 | G23: 0
C24: 지하저수조 및 급수공사 | D24: =+G24 -> 0 | E24: ='[22]구성현황표(건축)'!G12 -> 0 | F24: ='[22]구성현황표(건축)'!F12 -> 0 | G24: 0
C25: 도로 포장공사 | D25: =+G25 -> 0 | E25: ='[22]구성현황표(건축)'!G13 -> 0 | F25: ='[22]구성현황표(건축)'!F13 -> 0 | G25: 0
C26: 교통안전시설물공사 | D26: =+G26 -> 0 | E26: ='[22]구성현황표(건축)'!G14 -> 0 | F26: ='[22]구성현황표(건축)'!F14 -> 0 | G26: 0
C27: 정화조시설공사 | D27: =+G27 -> 0 | E27: ='[22]구성현황표(건축)'!G15 -> 0 | F27: ='[22]구성현황표(건축)'!F15 -> 0 | G27: 0
C28: 조경공사 | D28: =+G28 -> 232771 | E28: ='[22]구성현황표(건축)'!G16 -> 0 | F28: ='[22]구성현황표(건축)'!F16 -> 0 | G28: 232771
C29: 부대시설공사 | D29: =+G29 -> 465541 | E29: ='[22]구성현황표(건축)'!G17 -> 0 | F29: ='[22]구성현황표(건축)'!F17 -> 0 | G29: 465541
C31: 소 계 | D31: =SUM(D17:D30) -> 4015294 | E31: =SUM(E17:E30) -> 0 | F31: =SUM(F17:F30) -> 0 | G31: =SUM(G17:G30) -> 4015294
A32: 순공사비 | B32: 건 축 | C32: 공통가설공사 | D32: =+G32 -> 1745780 | E32: ='[22]구성현황표(건축)'!G20 -> 0 | F32: ='[22]구성현황표(건축)'!F20 -> 0 | G32: 1745780
C33: 가시설물 공사 | D33: =+G33 -> 465541 | E33: ='[22]구성현황표(건축)'!G21 -> 0 | F33: ='[22]구성현황표(건축)'!F21 -> 0 | G33: 465541
C34: 지정 및 기초공사 | D34: =+G34 -> 5470111 | E34: ='[22]구성현황표(건축)'!G22 -> 0 | F34: ='[22]구성현황표(건축)'!F22 -> 0 | G34: 5470111
C35: 철골공사 | D35: =+G35 -> 1862166 | E35: ='[22]구성현황표(건축)'!G23 -> 0 | F35: ='[22]구성현황표(건축)'!F23 -> 0 | G35: 1862166
C36: 철근콘크리트공사 | D36: =+G36 -> 12627810 | E36: ='[22]구성현황표(건축)'!G24 -> 0 | F36: ='[22]구성현황표(건축)'!F24 -> 0 | G36: 12627810
C37: 용접공사 | D37: =+G37 -> 0 | E37: ='[22]구성현황표(건축)'!G25 -> 0 | F37: ='[22]구성현황표(건축)'!F25 -> 0 | G37: 0
C38: 조적공사 | D38: =+G38 -> 465541 | E38: ='[22]구성현황표(건축)'!G26 -> 0 | F38: ='[22]구성현황표(건축)'!F26 -> 0 | G38: 465541
C39: 미장공사 | D39: =+G39 -> 1163853 | E39: ='[22]구성현황표(건축)'!G27 -> 0 | F39: ='[22]구성현황표(건축)'!F27 -> 0 | G39: 1163853
C40: 단열공사 | D40: =+G40 -> 116385 | E40: ='[22]구성현황표(건축)'!G28 -> 0 | F40: ='[22]구성현황표(건축)'!F28 -> 0 | G40: 116385
C41: 방수/방습공사 | D41: =+G41 -> 465541 | E41: ='[22]구성현황표(건축)'!G29 -> 0 | F41: ='[22]구성현황표(건축)'!F29 -> 0 | G41: 465541
C42: 목공사 | D42: =+G42 -> 290963 | E42: ='[22]구성현황표(건축)'!G30 -> 0 | F42: ='[22]구성현황표(건축)'!F30 -> 0 | G42: 290963
C43: 가구공사 | D43: =+G43 -> 931083 | E43: ='[22]구성현황표(건축)'!G31 -> 0 | F43: ='[22]구성현황표(건축)'!F31 -> 0 | G43: 931083
C44: 금속공사 | D44: =+G44 -> 931083 | E44: ='[22]구성현황표(건축)'!G32 -> 0 | F44: ='[22]구성현황표(건축)'!F32 -> 0 | G44: 931083
... C54: 잡공사 | D54: =+G54 -> 349156 | E54: ='[22]구성현황표(건축)'!G42 -> 0 | F54: ='[22]구성현황표(건축)'!F42 -> 0 | G54: 349156
C55: 소 계 | D55: =SUM(D32:D54) -> 32296931 | E55: =SUM(E32:E54) -> 0 | F55: =SUM(F32:F54) -> 0 | G55: =SUM(G32:G54) -> 32296931
B56: 기계설비 | C56: 급수설비공사 | D56: =+G56 -> 836927 | E56: ='[22]구성현황표(건축)'!G49 -> 0 | F56: ='[22]구성현황표(건축)'!F49 -> 0 | G56: 836927
C57: 급탕설비공사 | D57: =+G57 -> 94970 | E57: ='[22]구성현황표(건축)'!G50 -> 0 | F57: ='[22]구성현황표(건축)'!F50 -> 0 | G57: 94970
C58: 오배수 및 통기설비공사 | D58: =+G58 -> 1288037 | E58: ='[22]구성현황표(건축)'!G51 -> 0 | F58: ='[22]구성현황표(건축)'!F51 -> 0 | G58: 1288037
C59: 위생기구 공사 | D59: =+G59 -> 789442 | E59: ='[22]구성현황표(건축)'!G52 -> 0 | F59: ='[22]구성현황표(건축)'!F52 -> 0 | G59: 789442
C60: 승강기 공사 | D60: =+G60 -> 985318 | E60: ='[22]구성현황표(건축)'!G53 -> 0 | F60: ='[22]구성현황표(건축)'!F53 -> 0 | G60: 985318
C61: 난방 설비공사 | D61: =+G61 -> 676664 | E61: ='[22]구성현황표(건축)'!G54 -> 0 | F61: ='[22]구성현황표(건축)'!F54 -> 0 | G61: 676664
C62: 가스 설비공사 | D62: =+G62 -> 213683 | E62: ='[22]구성현황표(건축)'!G55 -> 0 | F62: ='[22]구성현황표(건축)'!F55 -> 0 | G62: 213683
C63: 자동제어 설비공사 | D63: =+G63 -> 166198 | E63: ='[22]구성현황표(건축)'!G56 -> 0 | F63: ='[22]구성현황표(건축)'!F56 -> 0 | G63: 166198
C64: 특수설비공사 | D64: =+G64 -> 884412 | E64: ='[22]구성현황표(건축)'!G57 -> 0 | F64: ='[22]구성현황표(건축)'!F57 -> 0 | G64: 884412
C65: 소 계 | D65: =SUM(D56:D64) -> 5935651 | E65: =SUM(E56:E64) -> 0 | F65: =SUM(F56:F64) -> 0 | G65: =SUM(G56:G64) -> 5935651
B66: 정보통신(11개공사) | D66: =+G66 -> 1920358 | F66: ='[22]구성현황표(건축)'!F62 -> 0 | G66: =+'3.구성현황표(건축)'!G62 -> 1920358
B67: 소방설비(2개공사) | D67: =+G67 -> 2496466 | F67: ='[22]구성현황표(건축)'!F63 -> 0 | G67: =+'3.구성현황표(건축)'!G63 -> 2496466
A68: 일 반 관 리 비 | D68: =+E68+F68+G68 -> 6756169 | E68: =ROUND(E16*H68,0) -> 470322 | F68: =ROUND(SUM(F65:F67,F55,F31,F16)*H68,0) -> 0 | G68: =ROUND(SUM(G65:G67,G55,G31,G16)*H68,0) -> 6285847 | H68: ='2.산출총괄표(전기)'!I12 -> 0.13470241 | I68: =D68/SUM(D65:D67,D55,D31,D16) -> 0.13470241 | J68: =E68/SUM(E65:E67,E55,E31,E16) -> 0.13470254 | K68: =F68/SUM(F65:F67,F55,F31,F16) -> #DIV/0!
A69: 이 윤 | D69: =+E69+F69+G69 -> 1280239 | E69: =ROUND(E16*H69,0) -> 89122 | F69: =ROUND(SUM(F65:F67,F55,F31,F16)*H69,0) -> 0 | G69: =ROUND(SUM(G65:G67,G55,G31,G16)*H69,0) -> 1191117 | H69: ='2.산출총괄표(전기)'!I13 -> 0.025525009
A70: 총 공 사 비 계 | D70: =D31+D55+D65+D16+D66+D67+D68+D69 -> 58192668 | E70: =E31+E55+E65+E16+E66+E67+E68+E69 -> 4051004 | F70: =F31+F55+F65+F16+F66+F67+F68+F69 -> 0 | G70: =G31+G55+G65+G16+G66+G67+G68+G69 -> 54141664
A71: ※ 상기 공사비는 발코니확장 공사비 포함 금액
D72: =SUM(E72:G72) -> 1 | E72: =E70/$D$70 -> 0.06961365 | F72: =F70/$D$70 -> 0 | G72: =G70/$D$70 -> 0.93038635

Sheet 4.공정표(전기)
B1: 공 사 예 정 공 정 표 ( 전 기 )
B4: 1. 공 사 명 : 영종국제도시 화성파크드림 2차 신축공사
B5: 2. 공사 기간 : 2020. 10.16 ~ 2022.09.30.(23.5개월)
B7: 분 야 | C7: 공종 | D7: 2020년 | L7: 2021년 | X7: 2022년 | AG7: 비 고
D8: 5월 | E8: 6월 | F8: 7월 | G8: 8월 | H8: 9월 | I8: 10월 | J8: 11월 | K8: 12월 | L8: 1월 | M8: 2월 | N8: 3월 | O8: 4월 | P8: 5월 | Q8: 6월 | R8: 7월 | S8: 8월 | T8: 9월 | U8: 10월 | V8: 11월 | W8: 12월 | X8: 1월 | Y8: 2월 | Z8: 3월 | AA8: 4월 | AB8: 5월 | AC8: 6월 | AD8: 7월 | AE8: 8월 | AF8: 9월
B9: 전기공사 | C9: 인입공사 | T9: 0.5 | U9: 1.5 | V9: 2.5 | W9: 3.5 | X9: 4.5 | Y9: 5.5 | Z9: 6.5 | AG9: 201.09.01~22.03.31 (6.5개월)
C10: 수변전설비공사 | V10: 1 | W10: 2 | X10: 3 | Y10: 4 | Z10: 5 | AA10: 6 | AG10: 21.11.01~22.04.30 (6개월)
C11: 전력간선공사 | S11: 0.5 | T11: 1.5 | U11: 2.5 | V11: 3.5 | W11: 4.5 | X11: 5.5 | Y11: 6.5 | Z11: 7.5 | AA11: 8.5 | AB11: 9.5 | AC11: 10 | AG11: 21.08.16~22.06.15 (10개월)
C12: 동력공사 | P12: 0.5 | Q12: 1.5 | R12: 2.5 | S12: 3.5 | T12: 4.5 | U12: 5.5 | V12: 6.5 | W12: 7.5 | X12: 8.5 | Y12: 9.5 | Z12: 10.5 | AA12: 11.5 | AB12: 12.5 | AC12: 13 | AG12: 21.05.16~22.06.15 (13개월)
C13: 전열공사 | K13: 1 | L13: 2 | M13: 3 | N13: 4 | O13: 5 | P13: 6 | Q13: 7 | R13: 8 | S13: 9 | T13: 10 | U13: 11 | V13: 12 | W13: 13 | X13: 14 | Y13: 15 | Z13: 16 | AA13: 17 | AB13: 18 | AC13: 19 | AD13: 20 | AE13: 21 | AG13: 20.12.01~22.08.31 (21개월)
C14: 전등공사 | L14: 1 | M14: 2 | N14: 3 | O14: 4 | P14: 5 | Q14: 6 | R14: 7 | S14: 8 | T14: 9 | U14: 10 | V14: 11 | W14: 12 | X14: 13 | Y14: 14 | Z14: 15 | AA14: 16 | AB14: 17 | AC14: 18 | AD14: 19 | AE14: 20 | AF14: 21 | AG14: 21.01.01~22.09.30 (21개월)
C15: 접지 및 피뢰공사 | I15: 0.5 | J15: 1.5 | K15: 2.5 | V15: 0.5 | W15: 1.5 | X15: 2.5 | Y15: 3.5 | Z15: 4.5 | AA15: 5.5 | AB15: 6 | AG15: 20.10.16~20.12.31(2.5개월) 21.11.16~22.05.15 (6개월)
C16: 옥외보안등공사 | Y16: 0.5 | Z16: 1.5 | AA16: 2.5 | AB16: 3.5 | AC16: 4.5 | AG16: 22.02.16~22.06.30 (4.5개월)
C17: Cable Tray 공사 | T17: 0.5 | U17: 1.5 | V17: 2.5 | W17: 3.5 | X17: 4.5 | Y17: 5.5 | Z17: 6.5 | AA17: 7.5 | AB17: 8.5 | AG17: 21.09.16~22.05.31 (8.5개월)
C18: 주차장공사 | U18: 0.5 | V18: 1.5 | W18: 2.5 | X18: 3.5 | Y18: 4.5 | Z18: 5.5 | AA18: 6.5 | AB18: 7.5 | AC18: 8 | AG18: 21.10.16~22.06.15 (8개월)
C19: 부속동공사 | Y19: 1 | Z19: 2 | AA19: 3 | AB19: 4 | AC19: 5 | AD19: 6 | AE19: 7 | AG19: 22.02.01~22.08.31 (7개월)
B20: 타법 | C20: 건축공사 | D20: 1 | E20: 2 | F20: 3 | G20: 4 | H20: 5 | I20: 6 | J20: 7 | K20: 8 | L20: 9 | M20: 10 | N20: 11 | O20: 12 | P20: 13 | Q20: 14 | R20: 15 | S20: 16 | T20: 17 | U20: 18 | V20: 19 | W20: 20 | X20: 21 | Y20: 22 | Z20: 23 | AA20: 24 | AB20: 25 | AC20: 26 | AD20: 27 | AE20: 28 | AF20: 29 | AG20: 20.05.01~22.09.30 (29개월)
C21: 토목공사 | D21: 1 | E21: 2 | F21: 3 | G21: 4 | H21: 5 | I21: 6 | J21: 7 | K21: 7.5 | Z21: 1 | AA21: 2 | AB21: 3 | AC21: 4 | AD21: 5 | AE21: 6 | AF21: 6.5 | AG21: 20.05.01~20.12.15(7.5개월) 22.03.01~22.09.15(6.5개월)
C22: 기계/설비공사 | K22: 1 | L22: 2 | M22: 3 | N22: 4 | O22: 5 | P22: 6 | Q22: 7 | R22: 8 | S22: 9 | T22: 10 | U22: 11 | V22: 12 | W22: 13 | X22: 14 | Y22: 15 | Z22: 16 | AA22: 17 | AB22: 18 | AC22: 19 | AD22: 20 | AE22: 21 | AF22: 22 | AG22: 20.12.01~22.09.30 (22개월)
C23: 정보통신공사 | J23: 0.5 | K23: 1.5 | L23: 2.5 | M23: 3.5 | N23: 4.5 | O23: 5.5 | P23: 6.5 | Q23: 7.5 | R23: 8.5 | S23: 9.5 | T23: 10.5 | U23: 11.5 | V23: 12.5 | W23: 13.5 | X23: 14.5 | Y23: 15.5 | Z23: 16.5 | AA23: 17.5 | AB23: 18.5 | AC23: 19.5 | AD23: 20.5 | AE23: 21.5 | AF23: 22.5 | AG23: 20.11.16~22.09.30 (22.5개월)
C24: 소방설비공사 | J24: 0.5 | K24: 1.5 | L24: 2.5 | M24: 3.5 | N24: 4.5 | O24: 5.5 | P24: 6.5 | Q24: 7.5 | R24: 8.5 | S24: 9.5 | T24: 10.5 | U24: 11.5 | V24: 12.5 | W24: 13.5 | X24: 14.5 | Y24: 15.5 | Z24: 16.5 | AA24: 17.5 | AB24: 18.5 | AC24: 19.5 | AD24: 20.5 | AE24: 21.5 | AF24: 22.5 | AG24: 20.11.16~22.09.30 (22.5개월)

Sheet 1개요(전기)
A1: 주택건설공사 감리자 모집에 따른 사업개요
A4: 1. 사업명
A5: ='1개요(건축)'!A5 -> #REF!
A7: 2. 대지위치
A8: ='1개요(건축)'!A8 -> #REF!
A10: 3. 사업주체
A11: ='1개요(건축)'!A11 -> #REF!
A12: ='1개요(건축)'!A12 -> #REF!
A14: 4. 설계자
A15: ='1개요(건축)'!A15 -> #REF!
A16: ='1개요(건축)'!A16 -> #REF!
A20: 5. 시공자
A21: ='1개요(건축)'!A20 -> #REF!
A22: ='1개요(건축)'!A21 -> #REF!
A24: ='1개요(건축)'!A23 -> #REF!
A25: ='1개요(건축)'!A24 -> #REF!
A27: 7. 사업개요
A28: ='1개요(건축)'!A27 -> - 대지면적 : | B28: ='1개요(건축)'!B27 -> #REF! | C28: ='1개요(건축)'!C27 -> #REF!
A29: ='1개요(건축)'!A28 -> - 연 면 적 : | B29: ='1개요(건축)'!B28 -> #REF! | C29: ='1개요(건축)'!C28 -> #REF! | D29: ="/용적율 "&#REF!*100&" %" -> #REF!
A30: - 건축면적 : | B30: ='1개요(건축)'!B29 -> #REF! | C30: ='1개요(건축)'!C29 -> #REF! | D30: ="/건폐율 "&#REF!*100&" %" -> #REF!
A31: ='1개요(건축)'!A30 -> - 사업규모 : | B31: ='1개요(건축)'!B30 -> #REF!
A32: - 공사(전기)기간 : 2015. 8. ~ 2016. 9.(14개월)
