Workbook
Name PRINT_AREA_MI: [8]Sheet2!#REF!
Name PRINT_AREA_MI: [8]Sheet2!#REF!
Name 개발비: [10]사업성분석!#REF!
Name 개발비: [10]사업성분석!#REF!
Name 계약금: '[11]1-최종안'!$G$13
Name 공영정산: [10]사업성분석!#REF!
Name 공영정산: [10]사업성분석!#REF!
Name 금융2: #REF!
Name 금융2: #REF!
Name 당사광고: [12]사업수지!$H$77
Name 당사모델운영: [12]사업수지!$H$78
Name 당사사업추진: [12]사업수지!$H$79
Name 대여이자: [10]사업성분석!#REF!
Name 대여이자: [10]사업성분석!#REF!
Name 도급계: [10]사업성분석!$H$45
Name 도로부담금: [13]당사!#REF!
Name 도로부담금: [13]당사!#REF!
Name 무이주비: [10]사업성분석!#REF!
Name 무이주비: [10]사업성분석!#REF!
Name 보증: [15]수지!#REF!
Name 보증: [15]수지!#REF!
Name 분양금액: '[11]사업분석-분양가결정'!$H$17
Name 사업성분석: [17]사업분석!$I$22
Name 사업성분석: [17]사업분석!$I$22
Name 설계보상: [10]사업성분석!#REF!
Name 설계보상: [10]사업성분석!#REF!
Name 용역: [10]사업성분석!#REF!
Name 용역: [10]사업성분석!#REF!
Name 유이주비: [10]사업성분석!#REF!
Name 유이주비: [10]사업성분석!#REF!
Name 유토지: [10]사업성분석!#REF!
Name 유토지: [10]사업성분석!#REF!
Name 이주비이자: [10]사업성분석!#REF!
Name 이주비이자: [10]사업성분석!#REF!
Name 인허가: [10]사업성분석!#REF!
Name 인허가: [10]사업성분석!#REF!
Name 잔여유토지: [10]사업성분석!#REF!
Name 잔여유토지: [10]사업성분석!#REF!
Name 정산설계: [10]사업성분석!#REF!
Name 정산설계: [10]사업성분석!#REF!
Name 정산시공보증: [10]사업성분석!#REF!
Name 정산시공보증: [10]사업성분석!#REF!
Name 정산용역: [10]사업성분석!#REF!
Name 정산용역: [10]사업성분석!#REF!
Name 정산이자: [10]사업성분석!#REF!
Name 정산이자: [10]사업성분석!#REF!
Name 정산조합개소비: [10]사업성분석!#REF!
Name 정산조합개소비: [10]사업성분석!#REF!
Name 정산조합운영: [10]사업성분석!#REF!
Name 정산조합운영: [10]사업성분석!#REF!
Name 정산토지: [10]사업성분석!#REF!
Name 정산토지: [10]사업성분석!#REF!
Name 측량: [10]사업성분석!#REF!
Name 측량: [10]사업성분석!#REF!
Name 측량지질: [10]사업성분석!#REF!
Name 측량지질: [10]사업성분석!#REF!
Name 표지: #REF!
Name 하자보수: [15]수지!#REF!
Name 하자보수: [15]수지!#REF!

Sheet 사업개요
A2: 주택건설공사 감리자 모집에 따른 사업개요
A4: 사업명 : 영종하늘도시RC2BL 반도유보라 주상복합 신축공사
A6: 사업주체 : ㈜반도건설 대표이사 박 현 일 | AM6: 02)3011-2050
A7: 서울특별시 강남구 테헤란로7길 12(역삼동,허바허바빌딩11층)
A9: 시 공 자 : ㈜반도건설 대표이사 박 현 일 | AM9: 02)3011-2053
A10: 서울특별시 강남구 테헤란로7길 12(역삼동,허바허바빌딩11층)
A12: 설 계 자 : 에이앤유디자인그룹건축사사무소(주) 대표이사 오 성 제 | AM12: 02)2047-3000
A13: 서울특별시 송파구 충민로52(문정동, 가든파이브웍스4층)
A15: 사 업 개 요
B16: 1) | C16: 대 지 위 치 | J16: : | K16: 인천광역시 중구 운서동 3099-4(영종하늘도시RC2BL)
A17: 2) 대 지 면 적 : 39,521.5 | B17: 2) | C17: 대 지 면 적 | J17: : | K17: 20365.8 | Q17: ㎡
A18: 3) 규 모 : 공동주택(지하2층,지상25층)8개동 775세대 및 부대복리시설 | B18: 3) | C18: 규 모 | J18: : | K18: 주상복합(지하3층,지상26층)6개동 | AB18: 450 | AE18: 세대 및 부대복리시설
A19: 4) 연 면 적 : 116,523.1054 | B19: 4) | C19: 연 면 적 | J19: : | K19: 97485.443 | R19: ㎡
A20: 5) 사업승인일 : 2015. 12.30 (변경승인일 : 2017. 12. 22) | B20: 5) | C20: 사업승인일 | J20: : | K20: 43530
B21: 6) | C21: 전체공사기간 | J21: : | K21: 2019년 06월 1일 ~ 2022년 01월 31일 | AE21: ( | AF21: 32 | AH21: 개월 | AJ21: )
C22: 전기공사기간 | J22: : | K22: 2019년 09월 1일 ~ 2022년 01월 31일 | AE22: ( | AF22: 29 | AH22: 개월 | AJ22: )
A25: 사 업 비
B26: 1) | C26: 총사업비 | Q26: : | R26: ='총사업비(건축)'!D24 -> 254720471 | Z26: 천원
B27: 2) | C27: 대지비 | Q27: : | R27: ='총사업비(건축)'!D22 -> 81373293 | Z27: 천원
B28: 3) | C28: 총공사비 | Q28: : | R28: ='총사업비(건축)'!D14 -> 98728492 | Z28: 천원 | AC28: (부가세별도)
C29: - | D29: 감리대상공사비 | Q29: : | R29: ='총사업비(건축)'!E14 -> 83408937 | Z29: 천원 | AC29: (일반관리비+이윤포함)
C30: - | D30: 타법감리대상공사비 | Q30: : | R30: ='총사업비(건축)'!G14 -> 15319555 | Z30: 천원 | AC30: (일반관리비+이윤포함)
A32: ※ 부가가치세 미포함, 타법감리대상공사비는 전기, 정보통신, 소방설비공사의 비용임.
A35: * 주택법 제24조 6항에 의거 주택건설공사 감리비 지급기준에 의거하여 산정.

Sheet 총사업비(건축)
A1: 【별지 제1호 서식】
A2: 총공사비 산출 총괄표
A3: 사업명 : 영종하늘도시RC2블럭 반도유보라 주상복합 신축공사 | G3: (단위: 천원)
A4: 구 분 | D4: 전 체 | E4: 감리대상 | F4: 감리제외 | G4: 타법감리
A5: 총공사비 | B5: 순공사비 | C5: 토목공사 | D5: =SUM(E5:G5) -> 8451159 | E5: ='공종별공사비(건축)'!D18 -> 8451159
C6: 건축공사 | D6: =SUM(E6:G6) -> 54725203 | E6: ='공종별공사비(건축)'!D42 -> 54725203
C7: 기계설비공사 | D7: =SUM(E7:G7) -> 11057591 | E7: ='공종별공사비(건축)'!D52 -> 11057591
C8: 전기공사 | D8: =SUM(E8:G8) -> 6170531 | E8: 0 | G8: ='공종별공사비(건축)'!D53 -> 6170531
C9: 정보통신공사 | D9: =SUM(E9:G9) -> 1471055 | E9: 0 | G9: ='공종별공사비(건축)'!D54 -> 1471055
C10: 소방설비공사 | D10: =SUM(E10:G10) -> 5992819 | E10: 0 | G10: ='공종별공사비(건축)'!D55 -> 5992819
C11: 소 계 | D11: =SUM(D5:D10) -> 87868358 | E11: =SUM(E5:E10) -> 74233953 | G11: =SUM(G5:G10) -> 13634405
B12: 일반관리비 | D12: =SUM(E12:G12) -> 5923710 | E12: ='공종별공사비(건축)'!E57 -> 5004537 | G12: ='공종별공사비(건축)'!G57 -> 919173
B13: 이 윤 | D13: =SUM(E13:G13) -> 4936424 | E13: ='공종별공사비(건축)'!E58 -> 4170447 | G13: ='공종별공사비(건축)'!G58 -> 765977
B14: 소 계 | D14: =D11+D12+D13 -> 98728492 | E14: =E11+E12+E13 -> 83408937 | F14: =F11+F12+F13 -> 0 | G14: =G11+G12+G13 -> 15319555
A15: 간 접 비 | B15: 설 계 비 | D15: =SUM(E15:G15) -> 1066000 | F15: 1066000
B16: 감 리 비 | D16: =SUM(E16:G16) -> 2000000 | F16: 2000000
B17: 일반분양시설경비 | D17: =SUM(E17:G17) -> 29493171 | F17: 29493171
B18: 분담금 및 부담금 | D18: =SUM(E18:G18) -> 3526015 | F18: 3526015
B19: 보 상 비 | D19: =SUM(E19:G19) -> 0 | F19: 0
B20: 기타 사업비성 경비 | D20: =SUM(E20:G20) -> 36047209 | F20: 36047209
B21: 소 계 | D21: =SUM(D15:D20) -> 72132395 | F21: =SUM(F15:F20) -> 72132395
A22: 대 지 비 | D22: =SUM(E22:G22) -> 81373293 | F22: 81373293
A23: 부가가치세 | D23: =SUM(E23:G23) -> 2486291 | F23: 2486291
A24: 총사업비계 | D24: =D14+D21+D22+D23 -> 254720471 | E24: =E14+E21+E22+E23 -> 83408937 | F24: =F14+F21+F22+F23 -> 155991979 | G24: =G14+G21+G22+G23 -> 15319555
A26: 주 : 1. 순공사비란 재료비, 노무비, 경비를 합한 금액임.
A27: 2. 일반관리비와 이윤에 대한 정의 및 산정방법은 ‘원가계산에 의한 예정가격작성준칙(회계예규)’에 따름
A28: 3. 부가가치세액의 정의와 산정방법은 ‘부가가치세법’에 따름
A29: 4. 간접비란 사업비중 총공사비를 제외한 설계비, 감리비, 분양시설경비등 사업비성 경비를 말하며,
A30: 세부품목은 다음과 같음.
A31: ● 일반분양시설경비 : 분양사무실 시공비, 운영비, 광고홍보비
A32: ● 분담금 및 부담금 : 인입분담금(가스, 전기, 수도, 지역난방), 진입도로, 학교용지부담금 등
A33: ● 보상비 : 민원처리 보상비
A34: ● 기타사업비성 경비 : 제세공과금, 측량수수료, 취득세, 등록세, 건물보존등기비 및 입주관리
A35: 비, 감정평가수수료, 분양보증, 하자보증수수료등 기타 사업비성 경비
A36: ● 대지구입비, 대지구입관련금융비용 및 제세공과금
A37: 5. 건축공사비는 발코니 확장공사비를 포함한 금액임.

Sheet 공종별공사비(건축)
A2: 공종별 공사비 구성 현황표
A3: ='총사업비(건축)'!A3 -> 사업명 : 영종하늘도시RC2블럭 반도유보라 주상복합 신축공사 | G3: (단위: 천원)
A4: 구 분 | D4: 전체 | E4: 감리대상 | F4: 감리제외 | G4: 타법감리
A5: 순 공 사 비 | C5: 토공사 | D5: =E5+F5+G5 -> 2447456 | E5: 2447456 | F5: 0
C6: 흙막이공사 | D6: =E6+F6+G6 -> 3134535 | E6: 3134535 | F6: 0 | G6: 0
C7: 비탈면보호공사 | D7: =E7+F7+G7 -> 0 | E7: 0 | F7: 0 | G7: 0
C8: 옹벽공사 | D8: =E8+F8+G8 -> 43101 | E8: 43101 | F8: 0 | G8: 0
C9: 석축공사 | D9: =E9+F9+G9 -> 32960 | E9: 32960 | F9: 0 | G9: 0
B10: 토목 | C10: 우.오수공사 | D10: =E10+F10+G10 -> 422558 | E10: 422558 | F10: 0 | G10: 0
B11: (13개) | C11: 공동구공사 | D11: =E11+F11+G11 -> 0 | E11: 0 | F11: 0 | G11: 0
C12: 지하저수조 및 급수공사 | D12: =E12+F12+G12 -> 169023 | E12: 169023 | F12: 0 | G12: 0
C13: 도로포장공사 | D13: =E13+F13+G13 -> 676093 | E13: 676093 | F13: 0 | G13: 0
C14: 교통안전시설물공사 | D14: =E14+F14+G14 -> 84512 | E14: 84512 | F14: 0 | G14: 0
C15: 정화조공사 | D15: =E15+F15+G15 -> 0 | E15: 0 | F15: 0 | G15: 0
C16: 조경공사 | D16: =E16+F16+G16 -> 1102876 | E16: 1102876 | F16: 0 | G16: 0
C17: 부대시설공사 | D17: =E17+F17+G17 -> 338045 | E17: 338045 | F17: 0 | G17: 0
C18: 소 계 | D18: =E18+F18+G18 -> 8451159 | E18: =SUM(E5:E17) -> 8451159 | F18: =SUM(F5:F17) -> 0 | G18: =SUM(G5:G17) -> 0
C19: 공통가설물공사 | D19: =E19+F19+G19 -> 881076 | E19: 881076 | F19: 0 | G19: 0
C20: 가시설물공사 | D20: =E20+F20+G20 -> 2030305 | E20: 2030305 | F20: 0 | G20: 0
C21: 지정및 기초공사 | D21: =E21+F21+G21 -> 645757 | E21: 645757 | F21: 0 | G21: 0
C22: 철골공사 | D22: =E22+F22+G22 -> 0 | E22: 0 | F22: 0 | G22: 0
C23: 철근콘크리트공사 | D23: =E23+F23+G23 -> 22984585 | E23: 22984585 | F23: 0 | G23: 0
C24: 용접공사 | D24: =E24+F24+G24 -> 0 | E24: 0 | F24: 0 | G24: 0
C25: 조적공사 | D25: =E25+F25+G25 -> 1587031 | E25: 1587031 | F25: 0 | G25: 0
C26: 미장공사 | D26: =E26+F26+G26 -> 1570613 | E26: 1570613 | F26: 0 | G26: 0
C27: 단열공사 | D27: =E27+F27+G27 -> 1165647 | E27: 1165647 | F27: 0 | G27: 0
B28: 건축 | C28: 방수.방습공사 | D28: =E28+F28+G28 -> 870131 | E28: 870131 | F28: 0 | G28: 0
B29: (23개) | C29: 목공사 | D29: =E29+F29+G29 -> 2232788 | E29: 2232788 | F29: 0 | G29: 0
C30: 가구공사 | D30: =E30+F30+G30 -> 3589973 | E30: 3589973 | F30: 0 | G30: 0
C31: 금속공사 | D31: =E31+F31+G31 -> 2583030 | E31: 2583030 | F31: 0 | G31: 0
C32: 지붕및 홈통공사 | D32: =E32+F32+G32 -> 689538 | E32: 689538 | F32: 0 | G32: 0
C33: 창호공사 | D33: =E33+F33+G33 -> 4104390 | E33: 4104390 | F33: 0 | G33: 0
C34: 유리공사 | D34: =E34+F34+G34 -> 881076 | E34: 881076 | F34: 0 | G34: 0
C35: 타일공사 | D35: =E35+F35+G35 -> 1647229 | E35: 1647229 | F35: 0 | G35: 0
C36: 돌공사 | D36: =E36+F36+G36 -> 2517359 | E36: 2517359 | F36: 0 | G36: 0
C37: 도장공사 | D37: =E37+F37+G37 -> 826351 | E37: 826351 | F37: 0 | G37: 0
C38: 도배공사 | D38: =E38+F38+G38 -> 481582 | E38: 481582 | F38: 0 | G38: 0
C39: 수장공사 | D39: =E39+F39+G39 -> 2287513 | E39: 2287513 | F39: 0 | G39: 0
C40: 주방용구공사 | D40: =E40+F40+G40 -> 853713 | E40: 853713 | F40: 0 | G40: 0
C41: 잡공사 | D41: =E41+F41+G41 -> 295516 | E41: 295516 | F41: 0 | G41: 0
...

Sheet 공정표 (6월착공)
A1: 공정표(Master schedule)
A2: =사업개요!A4 -> 사업명 : 영종하늘도시RC2BL 반도유보라 주상복합 신축공사 | AH2: 전체공사기간 :2019. 06. 01 ~ 2022. 01. 31 (32개월)
AH3: 전기공사기간 :2019. 09. 01 ~ 2022. 01. 31 (29개월)
A4: 공 종 명 | B4: 2019년 | I4: 2020년 | U4: 2021년 | AG4: 20 22년 | AH4: 비 고
B5: 6월 | C5: 7월 | D5: 8월 | E5: 9월 | F5: 10월 | G5: 11월 | H5: 12월 | I5: 1월 | J5: 2월 | K5: 3월 | L5: 4월 | M5: 5월 | N5: 6월 | O5: 7월 | P5: 8월 | Q5: 9월 | R5: 10월 | S5: 11월 | T5: 12월 | U5: 1월 | V5: 2월 | W5: 3월 | X5: 4월 | Y5: 5월 | Z5: 6월 | AA5: 7월 | AB5: 8월 | AC5: 9월 | AD5: 10월 | AE5: 11월 | AF5: 12월 | AG5: 1월
B6: 1 | C6: 2 | D6: 3 | E6: 4 | F6: 5 | G6: 6 | H6: 7 | I6: 8 | J6: 9 | K6: 10 | L6: 11 | M6: 12 | N6: 13 | O6: 14 | P6: 15 | Q6: 16 | R6: 17 | S6: 18 | T6: 19 | U6: 20 | V6: 21 | W6: 22 | X6: 23 | Y6: 24 | Z6: 25 | AA6: 26 | AB6: 27 | AC6: 28 | AD6: 29 | AE6: 30 | AF6: 31 | AG6: 32
A7: 건축공사 | AH7: 2019.06.01 ~2022.01.31 (32개월)
A10: 구조체공사 | AH10: 2019.08.01 ~2021.01.31 (18개월)
A13: 토목공사 | AH13: 1차:2019.06.01 ~2020.07.31 2차:2021.02.01 ~2022.01.31 (26개월)
A16: 설비공사 | AH16: 2019.09.01 ~2022.01.31 (29개월)
A19: 전기공사 | AH19: =AH16 -> 2019.09.01 ~2022.01.31 (29개월)
