Workbook
Name PRINT_AREA_MI: [10]Sheet2!#REF!
Name PRINT_AREA_MI: [10]Sheet2!#REF!
Name PRINT_AREA_MI: [10]Sheet2!#REF!
Name PRINT_AREA_MI: [10]Sheet2!#REF!
Name 개발비: [13]사업성분석!#REF!
Name 개발비: [13]사업성분석!#REF!
Name 개발비: [13]사업성분석!#REF!
Name 개발비: [13]사업성분석!#REF!
Name 계약금: '[14]1-최종안'!$G$13
Name 공영정산: [13]사업성분석!#REF!
Name 공영정산: [13]사업성분석!#REF!
Name 공영정산: [13]사업성분석!#REF!
Name 공영정산: [13]사업성분석!#REF!
Name 금융2: #REF!
Name 금융2: #REF!
Name 금융2: #REF!
Name 금융2: #REF!
Name 당사광고: [15]사업수지!$H$77
Name 당사모델운영: [15]사업수지!$H$78
Name 당사사업추진: [15]사업수지!$H$79
Name 대여이자: [13]사업성분석!#REF!
Name 대여이자: [13]사업성분석!#REF!
Name 대여이자: [13]사업성분석!#REF!
Name 대여이자: [13]사업성분석!#REF!
Name 도급계: [13]사업성분석!$H$45
Name 도로부담금: [16]당사!#REF!
Name 도로부담금: [16]당사!#REF!
Name 도로부담금: [16]당사!#REF!
Name 도로부담금: [16]당사!#REF!
Name 무이주비: [13]사업성분석!#REF!
Name 무이주비: [13]사업성분석!#REF!
Name 무이주비: [13]사업성분석!#REF!
Name 무이주비: [13]사업성분석!#REF!
Name 보증: [19]수지!#REF!
Name 보증: [19]수지!#REF!
Name 보증: [19]수지!#REF!
Name 보증: [19]수지!#REF!
Name 분양금액: '[14]사업분석-분양가결정'!$H$17
Name 사업성분석: [22]사업분석!$I$22
Name 사업성분석: [23]사업분석!$I$22
Name 사업성분석: [23]사업분석!$I$22
Name 사업성분석: [22]사업분석!$I$22
Name 설계보상: [13]사업성분석!#REF!
Name 설계보상: [13]사업성분석!#REF!
Name 설계보상: [13]사업성분석!#REF!
Name 설계보상: [13]사업성분석!#REF!
Name 용역: [13]사업성분석!#REF!
Name 용역: [13]사업성분석!#REF!
Name 용역: [13]사업성분석!#REF!
Name 용역: [13]사업성분석!#REF!
Name 유이주비: [13]사업성분석!#REF!
Name 유이주비: [13]사업성분석!#REF!
Name 유이주비: [13]사업성분석!#REF!
Name 유이주비: [13]사업성분석!#REF!
Name 유토지: [13]사업성분석!#REF!
Name 유토지: [13]사업성분석!#REF!
Name 유토지: [13]사업성분석!#REF!
Name 유토지: [13]사업성분석!#REF!
Name 이주비이자: [13]사업성분석!#REF!
Name 이주비이자: [13]사업성분석!#REF!

Sheet 총사업비(전기)
A1: 【별지 제1호 서식】
A2: 총사업비 산출 총괄표(전기)
G3: 단위:천원
A4: 구분 | D4: 전 체 | E4: 감리대상 | F4: 감리제외 | G4: 타법감리
A5: 총공사비 | B5: 순공사비 | C5: 토목공사 | D5: =E5+F5+G5 -> 8451159 | E5: 0 | F5: 0 | G5: ='공종별공사비(전기)'!I8 -> 8451159
C6: 건축공사 | D6: =E6+F6+G6 -> 54725203 | E6: 0 | F6: 0 | G6: ='공종별공사비(전기)'!I9 -> 54725203
C7: 기계설비공사 | D7: =E7+F7+G7 -> 11057591 | E7: 0 | F7: 0 | G7: ='공종별공사비(전기)'!I10 -> 11057591
C8: 전기공사 | D8: =E8+F8+G8 -> 6170531 | E8: ='공종별공사비(전기)'!F26 -> 6170531 | F8: 0
C9: 정보통신공사 | D9: =E9+F9+G9 -> 1471055 | E9: 0 | F9: 0 | G9: ='공종별공사비(전기)'!F27 -> 1471055
C10: 소방설비공사 | D10: =E10+F10+G10 -> 5992819 | E10: 0 | F10: 0 | G10: ='공종별공사비(전기)'!F28 -> 5992819
B11: 소계 | D11: =SUM(D5:D10) -> 87868358 | E11: =SUM(E5:E10) -> 6170531 | F11: =SUM(F5:F10) -> 0 | G11: =SUM(G5:G10) -> 81697827
B12: 일반관리비 | D12: =E12+F12+G12 -> 5923710 | E12: ='공종별공사비(전기)'!G30 -> 415991 | F12: 0 | G12: ='공종별공사비(전기)'!I30 -> 5507719
B13: 이윤 | D13: =E13+F13+G13 -> 4936424 | E13: ='공종별공사비(전기)'!G31 -> 346658 | F13: 0 | G13: ='공종별공사비(전기)'!I31 -> 4589766
A14: 소계 | D14: =D11+D12+D13 -> 98728492 | E14: =E11+E12+E13 -> 6933180 | F14: =F11+F12+F13 -> 0 | G14: =G11+G12+G13 -> 91795312
A15: 간 접 비 | B15: 설계비 | D15: =E15+F15+G15 -> 1066000 | E15: 0 | F15: 1066000 | G15: 0
B16: 감리비 | D16: =E16+F16+G16 -> 2000000 | E16: 0 | F16: 2000000 | G16: 0
B17: 일반분양시설경비 | D17: =E17+F17+G17 -> 29493171 | E17: 0 | F17: 29493171 | G17: 0
B18: 분담금 및 부담금 | D18: =E18+F18+G18 -> 3526015 | E18: 0 | F18: 3526015 | G18: 0
B19: 보상비 | D19: =E19+F19+G19 -> 0 | E19: 0 | F19: 0 | G19: 0
B20: 기타사업성 경비 | D20: =E20+F20+G20 -> 36047209 | E20: 0 | F20: 36047209 | G20: 0
A21: 소계 | D21: =SUM(D15:D20) -> 72132395 | E21: 0 | F21: =SUM(F15:F20) -> 72132395 | G21: =SUM(G15:G20) -> 0
A22: 대지비 | D22: =E22+F22+G22 -> 81373293 | E22: 0 | F22: 81373293 | G22: 0
A23: 부가가치세액 | D23: =E23+F23+G23 -> 2486291 | E23: 0 | F23: 2486291 | G23: 0
A24: 총사업비 계 | D24: =D14+D21+D22+D23 -> 254720471 | E24: =E14+E21+E22+E23 -> 6933180 | F24: =F14+F21+F22+F23 -> 155991979 | G24: =G14+G21+G22+G23 -> 91795312
A26: 주 1 : 순공사비란 재료비, 노무비, 경비를 합한 금액임.
A27: 2 : 일반관리비와 이윤에 대한 정의 및 산정 방법은 ‘원가계산에 의한 예정가격작성준칙(회계예규)’에 따름.
A28: 3 : 부가가치세액의 정의와 산정방법은 ‘부가가치세법’에 따름
A29: 4 : 간접비란 사업비 중 총공사비를 제외한 설계비, 감리비, 일반분양시설경비 등 사업비성 경비를 말하며, 세부
A30: 비목은 다음과 같음.
A31: - 일반분양시설경비 : 시공비, 운영비, 광고홍보비
A32: - 분담금 및 부담금 : 인입분담금(가스, 전기, 수도, 지역난방), 진입도로, 학교용지확보 부담금
A33: - 보상비 : 민원보상비, 조합분담금 등
A34: - 기타 사업비성 경비 : 제세공과금, 측량‧교통‧환경 영향평가 수수료, 취득세, 등록세, 건물보존 등기비 및 입주 관
A35: 리비, 분양‧임대보증 및 하자보증수수료 등 기타 사업비성 경비
A36: - 대지비 : 대지 구입비, 대지 구입 관련 금융비용 및 제세공과금
A37: 5 : 건축공사비는 발코니 확장공사비를 포함한 금액임.

Sheet 공종별공사비(전기)
B2: 【별지 제2호 서식】
B4: 공종별 총공사비 구성 현황표(전기)
B6: 공사명 : 영종하늘도시RC2블럭 반도유보라 주상복합 신축공사 | I6: 단위:천원
B7: 구 분 | C7: 분 야 | D7: 공 종 | F7: 전 체 | G7: 감리대상 | H7: 감리제외 | I7: 타법감리
B8: 순공사비 | C8: 토 목 | D8: 13개 공종 | F8: =G8+H8+I8 -> 8451159 | G8: 0 | H8: 0 | I8: 8451159
C9: 건 축 | D9: 23개 공종 | F9: =G9+H9+I9 -> 54725203 | G9: 0 | H9: 0 | I9: 54725203
C10: 기계설비 | D10: 9개 공종 | F10: =G10+H10+I10 -> 11057591 | G10: 0 | H10: 0 | I10: 11057591
C11: 전기공사 | D11: 배관공사 | F11: =G11+H11+I11 -> 617053 | G11: 617053 | H11: 0 | I11: 0
C12: (15개 공종) | D12: 배선공사 | F12: =G12+H12+I12 -> 925580 | G12: 925580 | H12: 0 | I12: 0
D13: 외등설치공사 | F13: =G13+H13+I13 -> 246821 | G13: 246821 | H13: 0 | I13: 0
D14: 간선공사 | F14: =G14+H14+I14 -> 617053 | G14: 617053 | H14: 0 | I14: 0
D15: 분,배전반공사 | F15: =G15+H15+I15 -> 555348 | G15: 555348 | H15: 0 | I15: 0
D16: 수변전설비공사 | F16: =G16+H16+I16 -> 493642 | G16: 493642 | H16: 0 | I16: 0
D17: 트레이설치공사 | F17: =G17+H17+I17 -> 185116 | G17: 185116 | H17: 0 | I17: 0
D18: 레이스웨이설치공사 | F18: =G18+H18+I18 -> 308527 | G18: 308527 | H18: 0 | I18: 0
D19: 발전기설비공사 | F19: =G19+H19+I19 -> 185116 | G19: 185116 | H19: 0 | I19: 0
D20: 고압인입공사 | F20: =G20+H20+I20 -> 185116 | G20: 185116 | H20: 0 | I20: 0
D21: 기계실동력설비공사 | F21: =G21+H21+I21 -> 61705 | G21: 61705 | H21: 0 | I21: 0
D22: 배선기구설치공사 | F22: =G22+H22+I22 -> 617053 | G22: 617053 | H22: 0 | I22: 0
D23: 조명기구설치공사 | F23: =G23+H23+I23 -> 863874 | G23: 863874 | H23: 0 | I23: 0
D24: 접지공사 | F24: =G24+H24+I24 -> 123411 | G24: 123411 | H24: 0 | I24: 0
D25: 피뢰설비공사 | F25: =G25+H25+I25 -> 185116 | G25: 185116 | H25: 0 | I25: 0
C26: 소 계 | F26: =SUM(F11:F25) -> 6170531 | G26: =SUM(G11:G25) -> 6170531 | H26: =SUM(H11:H25) -> 0 | I26: =SUM(I8:I25) -> 74233953
C27: 정보통신공사 (13개 공종) | F27: =G27+H27+I27 -> 1471055 | G27: 0 | H27: 0 | I27: 1471055
C28: 소방설비공사 (2개 공종) | F28: =G28+H28+I28 -> 5992819 | G28: 0 | H28: 0 | I28: 5992819
B29: 합 계 | F29: =F8+F9+F10+F26+F27+F28 -> 87868358 | G29: =SUM(G26:G28) -> 6170531 | H29: =H8+H9+H10+H26+H27+H28 -> 0 | I29: =SUM(I26:I28) -> 81697827
B30: 일반관리비 | F30: =G30+H30+I30 -> 5923710 | G30: 415991 | H30: 0 | I30: 5507719
B31: 이 윤 | F31: =G31+H31+I31 -> 4936424 | G31: 346658 | H31: 0 | I31: 4589766
B32: 총공사비계 | F32: =SUM(F29:F31) -> 98728492 | G32: =SUM(G29:G31) -> 6933180 | H32: =SUM(H29:H31) -> 0 | I32: =SUM(I29:I31) -> 91795312

Sheet 공정표 (6월착공)
A1: 공정표(Master schedule)
A2: 사업명 : 영종하늘도시RC2BL 반도유보라 주상복합 신축공사 | AH2: 전체공사기간 :2019. 06. 01 ~ 2022. 01. 31 (32개월)
AH3: 전기공사기간 :2019. 09. 01 ~ 2022. 01. 31 (29개월)
A4: 공 종 명 | B4: 2019년 | I4: 2020년 | U4: 2021년 | AG4: 20 22년 | AH4: 비 고
B5: 6월 | C5: 7월 | D5: 8월 | E5: 9월 | F5: 10월 | G5: 11월 | H5: 12월 | I5: 1월 | J5: 2월 | K5: 3월 | L5: 4월 | M5: 5월 | N5: 6월 | O5: 7월 | P5: 8월 | Q5: 9월 | R5: 10월 | S5: 11월 | T5: 12월 | U5: 1월 | V5: 2월 | W5: 3월 | X5: 4월 | Y5: 5월 | Z5: 6월 | AA5: 7월 | AB5: 8월 | AC5: 9월 | AD5: 10월 | AE5: 11월 | AF5: 12월 | AG5: 1월
B6: 1 | C6: 2 | D6: 3 | E6: 4 | F6: 5 | G6: 6 | H6: 7 | I6: 8 | J6: 9 | K6: 10 | L6: 11 | M6: 12 | N6: 13 | O6: 14 | P6: 15 | Q6: 16 | R6: 17 | S6: 18 | T6: 19 | U6: 20 | V6: 21 | W6: 22 | X6: 23 | Y6: 24 | Z6: 25 | AA6: 26 | AB6: 27 | AC6: 28 | AD6: 29 | AE6: 30 | AF6: 31 | AG6: 32
A7: 건축공사 | AH7: 2019.06.01 ~2022.01.31 (32개월)
A10: 구조체공사 | AH10: 2019.08.01 ~2021.01.31 (18개월)
A13: 토목공사 | AH13: 1차:2019.06.01 ~2020.07.31 2차:2021.02.01 ~2022.01.31 (26개월)
A16: 설비공사 | AH16: 2019.09.01 ~2022.01.31 (29개월)
A19: 전기공사 | AH19: =AH16 -> 2019.09.01 ~2022.01.31 (29개월)
